BEGIN:VCALENDAR
VERSION:2.0
PRODID:https://www.kufer.de/kuferweb / DE
METHOD:PUBLISH
CALSCALE:GREGORIAN
X-WR-TIMEZONE:Europe/Berlin
BEGIN:VTIMEZONE
TZID:Europe/Berlin
X-LIC-LOCATION:Europe/Berlin
BEGIN:DAYLIGHT
TZOFFSETFROM:+0100
TZOFFSETTO:+0200
TZNAME:CEST
DTSTART:19700329T020000
RRULE:FREQ=YEARLY;INTERVAL=1;BYDAY=-1SU;BYMONTH=3
END:DAYLIGHT
BEGIN:STANDARD
TZOFFSETFROM:+0200
TZOFFSETTO:+0100
TZNAME:CET
DTSTART:19701025T030000
RRULE:FREQ=YEARLY;INTERVAL=1;BYDAY=-1SU;BYMONTH=10
END:STANDARD
END:VTIMEZONE
BEGIN:VEVENT
DTSTAMP:20260421T173012
DTSTART;TZID=Europe/Berlin:20260309T180000
DTEND;TZID=Europe/Berlin:20260309T193000
UID:261-41108-20260309T180000@VHSTÜBINGEN
SUMMARY:Französisch A2.2 für Teilnehmende mit Vorkenntnissen (261-41108) 
LOCATION:vhs, Schulungsraum 218, Katharinenstraße 18, 72072 Tübingen
END:VEVENT
BEGIN:VEVENT
DTSTAMP:20260421T173012
DTSTART;TZID=Europe/Berlin:20260316T180000
DTEND;TZID=Europe/Berlin:20260316T193000
UID:261-41108-20260316T180000@VHSTÜBINGEN
SUMMARY:Französisch A2.2 für Teilnehmende mit Vorkenntnissen (261-41108) 
LOCATION:vhs, Schulungsraum 218, Katharinenstraße 18, 72072 Tübingen
END:VEVENT
BEGIN:VEVENT
DTSTAMP:20260421T173012
DTSTART;TZID=Europe/Berlin:20260420T180000
DTEND;TZID=Europe/Berlin:20260420T193000
UID:261-41108-20260420T180000@VHSTÜBINGEN
SUMMARY:Französisch A2.2 für Teilnehmende mit Vorkenntnissen (261-41108) 
LOCATION:vhs, Schulungsraum 218, Katharinenstraße 18, 72072 Tübingen
END:VEVENT
BEGIN:VEVENT
DTSTAMP:20260421T173012
DTSTART;TZID=Europe/Berlin:20260427T180000
DTEND;TZID=Europe/Berlin:20260427T193000
UID:261-41108-20260427T180000@VHSTÜBINGEN
SUMMARY:Französisch A2.2 für Teilnehmende mit Vorkenntnissen (261-41108) 
LOCATION:vhs, Schulungsraum 218, Katharinenstraße 18, 72072 Tübingen
END:VEVENT
BEGIN:VEVENT
DTSTAMP:20260421T173012
DTSTART;TZID=Europe/Berlin:20260504T180000
DTEND;TZID=Europe/Berlin:20260504T193000
UID:261-41108-20260504T180000@VHSTÜBINGEN
SUMMARY:Französisch A2.2 für Teilnehmende mit Vorkenntnissen (261-41108) 
LOCATION:vhs, Schulungsraum 218, Katharinenstraße 18, 72072 Tübingen
END:VEVENT
BEGIN:VEVENT
DTSTAMP:20260421T173012
DTSTART;TZID=Europe/Berlin:20260511T180000
DTEND;TZID=Europe/Berlin:20260511T193000
UID:261-41108-20260511T180000@VHSTÜBINGEN
SUMMARY:Französisch A2.2 für Teilnehmende mit Vorkenntnissen (261-41108) 
LOCATION:vhs, Schulungsraum 218, Katharinenstraße 18, 72072 Tübingen
END:VEVENT
BEGIN:VEVENT
DTSTAMP:20260421T173012
DTSTART;TZID=Europe/Berlin:20260518T180000
DTEND;TZID=Europe/Berlin:20260518T193000
UID:261-41108-20260518T180000@VHSTÜBINGEN
SUMMARY:Französisch A2.2 für Teilnehmende mit Vorkenntnissen (261-41108) 
LOCATION:vhs, Schulungsraum 218, Katharinenstraße 18, 72072 Tübingen
END:VEVENT
BEGIN:VEVENT
DTSTAMP:20260421T173012
DTSTART;TZID=Europe/Berlin:20260608T180000
DTEND;TZID=Europe/Berlin:20260608T193000
UID:261-41108-20260608T180000@VHSTÜBINGEN
SUMMARY:Französisch A2.2 für Teilnehmende mit Vorkenntnissen (261-41108) 
LOCATION:vhs, Schulungsraum 218, Katharinenstraße 18, 72072 Tübingen
END:VEVENT
BEGIN:VEVENT
DTSTAMP:20260421T173012
DTSTART;TZID=Europe/Berlin:20260615T180000
DTEND;TZID=Europe/Berlin:20260615T193000
UID:261-41108-20260615T180000@VHSTÜBINGEN
SUMMARY:Französisch A2.2 für Teilnehmende mit Vorkenntnissen (261-41108) 
LOCATION:vhs, Schulungsraum 218, Katharinenstraße 18, 72072 Tübingen
END:VEVENT
BEGIN:VEVENT
DTSTAMP:20260421T173012
DTSTART;TZID=Europe/Berlin:20260622T180000
DTEND;TZID=Europe/Berlin:20260622T193000
UID:261-41108-20260622T180000@VHSTÜBINGEN
SUMMARY:Französisch A2.2 für Teilnehmende mit Vorkenntnissen (261-41108) 
LOCATION:vhs, Schulungsraum 218, Katharinenstraße 18, 72072 Tübingen
END:VEVENT
BEGIN:VEVENT
DTSTAMP:20260421T173012
DTSTART;TZID=Europe/Berlin:20260629T180000
DTEND;TZID=Europe/Berlin:20260629T193000
UID:261-41108-20260629T180000@VHSTÜBINGEN
DESCRIPTION:für 23.3.
SUMMARY:Französisch A2.2 für Teilnehmende mit Vorkenntnissen (261-41108) 
LOCATION:vhs, Schulungsraum 218, Katharinenstraße 18, 72072 Tübingen
END:VEVENT
BEGIN:VEVENT
DTSTAMP:20260421T173012
DTSTART;TZID=Europe/Berlin:20260706T180000
DTEND;TZID=Europe/Berlin:20260706T193000
UID:261-41108-20260706T180000@VHSTÜBINGEN
DESCRIPTION:statt 13.4
SUMMARY:Französisch A2.2 für Teilnehmende mit Vorkenntnissen (261-41108) 
LOCATION:vhs, Schulungsraum 218, Katharinenstraße 18, 72072 Tübingen
END:VEVENT
END:VCALENDAR