BEGIN:VCALENDAR
VERSION:2.0
PRODID:https://www.kufer.de/kuferweb / DE
METHOD:PUBLISH
CALSCALE:GREGORIAN
X-WR-TIMEZONE:Europe/Berlin
BEGIN:VTIMEZONE
TZID:Europe/Berlin
X-LIC-LOCATION:Europe/Berlin
BEGIN:DAYLIGHT
TZOFFSETFROM:+0100
TZOFFSETTO:+0200
TZNAME:CEST
DTSTART:19700329T020000
RRULE:FREQ=YEARLY;INTERVAL=1;BYDAY=-1SU;BYMONTH=3
END:DAYLIGHT
BEGIN:STANDARD
TZOFFSETFROM:+0200
TZOFFSETTO:+0100
TZNAME:CET
DTSTART:19701025T030000
RRULE:FREQ=YEARLY;INTERVAL=1;BYDAY=-1SU;BYMONTH=10
END:STANDARD
END:VTIMEZONE
BEGIN:VEVENT
DTSTAMP:20260421T170723
DTSTART;TZID=Europe/Berlin:20260226T180000
DTEND;TZID=Europe/Berlin:20260226T193000
UID:261-41115-20260226T180000@VHSTÜBINGEN
SUMMARY:Französisch A2.4 für Teilnehmende mit Vorkenntnissen (261-41115) 
LOCATION:vhs, Schulungsraum 212, Katharinenstraße 18, 72072 Tübingen
END:VEVENT
BEGIN:VEVENT
DTSTAMP:20260421T170723
DTSTART;TZID=Europe/Berlin:20260305T180000
DTEND;TZID=Europe/Berlin:20260305T193000
UID:261-41115-20260305T180000@VHSTÜBINGEN
SUMMARY:Französisch A2.4 für Teilnehmende mit Vorkenntnissen (261-41115) 
LOCATION:vhs, Schulungsraum 212, Katharinenstraße 18, 72072 Tübingen
END:VEVENT
BEGIN:VEVENT
DTSTAMP:20260421T170723
DTSTART;TZID=Europe/Berlin:20260312T180000
DTEND;TZID=Europe/Berlin:20260312T193000
UID:261-41115-20260312T180000@VHSTÜBINGEN
SUMMARY:Französisch A2.4 für Teilnehmende mit Vorkenntnissen (261-41115) 
LOCATION:vhs, Schulungsraum 212, Katharinenstraße 18, 72072 Tübingen
END:VEVENT
BEGIN:VEVENT
DTSTAMP:20260421T170723
DTSTART;TZID=Europe/Berlin:20260319T180000
DTEND;TZID=Europe/Berlin:20260319T193000
UID:261-41115-20260319T180000@VHSTÜBINGEN
SUMMARY:Französisch A2.4 für Teilnehmende mit Vorkenntnissen (261-41115) 
LOCATION:vhs, Schulungsraum 212, Katharinenstraße 18, 72072 Tübingen
END:VEVENT
BEGIN:VEVENT
DTSTAMP:20260421T170723
DTSTART;TZID=Europe/Berlin:20260326T180000
DTEND;TZID=Europe/Berlin:20260326T193000
UID:261-41115-20260326T180000@VHSTÜBINGEN
SUMMARY:Französisch A2.4 für Teilnehmende mit Vorkenntnissen (261-41115) 
LOCATION:vhs, Schulungsraum 212, Katharinenstraße 18, 72072 Tübingen
END:VEVENT
BEGIN:VEVENT
DTSTAMP:20260421T170723
DTSTART;TZID=Europe/Berlin:20260416T180000
DTEND;TZID=Europe/Berlin:20260416T193000
UID:261-41115-20260416T180000@VHSTÜBINGEN
SUMMARY:Französisch A2.4 für Teilnehmende mit Vorkenntnissen (261-41115) 
LOCATION:vhs, Schulungsraum 212, Katharinenstraße 18, 72072 Tübingen
END:VEVENT
BEGIN:VEVENT
DTSTAMP:20260421T170723
DTSTART;TZID=Europe/Berlin:20260423T180000
DTEND;TZID=Europe/Berlin:20260423T193000
UID:261-41115-20260423T180000@VHSTÜBINGEN
SUMMARY:Französisch A2.4 für Teilnehmende mit Vorkenntnissen (261-41115) 
LOCATION:vhs, Schulungsraum 212, Katharinenstraße 18, 72072 Tübingen
END:VEVENT
BEGIN:VEVENT
DTSTAMP:20260421T170723
DTSTART;TZID=Europe/Berlin:20260430T180000
DTEND;TZID=Europe/Berlin:20260430T193000
UID:261-41115-20260430T180000@VHSTÜBINGEN
SUMMARY:Französisch A2.4 für Teilnehmende mit Vorkenntnissen (261-41115) 
LOCATION:vhs, Schulungsraum 212, Katharinenstraße 18, 72072 Tübingen
END:VEVENT
BEGIN:VEVENT
DTSTAMP:20260421T170723
DTSTART;TZID=Europe/Berlin:20260507T180000
DTEND;TZID=Europe/Berlin:20260507T193000
UID:261-41115-20260507T180000@VHSTÜBINGEN
SUMMARY:Französisch A2.4 für Teilnehmende mit Vorkenntnissen (261-41115) 
LOCATION:vhs, Schulungsraum 212, Katharinenstraße 18, 72072 Tübingen
END:VEVENT
BEGIN:VEVENT
DTSTAMP:20260421T170723
DTSTART;TZID=Europe/Berlin:20260521T180000
DTEND;TZID=Europe/Berlin:20260521T193000
UID:261-41115-20260521T180000@VHSTÜBINGEN
SUMMARY:Französisch A2.4 für Teilnehmende mit Vorkenntnissen (261-41115) 
LOCATION:vhs, Schulungsraum 212, Katharinenstraße 18, 72072 Tübingen
END:VEVENT
BEGIN:VEVENT
DTSTAMP:20260421T170723
DTSTART;TZID=Europe/Berlin:20260618T180000
DTEND;TZID=Europe/Berlin:20260618T193000
UID:261-41115-20260618T180000@VHSTÜBINGEN
SUMMARY:Französisch A2.4 für Teilnehmende mit Vorkenntnissen (261-41115) 
LOCATION:vhs, Schulungsraum 212, Katharinenstraße 18, 72072 Tübingen
END:VEVENT
BEGIN:VEVENT
DTSTAMP:20260421T170723
DTSTART;TZID=Europe/Berlin:20260625T180000
DTEND;TZID=Europe/Berlin:20260625T193000
UID:261-41115-20260625T180000@VHSTÜBINGEN
SUMMARY:Französisch A2.4 für Teilnehmende mit Vorkenntnissen (261-41115) 
LOCATION:vhs, Schulungsraum 212, Katharinenstraße 18, 72072 Tübingen
END:VEVENT
BEGIN:VEVENT
DTSTAMP:20260421T170723
DTSTART;TZID=Europe/Berlin:20260702T180000
DTEND;TZID=Europe/Berlin:20260702T193000
UID:261-41115-20260702T180000@VHSTÜBINGEN
SUMMARY:Französisch A2.4 für Teilnehmende mit Vorkenntnissen (261-41115) 
LOCATION:vhs, Schulungsraum 212, Katharinenstraße 18, 72072 Tübingen
END:VEVENT
BEGIN:VEVENT
DTSTAMP:20260421T170723
DTSTART;TZID=Europe/Berlin:20260709T180000
DTEND;TZID=Europe/Berlin:20260709T193000
UID:261-41115-20260709T180000@VHSTÜBINGEN
SUMMARY:Französisch A2.4 für Teilnehmende mit Vorkenntnissen (261-41115) 
LOCATION:vhs, Schulungsraum 212, Katharinenstraße 18, 72072 Tübingen
END:VEVENT
BEGIN:VEVENT
DTSTAMP:20260421T170723
DTSTART;TZID=Europe/Berlin:20260716T180000
DTEND;TZID=Europe/Berlin:20260716T193000
UID:261-41115-20260716T180000@VHSTÜBINGEN
SUMMARY:Französisch A2.4 für Teilnehmende mit Vorkenntnissen (261-41115) 
LOCATION:vhs, Schulungsraum 212, Katharinenstraße 18, 72072 Tübingen
END:VEVENT
END:VCALENDAR