BEGIN:VCALENDAR
VERSION:2.0
PRODID:https://www.kufer.de/kuferweb / DE
METHOD:PUBLISH
CALSCALE:GREGORIAN
X-WR-TIMEZONE:Europe/Berlin
BEGIN:VTIMEZONE
TZID:Europe/Berlin
X-LIC-LOCATION:Europe/Berlin
BEGIN:DAYLIGHT
TZOFFSETFROM:+0100
TZOFFSETTO:+0200
TZNAME:CEST
DTSTART:19700329T020000
RRULE:FREQ=YEARLY;INTERVAL=1;BYDAY=-1SU;BYMONTH=3
END:DAYLIGHT
BEGIN:STANDARD
TZOFFSETFROM:+0200
TZOFFSETTO:+0100
TZNAME:CET
DTSTART:19701025T030000
RRULE:FREQ=YEARLY;INTERVAL=1;BYDAY=-1SU;BYMONTH=10
END:STANDARD
END:VTIMEZONE
BEGIN:VEVENT
DTSTAMP:20260421T132056
DTSTART;TZID=Europe/Berlin:20260227T083000
DTEND;TZID=Europe/Berlin:20260227T100000
UID:261-41501-20260227T083000@VHSTÜBINGEN
SUMMARY:Italienisch am Morgen A.1.1  für Teilnehmende ohne Vorkenntnisse (261-41501) 
LOCATION:vhs, Schulungsraum 110, Katharinenstraße 18, 72072 Tübingen
END:VEVENT
BEGIN:VEVENT
DTSTAMP:20260421T132056
DTSTART;TZID=Europe/Berlin:20260306T083000
DTEND;TZID=Europe/Berlin:20260306T100000
UID:261-41501-20260306T083000@VHSTÜBINGEN
SUMMARY:Italienisch am Morgen A.1.1  für Teilnehmende ohne Vorkenntnisse (261-41501) 
LOCATION:vhs, Schulungsraum 110, Katharinenstraße 18, 72072 Tübingen
END:VEVENT
BEGIN:VEVENT
DTSTAMP:20260421T132056
DTSTART;TZID=Europe/Berlin:20260313T083000
DTEND;TZID=Europe/Berlin:20260313T100000
UID:261-41501-20260313T083000@VHSTÜBINGEN
SUMMARY:Italienisch am Morgen A.1.1  für Teilnehmende ohne Vorkenntnisse (261-41501) 
LOCATION:vhs, Schulungsraum 110, Katharinenstraße 18, 72072 Tübingen
END:VEVENT
BEGIN:VEVENT
DTSTAMP:20260421T132056
DTSTART;TZID=Europe/Berlin:20260320T083000
DTEND;TZID=Europe/Berlin:20260320T100000
UID:261-41501-20260320T083000@VHSTÜBINGEN
SUMMARY:Italienisch am Morgen A.1.1  für Teilnehmende ohne Vorkenntnisse (261-41501) 
LOCATION:vhs, Schulungsraum 110, Katharinenstraße 18, 72072 Tübingen
END:VEVENT
BEGIN:VEVENT
DTSTAMP:20260421T132056
DTSTART;TZID=Europe/Berlin:20260327T083000
DTEND;TZID=Europe/Berlin:20260327T100000
UID:261-41501-20260327T083000@VHSTÜBINGEN
SUMMARY:Italienisch am Morgen A.1.1  für Teilnehmende ohne Vorkenntnisse (261-41501) 
LOCATION:vhs, Schulungsraum 110, Katharinenstraße 18, 72072 Tübingen
END:VEVENT
BEGIN:VEVENT
DTSTAMP:20260421T132056
DTSTART;TZID=Europe/Berlin:20260417T083000
DTEND;TZID=Europe/Berlin:20260417T100000
UID:261-41501-20260417T083000@VHSTÜBINGEN
SUMMARY:Italienisch am Morgen A.1.1  für Teilnehmende ohne Vorkenntnisse (261-41501) 
LOCATION:vhs, Schulungsraum 110, Katharinenstraße 18, 72072 Tübingen
END:VEVENT
BEGIN:VEVENT
DTSTAMP:20260421T132056
DTSTART;TZID=Europe/Berlin:20260424T083000
DTEND;TZID=Europe/Berlin:20260424T100000
UID:261-41501-20260424T083000@VHSTÜBINGEN
SUMMARY:Italienisch am Morgen A.1.1  für Teilnehmende ohne Vorkenntnisse (261-41501) 
LOCATION:vhs, Schulungsraum 110, Katharinenstraße 18, 72072 Tübingen
END:VEVENT
BEGIN:VEVENT
DTSTAMP:20260421T132056
DTSTART;TZID=Europe/Berlin:20260508T083000
DTEND;TZID=Europe/Berlin:20260508T100000
UID:261-41501-20260508T083000@VHSTÜBINGEN
SUMMARY:Italienisch am Morgen A.1.1  für Teilnehmende ohne Vorkenntnisse (261-41501) 
LOCATION:vhs, Schulungsraum 110, Katharinenstraße 18, 72072 Tübingen
END:VEVENT
BEGIN:VEVENT
DTSTAMP:20260421T132056
DTSTART;TZID=Europe/Berlin:20260515T083000
DTEND;TZID=Europe/Berlin:20260515T100000
UID:261-41501-20260515T083000@VHSTÜBINGEN
SUMMARY:Italienisch am Morgen A.1.1  für Teilnehmende ohne Vorkenntnisse (261-41501) 
LOCATION:vhs, Schulungsraum 110, Katharinenstraße 18, 72072 Tübingen
END:VEVENT
BEGIN:VEVENT
DTSTAMP:20260421T132056
DTSTART;TZID=Europe/Berlin:20260522T083000
DTEND;TZID=Europe/Berlin:20260522T100000
UID:261-41501-20260522T083000@VHSTÜBINGEN
SUMMARY:Italienisch am Morgen A.1.1  für Teilnehmende ohne Vorkenntnisse (261-41501) 
LOCATION:vhs, Schulungsraum 110, Katharinenstraße 18, 72072 Tübingen
END:VEVENT
BEGIN:VEVENT
DTSTAMP:20260421T132056
DTSTART;TZID=Europe/Berlin:20260612T083000
DTEND;TZID=Europe/Berlin:20260612T100000
UID:261-41501-20260612T083000@VHSTÜBINGEN
SUMMARY:Italienisch am Morgen A.1.1  für Teilnehmende ohne Vorkenntnisse (261-41501) 
LOCATION:vhs, Schulungsraum 110, Katharinenstraße 18, 72072 Tübingen
END:VEVENT
BEGIN:VEVENT
DTSTAMP:20260421T132056
DTSTART;TZID=Europe/Berlin:20260619T083000
DTEND;TZID=Europe/Berlin:20260619T100000
UID:261-41501-20260619T083000@VHSTÜBINGEN
SUMMARY:Italienisch am Morgen A.1.1  für Teilnehmende ohne Vorkenntnisse (261-41501) 
LOCATION:vhs, Schulungsraum 110, Katharinenstraße 18, 72072 Tübingen
END:VEVENT
END:VCALENDAR