BEGIN:VCALENDAR
VERSION:2.0
PRODID:https://www.kufer.de/kuferweb / DE
METHOD:PUBLISH
CALSCALE:GREGORIAN
X-WR-TIMEZONE:Europe/Berlin
BEGIN:VTIMEZONE
TZID:Europe/Berlin
X-LIC-LOCATION:Europe/Berlin
BEGIN:DAYLIGHT
TZOFFSETFROM:+0100
TZOFFSETTO:+0200
TZNAME:CEST
DTSTART:19700329T020000
RRULE:FREQ=YEARLY;INTERVAL=1;BYDAY=-1SU;BYMONTH=3
END:DAYLIGHT
BEGIN:STANDARD
TZOFFSETFROM:+0200
TZOFFSETTO:+0100
TZNAME:CET
DTSTART:19701025T030000
RRULE:FREQ=YEARLY;INTERVAL=1;BYDAY=-1SU;BYMONTH=10
END:STANDARD
END:VTIMEZONE
BEGIN:VEVENT
DTSTAMP:20260421T173000
DTSTART;TZID=Europe/Berlin:20260416T174500
DTEND;TZID=Europe/Berlin:20260416T191500
UID:261-41511-20260416T174500@VHSTÜBINGEN
SUMMARY:Italienisch in schnellem Tempo mit Alice A1.2 für Teilnehmende mit geringen Vorkenntnissen (261-41511) 
LOCATION:vhs, Schulungsraum 213, Katharinenstraße 18, 72072 Tübingen
END:VEVENT
BEGIN:VEVENT
DTSTAMP:20260421T173000
DTSTART;TZID=Europe/Berlin:20260423T174500
DTEND;TZID=Europe/Berlin:20260423T191500
UID:261-41511-20260423T174500@VHSTÜBINGEN
SUMMARY:Italienisch in schnellem Tempo mit Alice A1.2 für Teilnehmende mit geringen Vorkenntnissen (261-41511) 
LOCATION:vhs, Schulungsraum 213, Katharinenstraße 18, 72072 Tübingen
END:VEVENT
BEGIN:VEVENT
DTSTAMP:20260421T173000
DTSTART;TZID=Europe/Berlin:20260430T174500
DTEND;TZID=Europe/Berlin:20260430T191500
UID:261-41511-20260430T174500@VHSTÜBINGEN
SUMMARY:Italienisch in schnellem Tempo mit Alice A1.2 für Teilnehmende mit geringen Vorkenntnissen (261-41511) 
LOCATION:vhs, Schulungsraum 213, Katharinenstraße 18, 72072 Tübingen
END:VEVENT
BEGIN:VEVENT
DTSTAMP:20260421T173000
DTSTART;TZID=Europe/Berlin:20260507T174500
DTEND;TZID=Europe/Berlin:20260507T191500
UID:261-41511-20260507T174500@VHSTÜBINGEN
SUMMARY:Italienisch in schnellem Tempo mit Alice A1.2 für Teilnehmende mit geringen Vorkenntnissen (261-41511) 
LOCATION:vhs, Schulungsraum 213, Katharinenstraße 18, 72072 Tübingen
END:VEVENT
BEGIN:VEVENT
DTSTAMP:20260421T173000
DTSTART;TZID=Europe/Berlin:20260521T174500
DTEND;TZID=Europe/Berlin:20260521T191500
UID:261-41511-20260521T174500@VHSTÜBINGEN
SUMMARY:Italienisch in schnellem Tempo mit Alice A1.2 für Teilnehmende mit geringen Vorkenntnissen (261-41511) 
LOCATION:vhs, Schulungsraum 213, Katharinenstraße 18, 72072 Tübingen
END:VEVENT
BEGIN:VEVENT
DTSTAMP:20260421T173000
DTSTART;TZID=Europe/Berlin:20260611T174500
DTEND;TZID=Europe/Berlin:20260611T191500
UID:261-41511-20260611T174500@VHSTÜBINGEN
SUMMARY:Italienisch in schnellem Tempo mit Alice A1.2 für Teilnehmende mit geringen Vorkenntnissen (261-41511) 
LOCATION:vhs, Schulungsraum 213, Katharinenstraße 18, 72072 Tübingen
END:VEVENT
BEGIN:VEVENT
DTSTAMP:20260421T173000
DTSTART;TZID=Europe/Berlin:20260618T174500
DTEND;TZID=Europe/Berlin:20260618T191500
UID:261-41511-20260618T174500@VHSTÜBINGEN
SUMMARY:Italienisch in schnellem Tempo mit Alice A1.2 für Teilnehmende mit geringen Vorkenntnissen (261-41511) 
LOCATION:vhs, Schulungsraum 213, Katharinenstraße 18, 72072 Tübingen
END:VEVENT
BEGIN:VEVENT
DTSTAMP:20260421T173000
DTSTART;TZID=Europe/Berlin:20260625T174500
DTEND;TZID=Europe/Berlin:20260625T191500
UID:261-41511-20260625T174500@VHSTÜBINGEN
SUMMARY:Italienisch in schnellem Tempo mit Alice A1.2 für Teilnehmende mit geringen Vorkenntnissen (261-41511) 
LOCATION:vhs, Schulungsraum 213, Katharinenstraße 18, 72072 Tübingen
END:VEVENT
BEGIN:VEVENT
DTSTAMP:20260421T173000
DTSTART;TZID=Europe/Berlin:20260702T174500
DTEND;TZID=Europe/Berlin:20260702T191500
UID:261-41511-20260702T174500@VHSTÜBINGEN
SUMMARY:Italienisch in schnellem Tempo mit Alice A1.2 für Teilnehmende mit geringen Vorkenntnissen (261-41511) 
LOCATION:vhs, Schulungsraum 213, Katharinenstraße 18, 72072 Tübingen
END:VEVENT
BEGIN:VEVENT
DTSTAMP:20260421T173000
DTSTART;TZID=Europe/Berlin:20260709T174500
DTEND;TZID=Europe/Berlin:20260709T191500
UID:261-41511-20260709T174500@VHSTÜBINGEN
SUMMARY:Italienisch in schnellem Tempo mit Alice A1.2 für Teilnehmende mit geringen Vorkenntnissen (261-41511) 
LOCATION:vhs, Schulungsraum 213, Katharinenstraße 18, 72072 Tübingen
END:VEVENT
BEGIN:VEVENT
DTSTAMP:20260421T173000
DTSTART;TZID=Europe/Berlin:20260716T174500
DTEND;TZID=Europe/Berlin:20260716T191500
UID:261-41511-20260716T174500@VHSTÜBINGEN
SUMMARY:Italienisch in schnellem Tempo mit Alice A1.2 für Teilnehmende mit geringen Vorkenntnissen (261-41511) 
LOCATION:vhs, Schulungsraum 213, Katharinenstraße 18, 72072 Tübingen
END:VEVENT
BEGIN:VEVENT
DTSTAMP:20260421T173000
DTSTART;TZID=Europe/Berlin:20260723T174500
DTEND;TZID=Europe/Berlin:20260723T191500
UID:261-41511-20260723T174500@VHSTÜBINGEN
SUMMARY:Italienisch in schnellem Tempo mit Alice A1.2 für Teilnehmende mit geringen Vorkenntnissen (261-41511) 
LOCATION:vhs, Schulungsraum 213, Katharinenstraße 18, 72072 Tübingen
END:VEVENT
END:VCALENDAR