BEGIN:VCALENDAR
VERSION:2.0
PRODID:https://www.kufer.de/kuferweb / DE
METHOD:PUBLISH
CALSCALE:GREGORIAN
X-WR-TIMEZONE:Europe/Berlin
BEGIN:VTIMEZONE
TZID:Europe/Berlin
X-LIC-LOCATION:Europe/Berlin
BEGIN:DAYLIGHT
TZOFFSETFROM:+0100
TZOFFSETTO:+0200
TZNAME:CEST
DTSTART:19700329T020000
RRULE:FREQ=YEARLY;INTERVAL=1;BYDAY=-1SU;BYMONTH=3
END:DAYLIGHT
BEGIN:STANDARD
TZOFFSETFROM:+0200
TZOFFSETTO:+0100
TZNAME:CET
DTSTART:19701025T030000
RRULE:FREQ=YEARLY;INTERVAL=1;BYDAY=-1SU;BYMONTH=10
END:STANDARD
END:VTIMEZONE
BEGIN:VEVENT
DTSTAMP:20260421T174722
DTSTART;TZID=Europe/Berlin:20260416T201500
DTEND;TZID=Europe/Berlin:20260416T214500
UID:261-41512-20260416T201500@VHSTÜBINGEN
SUMMARY:Italienisch mit Federico A1.2 für Teilnehmende mit geringen Vorkenntnissen (261-41512) 
LOCATION:vhs, Schulungsraum 110, Katharinenstraße 18, 72072 Tübingen
END:VEVENT
BEGIN:VEVENT
DTSTAMP:20260421T174722
DTSTART;TZID=Europe/Berlin:20260423T201500
DTEND;TZID=Europe/Berlin:20260423T214500
UID:261-41512-20260423T201500@VHSTÜBINGEN
SUMMARY:Italienisch mit Federico A1.2 für Teilnehmende mit geringen Vorkenntnissen (261-41512) 
LOCATION:vhs, Schulungsraum 110, Katharinenstraße 18, 72072 Tübingen
END:VEVENT
BEGIN:VEVENT
DTSTAMP:20260421T174722
DTSTART;TZID=Europe/Berlin:20260430T201500
DTEND;TZID=Europe/Berlin:20260430T214500
UID:261-41512-20260430T201500@VHSTÜBINGEN
SUMMARY:Italienisch mit Federico A1.2 für Teilnehmende mit geringen Vorkenntnissen (261-41512) 
LOCATION:vhs, Schulungsraum 110, Katharinenstraße 18, 72072 Tübingen
END:VEVENT
BEGIN:VEVENT
DTSTAMP:20260421T174722
DTSTART;TZID=Europe/Berlin:20260507T201500
DTEND;TZID=Europe/Berlin:20260507T214500
UID:261-41512-20260507T201500@VHSTÜBINGEN
SUMMARY:Italienisch mit Federico A1.2 für Teilnehmende mit geringen Vorkenntnissen (261-41512) 
LOCATION:vhs, Schulungsraum 110, Katharinenstraße 18, 72072 Tübingen
END:VEVENT
BEGIN:VEVENT
DTSTAMP:20260421T174722
DTSTART;TZID=Europe/Berlin:20260521T201500
DTEND;TZID=Europe/Berlin:20260521T214500
UID:261-41512-20260521T201500@VHSTÜBINGEN
SUMMARY:Italienisch mit Federico A1.2 für Teilnehmende mit geringen Vorkenntnissen (261-41512) 
LOCATION:vhs, Schulungsraum 110, Katharinenstraße 18, 72072 Tübingen
END:VEVENT
BEGIN:VEVENT
DTSTAMP:20260421T174722
DTSTART;TZID=Europe/Berlin:20260611T201500
DTEND;TZID=Europe/Berlin:20260611T214500
UID:261-41512-20260611T201500@VHSTÜBINGEN
SUMMARY:Italienisch mit Federico A1.2 für Teilnehmende mit geringen Vorkenntnissen (261-41512) 
LOCATION:vhs, Schulungsraum 110, Katharinenstraße 18, 72072 Tübingen
END:VEVENT
BEGIN:VEVENT
DTSTAMP:20260421T174722
DTSTART;TZID=Europe/Berlin:20260618T201500
DTEND;TZID=Europe/Berlin:20260618T214500
UID:261-41512-20260618T201500@VHSTÜBINGEN
SUMMARY:Italienisch mit Federico A1.2 für Teilnehmende mit geringen Vorkenntnissen (261-41512) 
LOCATION:vhs, Schulungsraum 110, Katharinenstraße 18, 72072 Tübingen
END:VEVENT
BEGIN:VEVENT
DTSTAMP:20260421T174722
DTSTART;TZID=Europe/Berlin:20260625T201500
DTEND;TZID=Europe/Berlin:20260625T214500
UID:261-41512-20260625T201500@VHSTÜBINGEN
SUMMARY:Italienisch mit Federico A1.2 für Teilnehmende mit geringen Vorkenntnissen (261-41512) 
LOCATION:vhs, Schulungsraum 110, Katharinenstraße 18, 72072 Tübingen
END:VEVENT
BEGIN:VEVENT
DTSTAMP:20260421T174722
DTSTART;TZID=Europe/Berlin:20260702T201500
DTEND;TZID=Europe/Berlin:20260702T214500
UID:261-41512-20260702T201500@VHSTÜBINGEN
SUMMARY:Italienisch mit Federico A1.2 für Teilnehmende mit geringen Vorkenntnissen (261-41512) 
LOCATION:vhs, Schulungsraum 110, Katharinenstraße 18, 72072 Tübingen
END:VEVENT
BEGIN:VEVENT
DTSTAMP:20260421T174722
DTSTART;TZID=Europe/Berlin:20260709T201500
DTEND;TZID=Europe/Berlin:20260709T214500
UID:261-41512-20260709T201500@VHSTÜBINGEN
SUMMARY:Italienisch mit Federico A1.2 für Teilnehmende mit geringen Vorkenntnissen (261-41512) 
LOCATION:vhs, Schulungsraum 110, Katharinenstraße 18, 72072 Tübingen
END:VEVENT
BEGIN:VEVENT
DTSTAMP:20260421T174722
DTSTART;TZID=Europe/Berlin:20260716T201500
DTEND;TZID=Europe/Berlin:20260716T214500
UID:261-41512-20260716T201500@VHSTÜBINGEN
SUMMARY:Italienisch mit Federico A1.2 für Teilnehmende mit geringen Vorkenntnissen (261-41512) 
LOCATION:vhs, Schulungsraum 110, Katharinenstraße 18, 72072 Tübingen
END:VEVENT
BEGIN:VEVENT
DTSTAMP:20260421T174722
DTSTART;TZID=Europe/Berlin:20260723T201500
DTEND;TZID=Europe/Berlin:20260723T214500
UID:261-41512-20260723T201500@VHSTÜBINGEN
SUMMARY:Italienisch mit Federico A1.2 für Teilnehmende mit geringen Vorkenntnissen (261-41512) 
LOCATION:vhs, Schulungsraum 110, Katharinenstraße 18, 72072 Tübingen
END:VEVENT
END:VCALENDAR