BEGIN:VCALENDAR
VERSION:2.0
PRODID:https://www.kufer.de/kuferweb / DE
METHOD:PUBLISH
CALSCALE:GREGORIAN
X-WR-TIMEZONE:Europe/Berlin
BEGIN:VTIMEZONE
TZID:Europe/Berlin
X-LIC-LOCATION:Europe/Berlin
BEGIN:DAYLIGHT
TZOFFSETFROM:+0100
TZOFFSETTO:+0200
TZNAME:CEST
DTSTART:19700329T020000
RRULE:FREQ=YEARLY;INTERVAL=1;BYDAY=-1SU;BYMONTH=3
END:DAYLIGHT
BEGIN:STANDARD
TZOFFSETFROM:+0200
TZOFFSETTO:+0100
TZNAME:CET
DTSTART:19701025T030000
RRULE:FREQ=YEARLY;INTERVAL=1;BYDAY=-1SU;BYMONTH=10
END:STANDARD
END:VTIMEZONE
BEGIN:VEVENT
DTSTAMP:20260421T132053
DTSTART;TZID=Europe/Berlin:20260227T101500
DTEND;TZID=Europe/Berlin:20260227T114500
UID:261-41520-20260227T101500@VHSTÜBINGEN
SUMMARY:Italienisch am Morgen A.1.4 für Teilnehmende mit Vorkenntnissen (261-41520) 
LOCATION:vhs, Schulungsraum 110, Katharinenstraße 18, 72072 Tübingen
END:VEVENT
BEGIN:VEVENT
DTSTAMP:20260421T132053
DTSTART;TZID=Europe/Berlin:20260306T101500
DTEND;TZID=Europe/Berlin:20260306T114500
UID:261-41520-20260306T101500@VHSTÜBINGEN
SUMMARY:Italienisch am Morgen A.1.4 für Teilnehmende mit Vorkenntnissen (261-41520) 
LOCATION:vhs, Schulungsraum 110, Katharinenstraße 18, 72072 Tübingen
END:VEVENT
BEGIN:VEVENT
DTSTAMP:20260421T132053
DTSTART;TZID=Europe/Berlin:20260313T101500
DTEND;TZID=Europe/Berlin:20260313T114500
UID:261-41520-20260313T101500@VHSTÜBINGEN
SUMMARY:Italienisch am Morgen A.1.4 für Teilnehmende mit Vorkenntnissen (261-41520) 
LOCATION:vhs, Schulungsraum 110, Katharinenstraße 18, 72072 Tübingen
END:VEVENT
BEGIN:VEVENT
DTSTAMP:20260421T132053
DTSTART;TZID=Europe/Berlin:20260320T101500
DTEND;TZID=Europe/Berlin:20260320T114500
UID:261-41520-20260320T101500@VHSTÜBINGEN
SUMMARY:Italienisch am Morgen A.1.4 für Teilnehmende mit Vorkenntnissen (261-41520) 
LOCATION:vhs, Schulungsraum 110, Katharinenstraße 18, 72072 Tübingen
END:VEVENT
BEGIN:VEVENT
DTSTAMP:20260421T132053
DTSTART;TZID=Europe/Berlin:20260327T101500
DTEND;TZID=Europe/Berlin:20260327T114500
UID:261-41520-20260327T101500@VHSTÜBINGEN
SUMMARY:Italienisch am Morgen A.1.4 für Teilnehmende mit Vorkenntnissen (261-41520) 
LOCATION:vhs, Schulungsraum 110, Katharinenstraße 18, 72072 Tübingen
END:VEVENT
BEGIN:VEVENT
DTSTAMP:20260421T132053
DTSTART;TZID=Europe/Berlin:20260417T101500
DTEND;TZID=Europe/Berlin:20260417T114500
UID:261-41520-20260417T101500@VHSTÜBINGEN
SUMMARY:Italienisch am Morgen A.1.4 für Teilnehmende mit Vorkenntnissen (261-41520) 
LOCATION:vhs, Schulungsraum 110, Katharinenstraße 18, 72072 Tübingen
END:VEVENT
BEGIN:VEVENT
DTSTAMP:20260421T132053
DTSTART;TZID=Europe/Berlin:20260424T101500
DTEND;TZID=Europe/Berlin:20260424T114500
UID:261-41520-20260424T101500@VHSTÜBINGEN
SUMMARY:Italienisch am Morgen A.1.4 für Teilnehmende mit Vorkenntnissen (261-41520) 
LOCATION:vhs, Schulungsraum 110, Katharinenstraße 18, 72072 Tübingen
END:VEVENT
BEGIN:VEVENT
DTSTAMP:20260421T132053
DTSTART;TZID=Europe/Berlin:20260508T101500
DTEND;TZID=Europe/Berlin:20260508T114500
UID:261-41520-20260508T101500@VHSTÜBINGEN
SUMMARY:Italienisch am Morgen A.1.4 für Teilnehmende mit Vorkenntnissen (261-41520) 
LOCATION:vhs, Schulungsraum 110, Katharinenstraße 18, 72072 Tübingen
END:VEVENT
BEGIN:VEVENT
DTSTAMP:20260421T132053
DTSTART;TZID=Europe/Berlin:20260515T101500
DTEND;TZID=Europe/Berlin:20260515T114500
UID:261-41520-20260515T101500@VHSTÜBINGEN
SUMMARY:Italienisch am Morgen A.1.4 für Teilnehmende mit Vorkenntnissen (261-41520) 
LOCATION:vhs, Schulungsraum 110, Katharinenstraße 18, 72072 Tübingen
END:VEVENT
BEGIN:VEVENT
DTSTAMP:20260421T132053
DTSTART;TZID=Europe/Berlin:20260522T101500
DTEND;TZID=Europe/Berlin:20260522T114500
UID:261-41520-20260522T101500@VHSTÜBINGEN
SUMMARY:Italienisch am Morgen A.1.4 für Teilnehmende mit Vorkenntnissen (261-41520) 
LOCATION:vhs, Schulungsraum 110, Katharinenstraße 18, 72072 Tübingen
END:VEVENT
BEGIN:VEVENT
DTSTAMP:20260421T132053
DTSTART;TZID=Europe/Berlin:20260612T101500
DTEND;TZID=Europe/Berlin:20260612T114500
UID:261-41520-20260612T101500@VHSTÜBINGEN
SUMMARY:Italienisch am Morgen A.1.4 für Teilnehmende mit Vorkenntnissen (261-41520) 
LOCATION:vhs, Schulungsraum 110, Katharinenstraße 18, 72072 Tübingen
END:VEVENT
BEGIN:VEVENT
DTSTAMP:20260421T132053
DTSTART;TZID=Europe/Berlin:20260619T101500
DTEND;TZID=Europe/Berlin:20260619T114500
UID:261-41520-20260619T101500@VHSTÜBINGEN
SUMMARY:Italienisch am Morgen A.1.4 für Teilnehmende mit Vorkenntnissen (261-41520) 
LOCATION:vhs, Schulungsraum 110, Katharinenstraße 18, 72072 Tübingen
END:VEVENT
END:VCALENDAR