BEGIN:VCALENDAR
VERSION:2.0
PRODID:https://www.kufer.de/kuferweb / DE
METHOD:PUBLISH
CALSCALE:GREGORIAN
X-WR-TIMEZONE:Europe/Berlin
BEGIN:VTIMEZONE
TZID:Europe/Berlin
X-LIC-LOCATION:Europe/Berlin
BEGIN:DAYLIGHT
TZOFFSETFROM:+0100
TZOFFSETTO:+0200
TZNAME:CEST
DTSTART:19700329T020000
RRULE:FREQ=YEARLY;INTERVAL=1;BYDAY=-1SU;BYMONTH=3
END:DAYLIGHT
BEGIN:STANDARD
TZOFFSETFROM:+0200
TZOFFSETTO:+0100
TZNAME:CET
DTSTART:19701025T030000
RRULE:FREQ=YEARLY;INTERVAL=1;BYDAY=-1SU;BYMONTH=10
END:STANDARD
END:VTIMEZONE
BEGIN:VEVENT
DTSTAMP:20260421T175649
DTSTART;TZID=Europe/Berlin:20260420T191500
DTEND;TZID=Europe/Berlin:20260420T204500
UID:261-41802-20260420T191500@VHSTÜBINGEN
SUMMARY:Koreanisch A1.2 für Teilnehmende mit geringen Vorkenntnissen (261-41802) 
LOCATION:vhs, Schulungsraum 112, Katharinenstraße 18, 72072 Tübingen
END:VEVENT
BEGIN:VEVENT
DTSTAMP:20260421T175649
DTSTART;TZID=Europe/Berlin:20260427T191500
DTEND;TZID=Europe/Berlin:20260427T204500
UID:261-41802-20260427T191500@VHSTÜBINGEN
SUMMARY:Koreanisch A1.2 für Teilnehmende mit geringen Vorkenntnissen (261-41802) 
LOCATION:vhs, Schulungsraum 112, Katharinenstraße 18, 72072 Tübingen
END:VEVENT
BEGIN:VEVENT
DTSTAMP:20260421T175649
DTSTART;TZID=Europe/Berlin:20260504T191500
DTEND;TZID=Europe/Berlin:20260504T204500
UID:261-41802-20260504T191500@VHSTÜBINGEN
SUMMARY:Koreanisch A1.2 für Teilnehmende mit geringen Vorkenntnissen (261-41802) 
LOCATION:vhs, Schulungsraum 112, Katharinenstraße 18, 72072 Tübingen
END:VEVENT
BEGIN:VEVENT
DTSTAMP:20260421T175649
DTSTART;TZID=Europe/Berlin:20260511T191500
DTEND;TZID=Europe/Berlin:20260511T204500
UID:261-41802-20260511T191500@VHSTÜBINGEN
SUMMARY:Koreanisch A1.2 für Teilnehmende mit geringen Vorkenntnissen (261-41802) 
LOCATION:vhs, Schulungsraum 112, Katharinenstraße 18, 72072 Tübingen
END:VEVENT
BEGIN:VEVENT
DTSTAMP:20260421T175649
DTSTART;TZID=Europe/Berlin:20260518T191500
DTEND;TZID=Europe/Berlin:20260518T204500
UID:261-41802-20260518T191500@VHSTÜBINGEN
SUMMARY:Koreanisch A1.2 für Teilnehmende mit geringen Vorkenntnissen (261-41802) 
LOCATION:vhs, Schulungsraum 112, Katharinenstraße 18, 72072 Tübingen
END:VEVENT
BEGIN:VEVENT
DTSTAMP:20260421T175649
DTSTART;TZID=Europe/Berlin:20260608T191500
DTEND;TZID=Europe/Berlin:20260608T204500
UID:261-41802-20260608T191500@VHSTÜBINGEN
SUMMARY:Koreanisch A1.2 für Teilnehmende mit geringen Vorkenntnissen (261-41802) 
LOCATION:vhs, Schulungsraum 112, Katharinenstraße 18, 72072 Tübingen
END:VEVENT
BEGIN:VEVENT
DTSTAMP:20260421T175649
DTSTART;TZID=Europe/Berlin:20260615T191500
DTEND;TZID=Europe/Berlin:20260615T204500
UID:261-41802-20260615T191500@VHSTÜBINGEN
SUMMARY:Koreanisch A1.2 für Teilnehmende mit geringen Vorkenntnissen (261-41802) 
LOCATION:vhs, Schulungsraum 112, Katharinenstraße 18, 72072 Tübingen
END:VEVENT
BEGIN:VEVENT
DTSTAMP:20260421T175649
DTSTART;TZID=Europe/Berlin:20260622T191500
DTEND;TZID=Europe/Berlin:20260622T204500
UID:261-41802-20260622T191500@VHSTÜBINGEN
SUMMARY:Koreanisch A1.2 für Teilnehmende mit geringen Vorkenntnissen (261-41802) 
LOCATION:vhs, Schulungsraum 112, Katharinenstraße 18, 72072 Tübingen
END:VEVENT
BEGIN:VEVENT
DTSTAMP:20260421T175649
DTSTART;TZID=Europe/Berlin:20260629T191500
DTEND;TZID=Europe/Berlin:20260629T204500
UID:261-41802-20260629T191500@VHSTÜBINGEN
SUMMARY:Koreanisch A1.2 für Teilnehmende mit geringen Vorkenntnissen (261-41802) 
LOCATION:vhs, Schulungsraum 112, Katharinenstraße 18, 72072 Tübingen
END:VEVENT
BEGIN:VEVENT
DTSTAMP:20260421T175649
DTSTART;TZID=Europe/Berlin:20260706T191500
DTEND;TZID=Europe/Berlin:20260706T204500
UID:261-41802-20260706T191500@VHSTÜBINGEN
SUMMARY:Koreanisch A1.2 für Teilnehmende mit geringen Vorkenntnissen (261-41802) 
LOCATION:vhs, Schulungsraum 112, Katharinenstraße 18, 72072 Tübingen
END:VEVENT
BEGIN:VEVENT
DTSTAMP:20260421T175649
DTSTART;TZID=Europe/Berlin:20260713T191500
DTEND;TZID=Europe/Berlin:20260713T204500
UID:261-41802-20260713T191500@VHSTÜBINGEN
SUMMARY:Koreanisch A1.2 für Teilnehmende mit geringen Vorkenntnissen (261-41802) 
LOCATION:vhs, Schulungsraum 112, Katharinenstraße 18, 72072 Tübingen
END:VEVENT
BEGIN:VEVENT
DTSTAMP:20260421T175649
DTSTART;TZID=Europe/Berlin:20260720T191500
DTEND;TZID=Europe/Berlin:20260720T204500
UID:261-41802-20260720T191500@VHSTÜBINGEN
SUMMARY:Koreanisch A1.2 für Teilnehmende mit geringen Vorkenntnissen (261-41802) 
LOCATION:vhs, Schulungsraum 112, Katharinenstraße 18, 72072 Tübingen
END:VEVENT
END:VCALENDAR