BEGIN:VCALENDAR
VERSION:2.0
PRODID:https://www.kufer.de/kuferweb / DE
METHOD:PUBLISH
CALSCALE:GREGORIAN
X-WR-TIMEZONE:Europe/Berlin
BEGIN:VTIMEZONE
TZID:Europe/Berlin
X-LIC-LOCATION:Europe/Berlin
BEGIN:DAYLIGHT
TZOFFSETFROM:+0100
TZOFFSETTO:+0200
TZNAME:CEST
DTSTART:19700329T020000
RRULE:FREQ=YEARLY;INTERVAL=1;BYDAY=-1SU;BYMONTH=3
END:DAYLIGHT
BEGIN:STANDARD
TZOFFSETFROM:+0200
TZOFFSETTO:+0100
TZNAME:CET
DTSTART:19701025T030000
RRULE:FREQ=YEARLY;INTERVAL=1;BYDAY=-1SU;BYMONTH=10
END:STANDARD
END:VTIMEZONE
BEGIN:VEVENT
DTSTAMP:20260421T132107
DTSTART;TZID=Europe/Berlin:20260421T201500
DTEND;TZID=Europe/Berlin:20260421T214500
UID:261-42701-20260421T201500@VHSTÜBINGEN
SUMMARY:Portugiesisch A1.1 für Teilnehmende ohne Vorkenntnisse (261-42701) 
LOCATION:vhs, Schulungsraum 214, Katharinenstraße 18, 72072 Tübingen
END:VEVENT
BEGIN:VEVENT
DTSTAMP:20260421T132107
DTSTART;TZID=Europe/Berlin:20260428T201500
DTEND;TZID=Europe/Berlin:20260428T214500
UID:261-42701-20260428T201500@VHSTÜBINGEN
SUMMARY:Portugiesisch A1.1 für Teilnehmende ohne Vorkenntnisse (261-42701) 
LOCATION:vhs, Schulungsraum 214, Katharinenstraße 18, 72072 Tübingen
END:VEVENT
BEGIN:VEVENT
DTSTAMP:20260421T132107
DTSTART;TZID=Europe/Berlin:20260505T201500
DTEND;TZID=Europe/Berlin:20260505T214500
UID:261-42701-20260505T201500@VHSTÜBINGEN
SUMMARY:Portugiesisch A1.1 für Teilnehmende ohne Vorkenntnisse (261-42701) 
LOCATION:vhs, Schulungsraum 214, Katharinenstraße 18, 72072 Tübingen
END:VEVENT
BEGIN:VEVENT
DTSTAMP:20260421T132107
DTSTART;TZID=Europe/Berlin:20260512T201500
DTEND;TZID=Europe/Berlin:20260512T214500
UID:261-42701-20260512T201500@VHSTÜBINGEN
SUMMARY:Portugiesisch A1.1 für Teilnehmende ohne Vorkenntnisse (261-42701) 
LOCATION:vhs, Schulungsraum 214, Katharinenstraße 18, 72072 Tübingen
END:VEVENT
BEGIN:VEVENT
DTSTAMP:20260421T132107
DTSTART;TZID=Europe/Berlin:20260519T201500
DTEND;TZID=Europe/Berlin:20260519T214500
UID:261-42701-20260519T201500@VHSTÜBINGEN
SUMMARY:Portugiesisch A1.1 für Teilnehmende ohne Vorkenntnisse (261-42701) 
LOCATION:vhs, Schulungsraum 214, Katharinenstraße 18, 72072 Tübingen
END:VEVENT
BEGIN:VEVENT
DTSTAMP:20260421T132107
DTSTART;TZID=Europe/Berlin:20260609T201500
DTEND;TZID=Europe/Berlin:20260609T214500
UID:261-42701-20260609T201500@VHSTÜBINGEN
SUMMARY:Portugiesisch A1.1 für Teilnehmende ohne Vorkenntnisse (261-42701) 
LOCATION:vhs, Schulungsraum 214, Katharinenstraße 18, 72072 Tübingen
END:VEVENT
BEGIN:VEVENT
DTSTAMP:20260421T132107
DTSTART;TZID=Europe/Berlin:20260616T201500
DTEND;TZID=Europe/Berlin:20260616T214500
UID:261-42701-20260616T201500@VHSTÜBINGEN
SUMMARY:Portugiesisch A1.1 für Teilnehmende ohne Vorkenntnisse (261-42701) 
LOCATION:vhs, Schulungsraum 214, Katharinenstraße 18, 72072 Tübingen
END:VEVENT
BEGIN:VEVENT
DTSTAMP:20260421T132107
DTSTART;TZID=Europe/Berlin:20260623T201500
DTEND;TZID=Europe/Berlin:20260623T214500
UID:261-42701-20260623T201500@VHSTÜBINGEN
SUMMARY:Portugiesisch A1.1 für Teilnehmende ohne Vorkenntnisse (261-42701) 
LOCATION:vhs, Schulungsraum 214, Katharinenstraße 18, 72072 Tübingen
END:VEVENT
BEGIN:VEVENT
DTSTAMP:20260421T132107
DTSTART;TZID=Europe/Berlin:20260630T201500
DTEND;TZID=Europe/Berlin:20260630T214500
UID:261-42701-20260630T201500@VHSTÜBINGEN
SUMMARY:Portugiesisch A1.1 für Teilnehmende ohne Vorkenntnisse (261-42701) 
LOCATION:vhs, Schulungsraum 214, Katharinenstraße 18, 72072 Tübingen
END:VEVENT
BEGIN:VEVENT
DTSTAMP:20260421T132107
DTSTART;TZID=Europe/Berlin:20260707T201500
DTEND;TZID=Europe/Berlin:20260707T214500
UID:261-42701-20260707T201500@VHSTÜBINGEN
SUMMARY:Portugiesisch A1.1 für Teilnehmende ohne Vorkenntnisse (261-42701) 
LOCATION:vhs, Schulungsraum 214, Katharinenstraße 18, 72072 Tübingen
END:VEVENT
BEGIN:VEVENT
DTSTAMP:20260421T132107
DTSTART;TZID=Europe/Berlin:20260714T201500
DTEND;TZID=Europe/Berlin:20260714T214500
UID:261-42701-20260714T201500@VHSTÜBINGEN
SUMMARY:Portugiesisch A1.1 für Teilnehmende ohne Vorkenntnisse (261-42701) 
LOCATION:vhs, Schulungsraum 214, Katharinenstraße 18, 72072 Tübingen
END:VEVENT
BEGIN:VEVENT
DTSTAMP:20260421T132107
DTSTART;TZID=Europe/Berlin:20260721T201500
DTEND;TZID=Europe/Berlin:20260721T214500
UID:261-42701-20260721T201500@VHSTÜBINGEN
SUMMARY:Portugiesisch A1.1 für Teilnehmende ohne Vorkenntnisse (261-42701) 
LOCATION:vhs, Schulungsraum 214, Katharinenstraße 18, 72072 Tübingen
END:VEVENT
END:VCALENDAR