BEGIN:VCALENDAR
VERSION:2.0
PRODID:https://www.kufer.de/kuferweb / DE
METHOD:PUBLISH
CALSCALE:GREGORIAN
X-WR-TIMEZONE:Europe/Berlin
BEGIN:VTIMEZONE
TZID:Europe/Berlin
X-LIC-LOCATION:Europe/Berlin
BEGIN:DAYLIGHT
TZOFFSETFROM:+0100
TZOFFSETTO:+0200
TZNAME:CEST
DTSTART:19700329T020000
RRULE:FREQ=YEARLY;INTERVAL=1;BYDAY=-1SU;BYMONTH=3
END:DAYLIGHT
BEGIN:STANDARD
TZOFFSETFROM:+0200
TZOFFSETTO:+0100
TZNAME:CET
DTSTART:19701025T030000
RRULE:FREQ=YEARLY;INTERVAL=1;BYDAY=-1SU;BYMONTH=10
END:STANDARD
END:VTIMEZONE
BEGIN:VEVENT
DTSTAMP:20260421T170722
DTSTART;TZID=Europe/Berlin:20260312T101500
DTEND;TZID=Europe/Berlin:20260312T114500
UID:261-43427-20260312T101500@VHSTÜBINGEN
SUMMARY:Spanisch ohne Eile am Vormittag A2.4 für Teilnehmende mit Vorkenntnissen (261-43427) 
LOCATION:vhs, Schulungsraum 019, Katharinenstraße 18, 72072 Tübingen
END:VEVENT
BEGIN:VEVENT
DTSTAMP:20260421T170722
DTSTART;TZID=Europe/Berlin:20260319T101500
DTEND;TZID=Europe/Berlin:20260319T114500
UID:261-43427-20260319T101500@VHSTÜBINGEN
SUMMARY:Spanisch ohne Eile am Vormittag A2.4 für Teilnehmende mit Vorkenntnissen (261-43427) 
LOCATION:vhs, Schulungsraum 019, Katharinenstraße 18, 72072 Tübingen
END:VEVENT
BEGIN:VEVENT
DTSTAMP:20260421T170722
DTSTART;TZID=Europe/Berlin:20260326T101500
DTEND;TZID=Europe/Berlin:20260326T114500
UID:261-43427-20260326T101500@VHSTÜBINGEN
SUMMARY:Spanisch ohne Eile am Vormittag A2.4 für Teilnehmende mit Vorkenntnissen (261-43427) 
LOCATION:vhs, Schulungsraum 019, Katharinenstraße 18, 72072 Tübingen
END:VEVENT
BEGIN:VEVENT
DTSTAMP:20260421T170722
DTSTART;TZID=Europe/Berlin:20260416T101500
DTEND;TZID=Europe/Berlin:20260416T114500
UID:261-43427-20260416T101500@VHSTÜBINGEN
SUMMARY:Spanisch ohne Eile am Vormittag A2.4 für Teilnehmende mit Vorkenntnissen (261-43427) 
LOCATION:vhs, Schulungsraum 019, Katharinenstraße 18, 72072 Tübingen
END:VEVENT
BEGIN:VEVENT
DTSTAMP:20260421T170722
DTSTART;TZID=Europe/Berlin:20260423T101500
DTEND;TZID=Europe/Berlin:20260423T114500
UID:261-43427-20260423T101500@VHSTÜBINGEN
SUMMARY:Spanisch ohne Eile am Vormittag A2.4 für Teilnehmende mit Vorkenntnissen (261-43427) 
LOCATION:vhs, Schulungsraum 019, Katharinenstraße 18, 72072 Tübingen
END:VEVENT
BEGIN:VEVENT
DTSTAMP:20260421T170722
DTSTART;TZID=Europe/Berlin:20260430T101500
DTEND;TZID=Europe/Berlin:20260430T114500
UID:261-43427-20260430T101500@VHSTÜBINGEN
SUMMARY:Spanisch ohne Eile am Vormittag A2.4 für Teilnehmende mit Vorkenntnissen (261-43427) 
LOCATION:vhs, Schulungsraum 019, Katharinenstraße 18, 72072 Tübingen
END:VEVENT
BEGIN:VEVENT
DTSTAMP:20260421T170722
DTSTART;TZID=Europe/Berlin:20260507T101500
DTEND;TZID=Europe/Berlin:20260507T114500
UID:261-43427-20260507T101500@VHSTÜBINGEN
SUMMARY:Spanisch ohne Eile am Vormittag A2.4 für Teilnehmende mit Vorkenntnissen (261-43427) 
LOCATION:vhs, Schulungsraum 019, Katharinenstraße 18, 72072 Tübingen
END:VEVENT
BEGIN:VEVENT
DTSTAMP:20260421T170722
DTSTART;TZID=Europe/Berlin:20260521T101500
DTEND;TZID=Europe/Berlin:20260521T114500
UID:261-43427-20260521T101500@VHSTÜBINGEN
SUMMARY:Spanisch ohne Eile am Vormittag A2.4 für Teilnehmende mit Vorkenntnissen (261-43427) 
LOCATION:vhs, Schulungsraum 019, Katharinenstraße 18, 72072 Tübingen
END:VEVENT
BEGIN:VEVENT
DTSTAMP:20260421T170722
DTSTART;TZID=Europe/Berlin:20260611T101500
DTEND;TZID=Europe/Berlin:20260611T114500
UID:261-43427-20260611T101500@VHSTÜBINGEN
SUMMARY:Spanisch ohne Eile am Vormittag A2.4 für Teilnehmende mit Vorkenntnissen (261-43427) 
LOCATION:vhs, Schulungsraum 019, Katharinenstraße 18, 72072 Tübingen
END:VEVENT
BEGIN:VEVENT
DTSTAMP:20260421T170722
DTSTART;TZID=Europe/Berlin:20260618T101500
DTEND;TZID=Europe/Berlin:20260618T114500
UID:261-43427-20260618T101500@VHSTÜBINGEN
SUMMARY:Spanisch ohne Eile am Vormittag A2.4 für Teilnehmende mit Vorkenntnissen (261-43427) 
LOCATION:vhs, Schulungsraum 019, Katharinenstraße 18, 72072 Tübingen
END:VEVENT
BEGIN:VEVENT
DTSTAMP:20260421T170722
DTSTART;TZID=Europe/Berlin:20260625T101500
DTEND;TZID=Europe/Berlin:20260625T114500
UID:261-43427-20260625T101500@VHSTÜBINGEN
SUMMARY:Spanisch ohne Eile am Vormittag A2.4 für Teilnehmende mit Vorkenntnissen (261-43427) 
LOCATION:vhs, Schulungsraum 019, Katharinenstraße 18, 72072 Tübingen
END:VEVENT
BEGIN:VEVENT
DTSTAMP:20260421T170722
DTSTART;TZID=Europe/Berlin:20260702T101500
DTEND;TZID=Europe/Berlin:20260702T114500
UID:261-43427-20260702T101500@VHSTÜBINGEN
SUMMARY:Spanisch ohne Eile am Vormittag A2.4 für Teilnehmende mit Vorkenntnissen (261-43427) 
LOCATION:vhs, Schulungsraum 019, Katharinenstraße 18, 72072 Tübingen
END:VEVENT
END:VCALENDAR