BEGIN:VCALENDAR
VERSION:2.0
PRODID:https://www.kufer.de/kuferweb / DE
METHOD:PUBLISH
CALSCALE:GREGORIAN
X-WR-TIMEZONE:Europe/Berlin
BEGIN:VTIMEZONE
TZID:Europe/Berlin
X-LIC-LOCATION:Europe/Berlin
BEGIN:DAYLIGHT
TZOFFSETFROM:+0100
TZOFFSETTO:+0200
TZNAME:CEST
DTSTART:19700329T020000
RRULE:FREQ=YEARLY;INTERVAL=1;BYDAY=-1SU;BYMONTH=3
END:DAYLIGHT
BEGIN:STANDARD
TZOFFSETFROM:+0200
TZOFFSETTO:+0100
TZNAME:CET
DTSTART:19701025T030000
RRULE:FREQ=YEARLY;INTERVAL=1;BYDAY=-1SU;BYMONTH=10
END:STANDARD
END:VTIMEZONE
BEGIN:VEVENT
DTSTAMP:20260421T194902
DTSTART;TZID=Europe/Berlin:20260310T171500
DTEND;TZID=Europe/Berlin:20260310T184500
UID:261-43803-20260310T171500@VHSTÜBINGEN
SUMMARY:Türkisch A1.2 - Online Für Teilnehmende mit geringen Vorkenntnissen (261-43803) 
LOCATION:vhsonline 408
END:VEVENT
BEGIN:VEVENT
DTSTAMP:20260421T194902
DTSTART;TZID=Europe/Berlin:20260324T171500
DTEND;TZID=Europe/Berlin:20260324T184500
UID:261-43803-20260324T171500@VHSTÜBINGEN
SUMMARY:Türkisch A1.2 - Online Für Teilnehmende mit geringen Vorkenntnissen (261-43803) 
LOCATION:vhsonline 408
END:VEVENT
BEGIN:VEVENT
DTSTAMP:20260421T194902
DTSTART;TZID=Europe/Berlin:20260414T171500
DTEND;TZID=Europe/Berlin:20260414T184500
UID:261-43803-20260414T171500@VHSTÜBINGEN
SUMMARY:Türkisch A1.2 - Online Für Teilnehmende mit geringen Vorkenntnissen (261-43803) 
LOCATION:vhsonline 408
END:VEVENT
BEGIN:VEVENT
DTSTAMP:20260421T194902
DTSTART;TZID=Europe/Berlin:20260421T171500
DTEND;TZID=Europe/Berlin:20260421T184500
UID:261-43803-20260421T171500@VHSTÜBINGEN
SUMMARY:Türkisch A1.2 - Online Für Teilnehmende mit geringen Vorkenntnissen (261-43803) 
LOCATION:vhsonline 408
END:VEVENT
BEGIN:VEVENT
DTSTAMP:20260421T194902
DTSTART;TZID=Europe/Berlin:20260428T171500
DTEND;TZID=Europe/Berlin:20260428T184500
UID:261-43803-20260428T171500@VHSTÜBINGEN
SUMMARY:Türkisch A1.2 - Online Für Teilnehmende mit geringen Vorkenntnissen (261-43803) 
LOCATION:vhsonline 408
END:VEVENT
BEGIN:VEVENT
DTSTAMP:20260421T194902
DTSTART;TZID=Europe/Berlin:20260505T171500
DTEND;TZID=Europe/Berlin:20260505T184500
UID:261-43803-20260505T171500@VHSTÜBINGEN
SUMMARY:Türkisch A1.2 - Online Für Teilnehmende mit geringen Vorkenntnissen (261-43803) 
LOCATION:vhsonline 408
END:VEVENT
BEGIN:VEVENT
DTSTAMP:20260421T194902
DTSTART;TZID=Europe/Berlin:20260512T171500
DTEND;TZID=Europe/Berlin:20260512T184500
UID:261-43803-20260512T171500@VHSTÜBINGEN
SUMMARY:Türkisch A1.2 - Online Für Teilnehmende mit geringen Vorkenntnissen (261-43803) 
LOCATION:vhsonline 408
END:VEVENT
BEGIN:VEVENT
DTSTAMP:20260421T194902
DTSTART;TZID=Europe/Berlin:20260519T171500
DTEND;TZID=Europe/Berlin:20260519T184500
UID:261-43803-20260519T171500@VHSTÜBINGEN
SUMMARY:Türkisch A1.2 - Online Für Teilnehmende mit geringen Vorkenntnissen (261-43803) 
LOCATION:vhsonline 408
END:VEVENT
BEGIN:VEVENT
DTSTAMP:20260421T194902
DTSTART;TZID=Europe/Berlin:20260609T171500
DTEND;TZID=Europe/Berlin:20260609T184500
UID:261-43803-20260609T171500@VHSTÜBINGEN
SUMMARY:Türkisch A1.2 - Online Für Teilnehmende mit geringen Vorkenntnissen (261-43803) 
LOCATION:vhsonline 408
END:VEVENT
BEGIN:VEVENT
DTSTAMP:20260421T194902
DTSTART;TZID=Europe/Berlin:20260616T171500
DTEND;TZID=Europe/Berlin:20260616T184500
UID:261-43803-20260616T171500@VHSTÜBINGEN
SUMMARY:Türkisch A1.2 - Online Für Teilnehmende mit geringen Vorkenntnissen (261-43803) 
LOCATION:vhsonline 408
END:VEVENT
BEGIN:VEVENT
DTSTAMP:20260421T194902
DTSTART;TZID=Europe/Berlin:20260623T171500
DTEND;TZID=Europe/Berlin:20260623T184500
UID:261-43803-20260623T171500@VHSTÜBINGEN
SUMMARY:Türkisch A1.2 - Online Für Teilnehmende mit geringen Vorkenntnissen (261-43803) 
LOCATION:vhsonline 408
END:VEVENT
BEGIN:VEVENT
DTSTAMP:20260421T194902
DTSTART;TZID=Europe/Berlin:20260630T171500
DTEND;TZID=Europe/Berlin:20260630T184500
UID:261-43803-20260630T171500@VHSTÜBINGEN
DESCRIPTION:für 17.3.
SUMMARY:Türkisch A1.2 - Online Für Teilnehmende mit geringen Vorkenntnissen (261-43803) 
LOCATION:vhsonline 408
END:VEVENT
END:VCALENDAR