BEGIN:VCALENDAR
VERSION:2.0
PRODID:https://www.kufer.de/kuferweb / DE
METHOD:PUBLISH
CALSCALE:GREGORIAN
X-WR-TIMEZONE:Europe/Berlin
BEGIN:VTIMEZONE
TZID:Europe/Berlin
X-LIC-LOCATION:Europe/Berlin
BEGIN:DAYLIGHT
TZOFFSETFROM:+0100
TZOFFSETTO:+0200
TZNAME:CEST
DTSTART:19700329T020000
RRULE:FREQ=YEARLY;INTERVAL=1;BYDAY=-1SU;BYMONTH=3
END:DAYLIGHT
BEGIN:STANDARD
TZOFFSETFROM:+0200
TZOFFSETTO:+0100
TZNAME:CET
DTSTART:19701025T030000
RRULE:FREQ=YEARLY;INTERVAL=1;BYDAY=-1SU;BYMONTH=10
END:STANDARD
END:VTIMEZONE
BEGIN:VEVENT
DTSTAMP:20260421T174729
DTSTART;TZID=Europe/Berlin:20260324T133000
DTEND;TZID=Europe/Berlin:20260324T164500
UID:261-470272-20260324T133000@VHSTÜBINGEN
SUMMARY:Alphabetisierungskurs Orientierungskurs Abschnitt 10 Kurs 272 (261-470272) 
LOCATION:vhs, Schulungsraum 201, Katharinenstraße 18, 72072 Tübingen
END:VEVENT
BEGIN:VEVENT
DTSTAMP:20260421T174729
DTSTART;TZID=Europe/Berlin:20260325T133000
DTEND;TZID=Europe/Berlin:20260325T164500
UID:261-470272-20260325T133000@VHSTÜBINGEN
SUMMARY:Alphabetisierungskurs Orientierungskurs Abschnitt 10 Kurs 272 (261-470272) 
LOCATION:vhs, Schulungsraum 201, Katharinenstraße 18, 72072 Tübingen
END:VEVENT
BEGIN:VEVENT
DTSTAMP:20260421T174729
DTSTART;TZID=Europe/Berlin:20260326T133000
DTEND;TZID=Europe/Berlin:20260326T164500
UID:261-470272-20260326T133000@VHSTÜBINGEN
SUMMARY:Alphabetisierungskurs Orientierungskurs Abschnitt 10 Kurs 272 (261-470272) 
LOCATION:vhs, Schulungsraum 201, Katharinenstraße 18, 72072 Tübingen
END:VEVENT
BEGIN:VEVENT
DTSTAMP:20260421T174729
DTSTART;TZID=Europe/Berlin:20260327T133000
DTEND;TZID=Europe/Berlin:20260327T164500
UID:261-470272-20260327T133000@VHSTÜBINGEN
SUMMARY:Alphabetisierungskurs Orientierungskurs Abschnitt 10 Kurs 272 (261-470272) 
LOCATION:vhs, Schulungsraum 201, Katharinenstraße 18, 72072 Tübingen
END:VEVENT
BEGIN:VEVENT
DTSTAMP:20260421T174729
DTSTART;TZID=Europe/Berlin:20260330T133000
DTEND;TZID=Europe/Berlin:20260330T164500
UID:261-470272-20260330T133000@VHSTÜBINGEN
SUMMARY:Alphabetisierungskurs Orientierungskurs Abschnitt 10 Kurs 272 (261-470272) 
LOCATION:vhs, Schulungsraum 201, Katharinenstraße 18, 72072 Tübingen
END:VEVENT
BEGIN:VEVENT
DTSTAMP:20260421T174729
DTSTART;TZID=Europe/Berlin:20260413T133000
DTEND;TZID=Europe/Berlin:20260413T164500
UID:261-470272-20260413T133000@VHSTÜBINGEN
SUMMARY:Alphabetisierungskurs Orientierungskurs Abschnitt 10 Kurs 272 (261-470272) 
LOCATION:vhs, Schulungsraum 201, Katharinenstraße 18, 72072 Tübingen
END:VEVENT
BEGIN:VEVENT
DTSTAMP:20260421T174729
DTSTART;TZID=Europe/Berlin:20260414T133000
DTEND;TZID=Europe/Berlin:20260414T164500
UID:261-470272-20260414T133000@VHSTÜBINGEN
SUMMARY:Alphabetisierungskurs Orientierungskurs Abschnitt 10 Kurs 272 (261-470272) 
LOCATION:vhs, Schulungsraum 201, Katharinenstraße 18, 72072 Tübingen
END:VEVENT
BEGIN:VEVENT
DTSTAMP:20260421T174729
DTSTART;TZID=Europe/Berlin:20260415T133000
DTEND;TZID=Europe/Berlin:20260415T164500
UID:261-470272-20260415T133000@VHSTÜBINGEN
SUMMARY:Alphabetisierungskurs Orientierungskurs Abschnitt 10 Kurs 272 (261-470272) 
LOCATION:vhs, Schulungsraum 201, Katharinenstraße 18, 72072 Tübingen
END:VEVENT
BEGIN:VEVENT
DTSTAMP:20260421T174729
DTSTART;TZID=Europe/Berlin:20260416T133000
DTEND;TZID=Europe/Berlin:20260416T164500
UID:261-470272-20260416T133000@VHSTÜBINGEN
SUMMARY:Alphabetisierungskurs Orientierungskurs Abschnitt 10 Kurs 272 (261-470272) 
LOCATION:vhs, Schulungsraum 201, Katharinenstraße 18, 72072 Tübingen
END:VEVENT
BEGIN:VEVENT
DTSTAMP:20260421T174729
DTSTART;TZID=Europe/Berlin:20260417T133000
DTEND;TZID=Europe/Berlin:20260417T164500
UID:261-470272-20260417T133000@VHSTÜBINGEN
SUMMARY:Alphabetisierungskurs Orientierungskurs Abschnitt 10 Kurs 272 (261-470272) 
LOCATION:vhs, Schulungsraum 201, Katharinenstraße 18, 72072 Tübingen
END:VEVENT
BEGIN:VEVENT
DTSTAMP:20260421T174729
DTSTART;TZID=Europe/Berlin:20260420T133000
DTEND;TZID=Europe/Berlin:20260420T164500
UID:261-470272-20260420T133000@VHSTÜBINGEN
SUMMARY:Alphabetisierungskurs Orientierungskurs Abschnitt 10 Kurs 272 (261-470272) 
LOCATION:vhs, Schulungsraum 201, Katharinenstraße 18, 72072 Tübingen
END:VEVENT
BEGIN:VEVENT
DTSTAMP:20260421T174729
DTSTART;TZID=Europe/Berlin:20260421T133000
DTEND;TZID=Europe/Berlin:20260421T164500
UID:261-470272-20260421T133000@VHSTÜBINGEN
SUMMARY:Alphabetisierungskurs Orientierungskurs Abschnitt 10 Kurs 272 (261-470272) 
LOCATION:vhs, Schulungsraum 201, Katharinenstraße 18, 72072 Tübingen
END:VEVENT
BEGIN:VEVENT
DTSTAMP:20260421T174729
DTSTART;TZID=Europe/Berlin:20260422T133000
DTEND;TZID=Europe/Berlin:20260422T164500
UID:261-470272-20260422T133000@VHSTÜBINGEN
SUMMARY:Alphabetisierungskurs Orientierungskurs Abschnitt 10 Kurs 272 (261-470272) 
LOCATION:vhs, Schulungsraum 201, Katharinenstraße 18, 72072 Tübingen
END:VEVENT
BEGIN:VEVENT
DTSTAMP:20260421T174729
DTSTART;TZID=Europe/Berlin:20260423T133000
DTEND;TZID=Europe/Berlin:20260423T164500
UID:261-470272-20260423T133000@VHSTÜBINGEN
SUMMARY:Alphabetisierungskurs Orientierungskurs Abschnitt 10 Kurs 272 (261-470272) 
LOCATION:vhs, Schulungsraum 201, Katharinenstraße 18, 72072 Tübingen
END:VEVENT
BEGIN:VEVENT
DTSTAMP:20260421T174729
DTSTART;TZID=Europe/Berlin:20260427T133000
DTEND;TZID=Europe/Berlin:20260427T164500
UID:261-470272-20260427T133000@VHSTÜBINGEN
SUMMARY:Alphabetisierungskurs Orientierungskurs Abschnitt 10 Kurs 272 (261-470272) 
LOCATION:vhs, Schulungsraum 201, Katharinenstraße 18, 72072 Tübingen
END:VEVENT
BEGIN:VEVENT
DTSTAMP:20260421T174729
DTSTART;TZID=Europe/Berlin:20260428T133000
DTEND;TZID=Europe/Berlin:20260428T164500
UID:261-470272-20260428T133000@VHSTÜBINGEN
SUMMARY:Alphabetisierungskurs Orientierungskurs Abschnitt 10 Kurs 272 (261-470272) 
LOCATION:vhs, Schulungsraum 201, Katharinenstraße 18, 72072 Tübingen
END:VEVENT
BEGIN:VEVENT
DTSTAMP:20260421T174729
DTSTART;TZID=Europe/Berlin:20260429T133000
DTEND;TZID=Europe/Berlin:20260429T164500
UID:261-470272-20260429T133000@VHSTÜBINGEN
SUMMARY:Alphabetisierungskurs Orientierungskurs Abschnitt 10 Kurs 272 (261-470272) 
LOCATION:vhs, Schulungsraum 201, Katharinenstraße 18, 72072 Tübingen
END:VEVENT
BEGIN:VEVENT
DTSTAMP:20260421T174729
DTSTART;TZID=Europe/Berlin:20260430T133000
DTEND;TZID=Europe/Berlin:20260430T164500
UID:261-470272-20260430T133000@VHSTÜBINGEN
SUMMARY:Alphabetisierungskurs Orientierungskurs Abschnitt 10 Kurs 272 (261-470272) 
LOCATION:vhs, Schulungsraum 201, Katharinenstraße 18, 72072 Tübingen
END:VEVENT
BEGIN:VEVENT
DTSTAMP:20260421T174729
DTSTART;TZID=Europe/Berlin:20260504T133000
DTEND;TZID=Europe/Berlin:20260504T164500
UID:261-470272-20260504T133000@VHSTÜBINGEN
SUMMARY:Alphabetisierungskurs Orientierungskurs Abschnitt 10 Kurs 272 (261-470272) 
LOCATION:vhs, Schulungsraum 201, Katharinenstraße 18, 72072 Tübingen
END:VEVENT
BEGIN:VEVENT
DTSTAMP:20260421T174729
DTSTART;TZID=Europe/Berlin:20260505T133000
DTEND;TZID=Europe/Berlin:20260505T164500
UID:261-470272-20260505T133000@VHSTÜBINGEN
SUMMARY:Alphabetisierungskurs Orientierungskurs Abschnitt 10 Kurs 272 (261-470272) 
LOCATION:vhs, Schulungsraum 201, Katharinenstraße 18, 72072 Tübingen
END:VEVENT
BEGIN:VEVENT
DTSTAMP:20260421T174729
DTSTART;TZID=Europe/Berlin:20260506T133000
DTEND;TZID=Europe/Berlin:20260506T164500
UID:261-470272-20260506T133000@VHSTÜBINGEN
SUMMARY:Alphabetisierungskurs Orientierungskurs Abschnitt 10 Kurs 272 (261-470272) 
LOCATION:vhs, Schulungsraum 201, Katharinenstraße 18, 72072 Tübingen
END:VEVENT
BEGIN:VEVENT
DTSTAMP:20260421T174729
DTSTART;TZID=Europe/Berlin:20260507T133000
DTEND;TZID=Europe/Berlin:20260507T164500
UID:261-470272-20260507T133000@VHSTÜBINGEN
SUMMARY:Alphabetisierungskurs Orientierungskurs Abschnitt 10 Kurs 272 (261-470272) 
LOCATION:vhs, Schulungsraum 201, Katharinenstraße 18, 72072 Tübingen
END:VEVENT
BEGIN:VEVENT
DTSTAMP:20260421T174729
DTSTART;TZID=Europe/Berlin:20260508T133000
DTEND;TZID=Europe/Berlin:20260508T164500
UID:261-470272-20260508T133000@VHSTÜBINGEN
SUMMARY:Alphabetisierungskurs Orientierungskurs Abschnitt 10 Kurs 272 (261-470272) 
LOCATION:vhs, Schulungsraum 201, Katharinenstraße 18, 72072 Tübingen
END:VEVENT
BEGIN:VEVENT
DTSTAMP:20260421T174729
DTSTART;TZID=Europe/Berlin:20260511T133000
DTEND;TZID=Europe/Berlin:20260511T164500
UID:261-470272-20260511T133000@VHSTÜBINGEN
SUMMARY:Alphabetisierungskurs Orientierungskurs Abschnitt 10 Kurs 272 (261-470272) 
LOCATION:vhs, Schulungsraum 201, Katharinenstraße 18, 72072 Tübingen
END:VEVENT
BEGIN:VEVENT
DTSTAMP:20260421T174729
DTSTART;TZID=Europe/Berlin:20260512T133000
DTEND;TZID=Europe/Berlin:20260512T164500
UID:261-470272-20260512T133000@VHSTÜBINGEN
SUMMARY:Alphabetisierungskurs Orientierungskurs Abschnitt 10 Kurs 272 (261-470272) 
LOCATION:vhs, Schulungsraum 201, Katharinenstraße 18, 72072 Tübingen
END:VEVENT
END:VCALENDAR