BEGIN:VCALENDAR
VERSION:2.0
PRODID:https://www.kufer.de/kuferweb / DE
METHOD:PUBLISH
CALSCALE:GREGORIAN
X-WR-TIMEZONE:Europe/Berlin
BEGIN:VTIMEZONE
TZID:Europe/Berlin
X-LIC-LOCATION:Europe/Berlin
BEGIN:DAYLIGHT
TZOFFSETFROM:+0100
TZOFFSETTO:+0200
TZNAME:CEST
DTSTART:19700329T020000
RRULE:FREQ=YEARLY;INTERVAL=1;BYDAY=-1SU;BYMONTH=3
END:DAYLIGHT
BEGIN:STANDARD
TZOFFSETFROM:+0200
TZOFFSETTO:+0100
TZNAME:CET
DTSTART:19701025T030000
RRULE:FREQ=YEARLY;INTERVAL=1;BYDAY=-1SU;BYMONTH=10
END:STANDARD
END:VTIMEZONE
BEGIN:VEVENT
DTSTAMP:20260421T155532
DTSTART;TZID=Europe/Berlin:20260423T180000
DTEND;TZID=Europe/Berlin:20260423T211500
UID:261-472302-20260423T180000@VHSTÜBINGEN
SUMMARY:Deutsch Intensiv A1.2/ Integrationskurs 302 (Abend) (261-472302) 
LOCATION:vhs, Schulungsraum 015, Katharinenstraße 18, 72072 Tübingen
END:VEVENT
BEGIN:VEVENT
DTSTAMP:20260421T155532
DTSTART;TZID=Europe/Berlin:20260427T180000
DTEND;TZID=Europe/Berlin:20260427T211500
UID:261-472302-20260427T180000@VHSTÜBINGEN
SUMMARY:Deutsch Intensiv A1.2/ Integrationskurs 302 (Abend) (261-472302) 
LOCATION:vhs, Schulungsraum 015, Katharinenstraße 18, 72072 Tübingen
END:VEVENT
BEGIN:VEVENT
DTSTAMP:20260421T155532
DTSTART;TZID=Europe/Berlin:20260428T180000
DTEND;TZID=Europe/Berlin:20260428T211500
UID:261-472302-20260428T180000@VHSTÜBINGEN
SUMMARY:Deutsch Intensiv A1.2/ Integrationskurs 302 (Abend) (261-472302) 
LOCATION:vhs, Schulungsraum 015, Katharinenstraße 18, 72072 Tübingen
END:VEVENT
BEGIN:VEVENT
DTSTAMP:20260421T155532
DTSTART;TZID=Europe/Berlin:20260430T180000
DTEND;TZID=Europe/Berlin:20260430T211500
UID:261-472302-20260430T180000@VHSTÜBINGEN
SUMMARY:Deutsch Intensiv A1.2/ Integrationskurs 302 (Abend) (261-472302) 
LOCATION:vhs, Schulungsraum 015, Katharinenstraße 18, 72072 Tübingen
END:VEVENT
BEGIN:VEVENT
DTSTAMP:20260421T155532
DTSTART;TZID=Europe/Berlin:20260504T180000
DTEND;TZID=Europe/Berlin:20260504T211500
UID:261-472302-20260504T180000@VHSTÜBINGEN
SUMMARY:Deutsch Intensiv A1.2/ Integrationskurs 302 (Abend) (261-472302) 
LOCATION:vhs, Schulungsraum 015, Katharinenstraße 18, 72072 Tübingen
END:VEVENT
BEGIN:VEVENT
DTSTAMP:20260421T155532
DTSTART;TZID=Europe/Berlin:20260505T180000
DTEND;TZID=Europe/Berlin:20260505T211500
UID:261-472302-20260505T180000@VHSTÜBINGEN
SUMMARY:Deutsch Intensiv A1.2/ Integrationskurs 302 (Abend) (261-472302) 
LOCATION:vhs, Schulungsraum 015, Katharinenstraße 18, 72072 Tübingen
END:VEVENT
BEGIN:VEVENT
DTSTAMP:20260421T155532
DTSTART;TZID=Europe/Berlin:20260507T180000
DTEND;TZID=Europe/Berlin:20260507T211500
UID:261-472302-20260507T180000@VHSTÜBINGEN
SUMMARY:Deutsch Intensiv A1.2/ Integrationskurs 302 (Abend) (261-472302) 
LOCATION:vhs, Schulungsraum 015, Katharinenstraße 18, 72072 Tübingen
END:VEVENT
BEGIN:VEVENT
DTSTAMP:20260421T155532
DTSTART;TZID=Europe/Berlin:20260511T180000
DTEND;TZID=Europe/Berlin:20260511T211500
UID:261-472302-20260511T180000@VHSTÜBINGEN
SUMMARY:Deutsch Intensiv A1.2/ Integrationskurs 302 (Abend) (261-472302) 
LOCATION:vhs, Schulungsraum 015, Katharinenstraße 18, 72072 Tübingen
END:VEVENT
BEGIN:VEVENT
DTSTAMP:20260421T155532
DTSTART;TZID=Europe/Berlin:20260512T180000
DTEND;TZID=Europe/Berlin:20260512T211500
UID:261-472302-20260512T180000@VHSTÜBINGEN
SUMMARY:Deutsch Intensiv A1.2/ Integrationskurs 302 (Abend) (261-472302) 
LOCATION:vhs, Schulungsraum 015, Katharinenstraße 18, 72072 Tübingen
END:VEVENT
BEGIN:VEVENT
DTSTAMP:20260421T155532
DTSTART;TZID=Europe/Berlin:20260518T180000
DTEND;TZID=Europe/Berlin:20260518T211500
UID:261-472302-20260518T180000@VHSTÜBINGEN
SUMMARY:Deutsch Intensiv A1.2/ Integrationskurs 302 (Abend) (261-472302) 
LOCATION:vhs, Schulungsraum 015, Katharinenstraße 18, 72072 Tübingen
END:VEVENT
BEGIN:VEVENT
DTSTAMP:20260421T155532
DTSTART;TZID=Europe/Berlin:20260519T180000
DTEND;TZID=Europe/Berlin:20260519T211500
UID:261-472302-20260519T180000@VHSTÜBINGEN
SUMMARY:Deutsch Intensiv A1.2/ Integrationskurs 302 (Abend) (261-472302) 
LOCATION:vhs, Schulungsraum 015, Katharinenstraße 18, 72072 Tübingen
END:VEVENT
BEGIN:VEVENT
DTSTAMP:20260421T155532
DTSTART;TZID=Europe/Berlin:20260521T180000
DTEND;TZID=Europe/Berlin:20260521T211500
UID:261-472302-20260521T180000@VHSTÜBINGEN
SUMMARY:Deutsch Intensiv A1.2/ Integrationskurs 302 (Abend) (261-472302) 
LOCATION:vhs, Schulungsraum 015, Katharinenstraße 18, 72072 Tübingen
END:VEVENT
BEGIN:VEVENT
DTSTAMP:20260421T155532
DTSTART;TZID=Europe/Berlin:20260601T180000
DTEND;TZID=Europe/Berlin:20260601T211500
UID:261-472302-20260601T180000@VHSTÜBINGEN
SUMMARY:Deutsch Intensiv A1.2/ Integrationskurs 302 (Abend) (261-472302) 
LOCATION:vhs, Schulungsraum 015, Katharinenstraße 18, 72072 Tübingen
END:VEVENT
BEGIN:VEVENT
DTSTAMP:20260421T155532
DTSTART;TZID=Europe/Berlin:20260602T180000
DTEND;TZID=Europe/Berlin:20260602T211500
UID:261-472302-20260602T180000@VHSTÜBINGEN
SUMMARY:Deutsch Intensiv A1.2/ Integrationskurs 302 (Abend) (261-472302) 
LOCATION:vhs, Schulungsraum 015, Katharinenstraße 18, 72072 Tübingen
END:VEVENT
BEGIN:VEVENT
DTSTAMP:20260421T155532
DTSTART;TZID=Europe/Berlin:20260608T180000
DTEND;TZID=Europe/Berlin:20260608T211500
UID:261-472302-20260608T180000@VHSTÜBINGEN
SUMMARY:Deutsch Intensiv A1.2/ Integrationskurs 302 (Abend) (261-472302) 
LOCATION:vhs, Schulungsraum 015, Katharinenstraße 18, 72072 Tübingen
END:VEVENT
BEGIN:VEVENT
DTSTAMP:20260421T155532
DTSTART;TZID=Europe/Berlin:20260609T180000
DTEND;TZID=Europe/Berlin:20260609T211500
UID:261-472302-20260609T180000@VHSTÜBINGEN
SUMMARY:Deutsch Intensiv A1.2/ Integrationskurs 302 (Abend) (261-472302) 
LOCATION:vhs, Schulungsraum 015, Katharinenstraße 18, 72072 Tübingen
END:VEVENT
BEGIN:VEVENT
DTSTAMP:20260421T155532
DTSTART;TZID=Europe/Berlin:20260611T180000
DTEND;TZID=Europe/Berlin:20260611T211500
UID:261-472302-20260611T180000@VHSTÜBINGEN
SUMMARY:Deutsch Intensiv A1.2/ Integrationskurs 302 (Abend) (261-472302) 
LOCATION:vhs, Schulungsraum 015, Katharinenstraße 18, 72072 Tübingen
END:VEVENT
BEGIN:VEVENT
DTSTAMP:20260421T155532
DTSTART;TZID=Europe/Berlin:20260615T180000
DTEND;TZID=Europe/Berlin:20260615T211500
UID:261-472302-20260615T180000@VHSTÜBINGEN
SUMMARY:Deutsch Intensiv A1.2/ Integrationskurs 302 (Abend) (261-472302) 
LOCATION:vhs, Schulungsraum 015, Katharinenstraße 18, 72072 Tübingen
END:VEVENT
BEGIN:VEVENT
DTSTAMP:20260421T155532
DTSTART;TZID=Europe/Berlin:20260616T180000
DTEND;TZID=Europe/Berlin:20260616T211500
UID:261-472302-20260616T180000@VHSTÜBINGEN
SUMMARY:Deutsch Intensiv A1.2/ Integrationskurs 302 (Abend) (261-472302) 
LOCATION:vhs, Schulungsraum 015, Katharinenstraße 18, 72072 Tübingen
END:VEVENT
BEGIN:VEVENT
DTSTAMP:20260421T155532
DTSTART;TZID=Europe/Berlin:20260618T180000
DTEND;TZID=Europe/Berlin:20260618T211500
UID:261-472302-20260618T180000@VHSTÜBINGEN
SUMMARY:Deutsch Intensiv A1.2/ Integrationskurs 302 (Abend) (261-472302) 
LOCATION:vhs, Schulungsraum 015, Katharinenstraße 18, 72072 Tübingen
END:VEVENT
BEGIN:VEVENT
DTSTAMP:20260421T155532
DTSTART;TZID=Europe/Berlin:20260622T180000
DTEND;TZID=Europe/Berlin:20260622T211500
UID:261-472302-20260622T180000@VHSTÜBINGEN
SUMMARY:Deutsch Intensiv A1.2/ Integrationskurs 302 (Abend) (261-472302) 
LOCATION:vhs, Schulungsraum 015, Katharinenstraße 18, 72072 Tübingen
END:VEVENT
BEGIN:VEVENT
DTSTAMP:20260421T155532
DTSTART;TZID=Europe/Berlin:20260623T180000
DTEND;TZID=Europe/Berlin:20260623T211500
UID:261-472302-20260623T180000@VHSTÜBINGEN
SUMMARY:Deutsch Intensiv A1.2/ Integrationskurs 302 (Abend) (261-472302) 
LOCATION:vhs, Schulungsraum 015, Katharinenstraße 18, 72072 Tübingen
END:VEVENT
BEGIN:VEVENT
DTSTAMP:20260421T155532
DTSTART;TZID=Europe/Berlin:20260625T180000
DTEND;TZID=Europe/Berlin:20260625T211500
UID:261-472302-20260625T180000@VHSTÜBINGEN
SUMMARY:Deutsch Intensiv A1.2/ Integrationskurs 302 (Abend) (261-472302) 
LOCATION:vhs, Schulungsraum 015, Katharinenstraße 18, 72072 Tübingen
END:VEVENT
BEGIN:VEVENT
DTSTAMP:20260421T155532
DTSTART;TZID=Europe/Berlin:20260629T180000
DTEND;TZID=Europe/Berlin:20260629T211500
UID:261-472302-20260629T180000@VHSTÜBINGEN
SUMMARY:Deutsch Intensiv A1.2/ Integrationskurs 302 (Abend) (261-472302) 
LOCATION:vhs, Schulungsraum 015, Katharinenstraße 18, 72072 Tübingen
END:VEVENT
BEGIN:VEVENT
DTSTAMP:20260421T155532
DTSTART;TZID=Europe/Berlin:20260630T180000
DTEND;TZID=Europe/Berlin:20260630T211500
UID:261-472302-20260630T180000@VHSTÜBINGEN
SUMMARY:Deutsch Intensiv A1.2/ Integrationskurs 302 (Abend) (261-472302) 
LOCATION:vhs, Schulungsraum 015, Katharinenstraße 18, 72072 Tübingen
END:VEVENT
END:VCALENDAR