BEGIN:VCALENDAR
VERSION:2.0
PRODID:https://www.kufer.de/kuferweb / DE
METHOD:PUBLISH
CALSCALE:GREGORIAN
X-WR-TIMEZONE:Europe/Berlin
BEGIN:VTIMEZONE
TZID:Europe/Berlin
X-LIC-LOCATION:Europe/Berlin
BEGIN:DAYLIGHT
TZOFFSETFROM:+0100
TZOFFSETTO:+0200
TZNAME:CEST
DTSTART:19700329T020000
RRULE:FREQ=YEARLY;INTERVAL=1;BYDAY=-1SU;BYMONTH=3
END:DAYLIGHT
BEGIN:STANDARD
TZOFFSETFROM:+0200
TZOFFSETTO:+0100
TZNAME:CET
DTSTART:19701025T030000
RRULE:FREQ=YEARLY;INTERVAL=1;BYDAY=-1SU;BYMONTH=10
END:STANDARD
END:VTIMEZONE
BEGIN:VEVENT
DTSTAMP:20260421T210230
DTSTART;TZID=Europe/Berlin:20260702T180000
DTEND;TZID=Europe/Berlin:20260702T211500
UID:261-473302-20260702T180000@VHSTÜBINGEN
SUMMARY:Deutsch Intensiv A2.1/ Integrationskurs 302 (Abend) (261-473302) 
LOCATION:vhs, Schulungsraum 015, Katharinenstraße 18, 72072 Tübingen
END:VEVENT
BEGIN:VEVENT
DTSTAMP:20260421T210230
DTSTART;TZID=Europe/Berlin:20260706T180000
DTEND;TZID=Europe/Berlin:20260706T211500
UID:261-473302-20260706T180000@VHSTÜBINGEN
SUMMARY:Deutsch Intensiv A2.1/ Integrationskurs 302 (Abend) (261-473302) 
LOCATION:vhs, Schulungsraum 015, Katharinenstraße 18, 72072 Tübingen
END:VEVENT
BEGIN:VEVENT
DTSTAMP:20260421T210230
DTSTART;TZID=Europe/Berlin:20260707T180000
DTEND;TZID=Europe/Berlin:20260707T211500
UID:261-473302-20260707T180000@VHSTÜBINGEN
SUMMARY:Deutsch Intensiv A2.1/ Integrationskurs 302 (Abend) (261-473302) 
LOCATION:vhs, Schulungsraum 015, Katharinenstraße 18, 72072 Tübingen
END:VEVENT
BEGIN:VEVENT
DTSTAMP:20260421T210230
DTSTART;TZID=Europe/Berlin:20260709T180000
DTEND;TZID=Europe/Berlin:20260709T211500
UID:261-473302-20260709T180000@VHSTÜBINGEN
SUMMARY:Deutsch Intensiv A2.1/ Integrationskurs 302 (Abend) (261-473302) 
LOCATION:vhs, Schulungsraum 015, Katharinenstraße 18, 72072 Tübingen
END:VEVENT
BEGIN:VEVENT
DTSTAMP:20260421T210230
DTSTART;TZID=Europe/Berlin:20260713T180000
DTEND;TZID=Europe/Berlin:20260713T211500
UID:261-473302-20260713T180000@VHSTÜBINGEN
SUMMARY:Deutsch Intensiv A2.1/ Integrationskurs 302 (Abend) (261-473302) 
LOCATION:vhs, Schulungsraum 015, Katharinenstraße 18, 72072 Tübingen
END:VEVENT
BEGIN:VEVENT
DTSTAMP:20260421T210230
DTSTART;TZID=Europe/Berlin:20260714T180000
DTEND;TZID=Europe/Berlin:20260714T211500
UID:261-473302-20260714T180000@VHSTÜBINGEN
SUMMARY:Deutsch Intensiv A2.1/ Integrationskurs 302 (Abend) (261-473302) 
LOCATION:vhs, Schulungsraum 015, Katharinenstraße 18, 72072 Tübingen
END:VEVENT
BEGIN:VEVENT
DTSTAMP:20260421T210230
DTSTART;TZID=Europe/Berlin:20260716T180000
DTEND;TZID=Europe/Berlin:20260716T211500
UID:261-473302-20260716T180000@VHSTÜBINGEN
SUMMARY:Deutsch Intensiv A2.1/ Integrationskurs 302 (Abend) (261-473302) 
LOCATION:vhs, Schulungsraum 015, Katharinenstraße 18, 72072 Tübingen
END:VEVENT
BEGIN:VEVENT
DTSTAMP:20260421T210230
DTSTART;TZID=Europe/Berlin:20260720T180000
DTEND;TZID=Europe/Berlin:20260720T211500
UID:261-473302-20260720T180000@VHSTÜBINGEN
SUMMARY:Deutsch Intensiv A2.1/ Integrationskurs 302 (Abend) (261-473302) 
LOCATION:vhs, Schulungsraum 015, Katharinenstraße 18, 72072 Tübingen
END:VEVENT
BEGIN:VEVENT
DTSTAMP:20260421T210230
DTSTART;TZID=Europe/Berlin:20260721T180000
DTEND;TZID=Europe/Berlin:20260721T211500
UID:261-473302-20260721T180000@VHSTÜBINGEN
SUMMARY:Deutsch Intensiv A2.1/ Integrationskurs 302 (Abend) (261-473302) 
LOCATION:vhs, Schulungsraum 015, Katharinenstraße 18, 72072 Tübingen
END:VEVENT
BEGIN:VEVENT
DTSTAMP:20260421T210230
DTSTART;TZID=Europe/Berlin:20260723T180000
DTEND;TZID=Europe/Berlin:20260723T211500
UID:261-473302-20260723T180000@VHSTÜBINGEN
SUMMARY:Deutsch Intensiv A2.1/ Integrationskurs 302 (Abend) (261-473302) 
LOCATION:vhs, Schulungsraum 015, Katharinenstraße 18, 72072 Tübingen
END:VEVENT
BEGIN:VEVENT
DTSTAMP:20260421T210230
DTSTART;TZID=Europe/Berlin:20260727T180000
DTEND;TZID=Europe/Berlin:20260727T211500
UID:261-473302-20260727T180000@VHSTÜBINGEN
SUMMARY:Deutsch Intensiv A2.1/ Integrationskurs 302 (Abend) (261-473302) 
LOCATION:vhs, Schulungsraum 015, Katharinenstraße 18, 72072 Tübingen
END:VEVENT
BEGIN:VEVENT
DTSTAMP:20260421T210230
DTSTART;TZID=Europe/Berlin:20260728T180000
DTEND;TZID=Europe/Berlin:20260728T211500
UID:261-473302-20260728T180000@VHSTÜBINGEN
SUMMARY:Deutsch Intensiv A2.1/ Integrationskurs 302 (Abend) (261-473302) 
LOCATION:vhs, Schulungsraum 015, Katharinenstraße 18, 72072 Tübingen
END:VEVENT
BEGIN:VEVENT
DTSTAMP:20260421T210230
DTSTART;TZID=Europe/Berlin:20260730T180000
DTEND;TZID=Europe/Berlin:20260730T211500
UID:261-473302-20260730T180000@VHSTÜBINGEN
SUMMARY:Deutsch Intensiv A2.1/ Integrationskurs 302 (Abend) (261-473302) 
LOCATION:vhs, Schulungsraum 015, Katharinenstraße 18, 72072 Tübingen
END:VEVENT
BEGIN:VEVENT
DTSTAMP:20260421T210230
DTSTART;TZID=Europe/Berlin:20260803T180000
DTEND;TZID=Europe/Berlin:20260803T211500
UID:261-473302-20260803T180000@VHSTÜBINGEN
SUMMARY:Deutsch Intensiv A2.1/ Integrationskurs 302 (Abend) (261-473302) 
LOCATION:vhs, Schulungsraum 015, Katharinenstraße 18, 72072 Tübingen
END:VEVENT
BEGIN:VEVENT
DTSTAMP:20260421T210230
DTSTART;TZID=Europe/Berlin:20260804T180000
DTEND;TZID=Europe/Berlin:20260804T211500
UID:261-473302-20260804T180000@VHSTÜBINGEN
SUMMARY:Deutsch Intensiv A2.1/ Integrationskurs 302 (Abend) (261-473302) 
LOCATION:vhs, Schulungsraum 015, Katharinenstraße 18, 72072 Tübingen
END:VEVENT
BEGIN:VEVENT
DTSTAMP:20260421T210230
DTSTART;TZID=Europe/Berlin:20260806T180000
DTEND;TZID=Europe/Berlin:20260806T211500
UID:261-473302-20260806T180000@VHSTÜBINGEN
SUMMARY:Deutsch Intensiv A2.1/ Integrationskurs 302 (Abend) (261-473302) 
LOCATION:vhs, Schulungsraum 015, Katharinenstraße 18, 72072 Tübingen
END:VEVENT
BEGIN:VEVENT
DTSTAMP:20260421T210230
DTSTART;TZID=Europe/Berlin:20260907T180000
DTEND;TZID=Europe/Berlin:20260907T211500
UID:261-473302-20260907T180000@VHSTÜBINGEN
SUMMARY:Deutsch Intensiv A2.1/ Integrationskurs 302 (Abend) (261-473302) 
LOCATION:vhs, Schulungsraum 015, Katharinenstraße 18, 72072 Tübingen
END:VEVENT
BEGIN:VEVENT
DTSTAMP:20260421T210230
DTSTART;TZID=Europe/Berlin:20260908T180000
DTEND;TZID=Europe/Berlin:20260908T211500
UID:261-473302-20260908T180000@VHSTÜBINGEN
SUMMARY:Deutsch Intensiv A2.1/ Integrationskurs 302 (Abend) (261-473302) 
LOCATION:vhs, Schulungsraum 015, Katharinenstraße 18, 72072 Tübingen
END:VEVENT
BEGIN:VEVENT
DTSTAMP:20260421T210230
DTSTART;TZID=Europe/Berlin:20260910T180000
DTEND;TZID=Europe/Berlin:20260910T211500
UID:261-473302-20260910T180000@VHSTÜBINGEN
SUMMARY:Deutsch Intensiv A2.1/ Integrationskurs 302 (Abend) (261-473302) 
LOCATION:vhs, Schulungsraum 015, Katharinenstraße 18, 72072 Tübingen
END:VEVENT
BEGIN:VEVENT
DTSTAMP:20260421T210230
DTSTART;TZID=Europe/Berlin:20260914T180000
DTEND;TZID=Europe/Berlin:20260914T211500
UID:261-473302-20260914T180000@VHSTÜBINGEN
SUMMARY:Deutsch Intensiv A2.1/ Integrationskurs 302 (Abend) (261-473302) 
LOCATION:vhs, Schulungsraum 015, Katharinenstraße 18, 72072 Tübingen
END:VEVENT
BEGIN:VEVENT
DTSTAMP:20260421T210230
DTSTART;TZID=Europe/Berlin:20260915T180000
DTEND;TZID=Europe/Berlin:20260915T211500
UID:261-473302-20260915T180000@VHSTÜBINGEN
SUMMARY:Deutsch Intensiv A2.1/ Integrationskurs 302 (Abend) (261-473302) 
LOCATION:vhs, Schulungsraum 015, Katharinenstraße 18, 72072 Tübingen
END:VEVENT
BEGIN:VEVENT
DTSTAMP:20260421T210230
DTSTART;TZID=Europe/Berlin:20260917T180000
DTEND;TZID=Europe/Berlin:20260917T211500
UID:261-473302-20260917T180000@VHSTÜBINGEN
SUMMARY:Deutsch Intensiv A2.1/ Integrationskurs 302 (Abend) (261-473302) 
LOCATION:vhs, Schulungsraum 015, Katharinenstraße 18, 72072 Tübingen
END:VEVENT
BEGIN:VEVENT
DTSTAMP:20260421T210230
DTSTART;TZID=Europe/Berlin:20260921T180000
DTEND;TZID=Europe/Berlin:20260921T211500
UID:261-473302-20260921T180000@VHSTÜBINGEN
SUMMARY:Deutsch Intensiv A2.1/ Integrationskurs 302 (Abend) (261-473302) 
LOCATION:vhs, Schulungsraum 015, Katharinenstraße 18, 72072 Tübingen
END:VEVENT
BEGIN:VEVENT
DTSTAMP:20260421T210230
DTSTART;TZID=Europe/Berlin:20260922T180000
DTEND;TZID=Europe/Berlin:20260922T211500
UID:261-473302-20260922T180000@VHSTÜBINGEN
SUMMARY:Deutsch Intensiv A2.1/ Integrationskurs 302 (Abend) (261-473302) 
LOCATION:vhs, Schulungsraum 015, Katharinenstraße 18, 72072 Tübingen
END:VEVENT
BEGIN:VEVENT
DTSTAMP:20260421T210230
DTSTART;TZID=Europe/Berlin:20260924T180000
DTEND;TZID=Europe/Berlin:20260924T211500
UID:261-473302-20260924T180000@VHSTÜBINGEN
SUMMARY:Deutsch Intensiv A2.1/ Integrationskurs 302 (Abend) (261-473302) 
LOCATION:vhs, Schulungsraum 015, Katharinenstraße 18, 72072 Tübingen
END:VEVENT
END:VCALENDAR