BEGIN:VCALENDAR
VERSION:2.0
PRODID:https://www.kufer.de/kuferweb / DE
METHOD:PUBLISH
CALSCALE:GREGORIAN
X-WR-TIMEZONE:Europe/Berlin
BEGIN:VTIMEZONE
TZID:Europe/Berlin
X-LIC-LOCATION:Europe/Berlin
BEGIN:DAYLIGHT
TZOFFSETFROM:+0100
TZOFFSETTO:+0200
TZNAME:CEST
DTSTART:19700329T020000
RRULE:FREQ=YEARLY;INTERVAL=1;BYDAY=-1SU;BYMONTH=3
END:DAYLIGHT
BEGIN:STANDARD
TZOFFSETFROM:+0200
TZOFFSETTO:+0100
TZNAME:CET
DTSTART:19701025T030000
RRULE:FREQ=YEARLY;INTERVAL=1;BYDAY=-1SU;BYMONTH=10
END:STANDARD
END:VTIMEZONE
BEGIN:VEVENT
DTSTAMP:20260421T174729
DTSTART;TZID=Europe/Berlin:20260413T133000
DTEND;TZID=Europe/Berlin:20260413T173500
UID:261-473303-20260413T133000@VHSTÜBINGEN
SUMMARY:Deutsch Intensiv A2.1 / Integrationskurs 303 (261-473303) 
LOCATION:vhs, Schulungsraum 215, Katharinenstraße 18, 72072 Tübingen
END:VEVENT
BEGIN:VEVENT
DTSTAMP:20260421T174729
DTSTART;TZID=Europe/Berlin:20260414T133000
DTEND;TZID=Europe/Berlin:20260414T173500
UID:261-473303-20260414T133000@VHSTÜBINGEN
SUMMARY:Deutsch Intensiv A2.1 / Integrationskurs 303 (261-473303) 
LOCATION:vhs, Schulungsraum 215, Katharinenstraße 18, 72072 Tübingen
END:VEVENT
BEGIN:VEVENT
DTSTAMP:20260421T174729
DTSTART;TZID=Europe/Berlin:20260416T140000
DTEND;TZID=Europe/Berlin:20260416T181500
UID:261-473303-20260416T140000@VHSTÜBINGEN
SUMMARY:Deutsch Intensiv A2.1 / Integrationskurs 303 (261-473303) 
LOCATION:vhs, Schulungsraum 215, Katharinenstraße 18, 72072 Tübingen
END:VEVENT
BEGIN:VEVENT
DTSTAMP:20260421T174729
DTSTART;TZID=Europe/Berlin:20260417T133000
DTEND;TZID=Europe/Berlin:20260417T173500
UID:261-473303-20260417T133000@VHSTÜBINGEN
SUMMARY:Deutsch Intensiv A2.1 / Integrationskurs 303 (261-473303) 
LOCATION:vhs, Schulungsraum 215, Katharinenstraße 18, 72072 Tübingen
END:VEVENT
BEGIN:VEVENT
DTSTAMP:20260421T174729
DTSTART;TZID=Europe/Berlin:20260420T133000
DTEND;TZID=Europe/Berlin:20260420T173500
UID:261-473303-20260420T133000@VHSTÜBINGEN
SUMMARY:Deutsch Intensiv A2.1 / Integrationskurs 303 (261-473303) 
LOCATION:vhs, Schulungsraum 215, Katharinenstraße 18, 72072 Tübingen
END:VEVENT
BEGIN:VEVENT
DTSTAMP:20260421T174729
DTSTART;TZID=Europe/Berlin:20260421T133000
DTEND;TZID=Europe/Berlin:20260421T173500
UID:261-473303-20260421T133000@VHSTÜBINGEN
SUMMARY:Deutsch Intensiv A2.1 / Integrationskurs 303 (261-473303) 
LOCATION:vhs, Schulungsraum 215, Katharinenstraße 18, 72072 Tübingen
END:VEVENT
BEGIN:VEVENT
DTSTAMP:20260421T174729
DTSTART;TZID=Europe/Berlin:20260423T140000
DTEND;TZID=Europe/Berlin:20260423T181500
UID:261-473303-20260423T140000@VHSTÜBINGEN
SUMMARY:Deutsch Intensiv A2.1 / Integrationskurs 303 (261-473303) 
LOCATION:vhs, Schulungsraum 215, Katharinenstraße 18, 72072 Tübingen
END:VEVENT
BEGIN:VEVENT
DTSTAMP:20260421T174729
DTSTART;TZID=Europe/Berlin:20260424T140000
DTEND;TZID=Europe/Berlin:20260424T181500
UID:261-473303-20260424T140000@VHSTÜBINGEN
SUMMARY:Deutsch Intensiv A2.1 / Integrationskurs 303 (261-473303) 
LOCATION:vhs, Schulungsraum 215, Katharinenstraße 18, 72072 Tübingen
END:VEVENT
BEGIN:VEVENT
DTSTAMP:20260421T174729
DTSTART;TZID=Europe/Berlin:20260427T133000
DTEND;TZID=Europe/Berlin:20260427T173500
UID:261-473303-20260427T133000@VHSTÜBINGEN
SUMMARY:Deutsch Intensiv A2.1 / Integrationskurs 303 (261-473303) 
LOCATION:vhs, Schulungsraum 215, Katharinenstraße 18, 72072 Tübingen
END:VEVENT
BEGIN:VEVENT
DTSTAMP:20260421T174729
DTSTART;TZID=Europe/Berlin:20260428T133000
DTEND;TZID=Europe/Berlin:20260428T173500
UID:261-473303-20260428T133000@VHSTÜBINGEN
SUMMARY:Deutsch Intensiv A2.1 / Integrationskurs 303 (261-473303) 
LOCATION:vhs, Schulungsraum 215, Katharinenstraße 18, 72072 Tübingen
END:VEVENT
BEGIN:VEVENT
DTSTAMP:20260421T174729
DTSTART;TZID=Europe/Berlin:20260430T140000
DTEND;TZID=Europe/Berlin:20260430T181500
UID:261-473303-20260430T140000@VHSTÜBINGEN
SUMMARY:Deutsch Intensiv A2.1 / Integrationskurs 303 (261-473303) 
LOCATION:vhs, Schulungsraum 215, Katharinenstraße 18, 72072 Tübingen
END:VEVENT
BEGIN:VEVENT
DTSTAMP:20260421T174729
DTSTART;TZID=Europe/Berlin:20260504T133000
DTEND;TZID=Europe/Berlin:20260504T173500
UID:261-473303-20260504T133000@VHSTÜBINGEN
SUMMARY:Deutsch Intensiv A2.1 / Integrationskurs 303 (261-473303) 
LOCATION:vhs, Schulungsraum 215, Katharinenstraße 18, 72072 Tübingen
END:VEVENT
BEGIN:VEVENT
DTSTAMP:20260421T174729
DTSTART;TZID=Europe/Berlin:20260505T133000
DTEND;TZID=Europe/Berlin:20260505T173500
UID:261-473303-20260505T133000@VHSTÜBINGEN
SUMMARY:Deutsch Intensiv A2.1 / Integrationskurs 303 (261-473303) 
LOCATION:vhs, Schulungsraum 215, Katharinenstraße 18, 72072 Tübingen
END:VEVENT
BEGIN:VEVENT
DTSTAMP:20260421T174729
DTSTART;TZID=Europe/Berlin:20260507T140000
DTEND;TZID=Europe/Berlin:20260507T181500
UID:261-473303-20260507T140000@VHSTÜBINGEN
SUMMARY:Deutsch Intensiv A2.1 / Integrationskurs 303 (261-473303) 
LOCATION:vhs, Schulungsraum 215, Katharinenstraße 18, 72072 Tübingen
END:VEVENT
BEGIN:VEVENT
DTSTAMP:20260421T174729
DTSTART;TZID=Europe/Berlin:20260508T140000
DTEND;TZID=Europe/Berlin:20260508T181500
UID:261-473303-20260508T140000@VHSTÜBINGEN
SUMMARY:Deutsch Intensiv A2.1 / Integrationskurs 303 (261-473303) 
LOCATION:vhs, Schulungsraum 215, Katharinenstraße 18, 72072 Tübingen
END:VEVENT
BEGIN:VEVENT
DTSTAMP:20260421T174729
DTSTART;TZID=Europe/Berlin:20260511T133000
DTEND;TZID=Europe/Berlin:20260511T173500
UID:261-473303-20260511T133000@VHSTÜBINGEN
SUMMARY:Deutsch Intensiv A2.1 / Integrationskurs 303 (261-473303) 
LOCATION:vhs, Schulungsraum 215, Katharinenstraße 18, 72072 Tübingen
END:VEVENT
BEGIN:VEVENT
DTSTAMP:20260421T174729
DTSTART;TZID=Europe/Berlin:20260512T133000
DTEND;TZID=Europe/Berlin:20260512T173500
UID:261-473303-20260512T133000@VHSTÜBINGEN
DESCRIPTION:Exkursion - vorher aber im Haus!
SUMMARY:Deutsch Intensiv A2.1 / Integrationskurs 303 (261-473303) 
LOCATION:vhs, Schulungsraum 215, Katharinenstraße 18, 72072 Tübingen
END:VEVENT
BEGIN:VEVENT
DTSTAMP:20260421T174729
DTSTART;TZID=Europe/Berlin:20260515T140000
DTEND;TZID=Europe/Berlin:20260515T181500
UID:261-473303-20260515T140000@VHSTÜBINGEN
SUMMARY:Deutsch Intensiv A2.1 / Integrationskurs 303 (261-473303) 
LOCATION:vhs, Schulungsraum 215, Katharinenstraße 18, 72072 Tübingen
END:VEVENT
BEGIN:VEVENT
DTSTAMP:20260421T174729
DTSTART;TZID=Europe/Berlin:20260519T133000
DTEND;TZID=Europe/Berlin:20260519T173500
UID:261-473303-20260519T133000@VHSTÜBINGEN
SUMMARY:Deutsch Intensiv A2.1 / Integrationskurs 303 (261-473303) 
LOCATION:vhs, Schulungsraum 215, Katharinenstraße 18, 72072 Tübingen
END:VEVENT
BEGIN:VEVENT
DTSTAMP:20260421T174729
DTSTART;TZID=Europe/Berlin:20260520T133000
DTEND;TZID=Europe/Berlin:20260520T173500
UID:261-473303-20260520T133000@VHSTÜBINGEN
SUMMARY:Deutsch Intensiv A2.1 / Integrationskurs 303 (261-473303) 
LOCATION:vhs, Schulungsraum 215, Katharinenstraße 18, 72072 Tübingen
END:VEVENT
END:VCALENDAR