BEGIN:VCALENDAR
VERSION:2.0
PRODID:https://www.kufer.de/kuferweb / DE
METHOD:PUBLISH
CALSCALE:GREGORIAN
X-WR-TIMEZONE:Europe/Berlin
BEGIN:VTIMEZONE
TZID:Europe/Berlin
X-LIC-LOCATION:Europe/Berlin
BEGIN:DAYLIGHT
TZOFFSETFROM:+0100
TZOFFSETTO:+0200
TZNAME:CEST
DTSTART:19700329T020000
RRULE:FREQ=YEARLY;INTERVAL=1;BYDAY=-1SU;BYMONTH=3
END:DAYLIGHT
BEGIN:STANDARD
TZOFFSETFROM:+0200
TZOFFSETTO:+0100
TZNAME:CET
DTSTART:19701025T030000
RRULE:FREQ=YEARLY;INTERVAL=1;BYDAY=-1SU;BYMONTH=10
END:STANDARD
END:VTIMEZONE
BEGIN:VEVENT
DTSTAMP:20260421T184726
DTSTART;TZID=Europe/Berlin:20260520T083000
DTEND;TZID=Europe/Berlin:20260520T120000
UID:261-473307-20260520T083000@VHSTÜBINGEN
SUMMARY:Deutsch Intensiv A2.1 / Integrationskurs 307 (261-473307) 
LOCATION:vhs, Schulungsraum 017, Katharinenstraße 18, 72072 Tübingen
END:VEVENT
BEGIN:VEVENT
DTSTAMP:20260421T184726
DTSTART;TZID=Europe/Berlin:20260521T083000
DTEND;TZID=Europe/Berlin:20260521T120000
UID:261-473307-20260521T083000@VHSTÜBINGEN
SUMMARY:Deutsch Intensiv A2.1 / Integrationskurs 307 (261-473307) 
LOCATION:vhs, Schulungsraum 017, Katharinenstraße 18, 72072 Tübingen
END:VEVENT
BEGIN:VEVENT
DTSTAMP:20260421T184726
DTSTART;TZID=Europe/Berlin:20260522T083000
DTEND;TZID=Europe/Berlin:20260522T120000
UID:261-473307-20260522T083000@VHSTÜBINGEN
SUMMARY:Deutsch Intensiv A2.1 / Integrationskurs 307 (261-473307) 
LOCATION:vhs, Schulungsraum 017, Katharinenstraße 18, 72072 Tübingen
END:VEVENT
BEGIN:VEVENT
DTSTAMP:20260421T184726
DTSTART;TZID=Europe/Berlin:20260608T083000
DTEND;TZID=Europe/Berlin:20260608T120000
UID:261-473307-20260608T083000@VHSTÜBINGEN
SUMMARY:Deutsch Intensiv A2.1 / Integrationskurs 307 (261-473307) 
LOCATION:vhs, Schulungsraum 017, Katharinenstraße 18, 72072 Tübingen
END:VEVENT
BEGIN:VEVENT
DTSTAMP:20260421T184726
DTSTART;TZID=Europe/Berlin:20260609T083000
DTEND;TZID=Europe/Berlin:20260609T120000
UID:261-473307-20260609T083000@VHSTÜBINGEN
SUMMARY:Deutsch Intensiv A2.1 / Integrationskurs 307 (261-473307) 
LOCATION:vhs, Schulungsraum 017, Katharinenstraße 18, 72072 Tübingen
END:VEVENT
BEGIN:VEVENT
DTSTAMP:20260421T184726
DTSTART;TZID=Europe/Berlin:20260610T083000
DTEND;TZID=Europe/Berlin:20260610T120000
UID:261-473307-20260610T083000@VHSTÜBINGEN
SUMMARY:Deutsch Intensiv A2.1 / Integrationskurs 307 (261-473307) 
LOCATION:vhs, Schulungsraum 017, Katharinenstraße 18, 72072 Tübingen
END:VEVENT
BEGIN:VEVENT
DTSTAMP:20260421T184726
DTSTART;TZID=Europe/Berlin:20260611T083000
DTEND;TZID=Europe/Berlin:20260611T120000
UID:261-473307-20260611T083000@VHSTÜBINGEN
SUMMARY:Deutsch Intensiv A2.1 / Integrationskurs 307 (261-473307) 
LOCATION:vhs, Schulungsraum 017, Katharinenstraße 18, 72072 Tübingen
END:VEVENT
BEGIN:VEVENT
DTSTAMP:20260421T184726
DTSTART;TZID=Europe/Berlin:20260612T083000
DTEND;TZID=Europe/Berlin:20260612T120000
UID:261-473307-20260612T083000@VHSTÜBINGEN
SUMMARY:Deutsch Intensiv A2.1 / Integrationskurs 307 (261-473307) 
LOCATION:vhs, Schulungsraum 017, Katharinenstraße 18, 72072 Tübingen
END:VEVENT
BEGIN:VEVENT
DTSTAMP:20260421T184726
DTSTART;TZID=Europe/Berlin:20260615T083000
DTEND;TZID=Europe/Berlin:20260615T120000
UID:261-473307-20260615T083000@VHSTÜBINGEN
SUMMARY:Deutsch Intensiv A2.1 / Integrationskurs 307 (261-473307) 
LOCATION:vhs, Schulungsraum 017, Katharinenstraße 18, 72072 Tübingen
END:VEVENT
BEGIN:VEVENT
DTSTAMP:20260421T184726
DTSTART;TZID=Europe/Berlin:20260616T083000
DTEND;TZID=Europe/Berlin:20260616T120000
UID:261-473307-20260616T083000@VHSTÜBINGEN
SUMMARY:Deutsch Intensiv A2.1 / Integrationskurs 307 (261-473307) 
LOCATION:vhs, Schulungsraum 017, Katharinenstraße 18, 72072 Tübingen
END:VEVENT
BEGIN:VEVENT
DTSTAMP:20260421T184726
DTSTART;TZID=Europe/Berlin:20260617T083000
DTEND;TZID=Europe/Berlin:20260617T120000
UID:261-473307-20260617T083000@VHSTÜBINGEN
SUMMARY:Deutsch Intensiv A2.1 / Integrationskurs 307 (261-473307) 
LOCATION:vhs, Schulungsraum 017, Katharinenstraße 18, 72072 Tübingen
END:VEVENT
BEGIN:VEVENT
DTSTAMP:20260421T184726
DTSTART;TZID=Europe/Berlin:20260618T083000
DTEND;TZID=Europe/Berlin:20260618T120000
UID:261-473307-20260618T083000@VHSTÜBINGEN
SUMMARY:Deutsch Intensiv A2.1 / Integrationskurs 307 (261-473307) 
LOCATION:vhs, Schulungsraum 017, Katharinenstraße 18, 72072 Tübingen
END:VEVENT
BEGIN:VEVENT
DTSTAMP:20260421T184726
DTSTART;TZID=Europe/Berlin:20260619T083000
DTEND;TZID=Europe/Berlin:20260619T120000
UID:261-473307-20260619T083000@VHSTÜBINGEN
SUMMARY:Deutsch Intensiv A2.1 / Integrationskurs 307 (261-473307) 
LOCATION:vhs, Schulungsraum 017, Katharinenstraße 18, 72072 Tübingen
END:VEVENT
BEGIN:VEVENT
DTSTAMP:20260421T184726
DTSTART;TZID=Europe/Berlin:20260622T083000
DTEND;TZID=Europe/Berlin:20260622T120000
UID:261-473307-20260622T083000@VHSTÜBINGEN
SUMMARY:Deutsch Intensiv A2.1 / Integrationskurs 307 (261-473307) 
LOCATION:vhs, Schulungsraum 017, Katharinenstraße 18, 72072 Tübingen
END:VEVENT
BEGIN:VEVENT
DTSTAMP:20260421T184726
DTSTART;TZID=Europe/Berlin:20260623T083000
DTEND;TZID=Europe/Berlin:20260623T120000
UID:261-473307-20260623T083000@VHSTÜBINGEN
SUMMARY:Deutsch Intensiv A2.1 / Integrationskurs 307 (261-473307) 
LOCATION:vhs, Schulungsraum 017, Katharinenstraße 18, 72072 Tübingen
END:VEVENT
BEGIN:VEVENT
DTSTAMP:20260421T184726
DTSTART;TZID=Europe/Berlin:20260624T083000
DTEND;TZID=Europe/Berlin:20260624T120000
UID:261-473307-20260624T083000@VHSTÜBINGEN
SUMMARY:Deutsch Intensiv A2.1 / Integrationskurs 307 (261-473307) 
LOCATION:vhs, Schulungsraum 017, Katharinenstraße 18, 72072 Tübingen
END:VEVENT
BEGIN:VEVENT
DTSTAMP:20260421T184726
DTSTART;TZID=Europe/Berlin:20260625T083000
DTEND;TZID=Europe/Berlin:20260625T120000
UID:261-473307-20260625T083000@VHSTÜBINGEN
SUMMARY:Deutsch Intensiv A2.1 / Integrationskurs 307 (261-473307) 
LOCATION:vhs, Schulungsraum 017, Katharinenstraße 18, 72072 Tübingen
END:VEVENT
BEGIN:VEVENT
DTSTAMP:20260421T184726
DTSTART;TZID=Europe/Berlin:20260626T083000
DTEND;TZID=Europe/Berlin:20260626T120000
UID:261-473307-20260626T083000@VHSTÜBINGEN
SUMMARY:Deutsch Intensiv A2.1 / Integrationskurs 307 (261-473307) 
LOCATION:vhs, Schulungsraum 017, Katharinenstraße 18, 72072 Tübingen
END:VEVENT
BEGIN:VEVENT
DTSTAMP:20260421T184726
DTSTART;TZID=Europe/Berlin:20260629T083000
DTEND;TZID=Europe/Berlin:20260629T120000
UID:261-473307-20260629T083000@VHSTÜBINGEN
SUMMARY:Deutsch Intensiv A2.1 / Integrationskurs 307 (261-473307) 
LOCATION:vhs, Schulungsraum 017, Katharinenstraße 18, 72072 Tübingen
END:VEVENT
BEGIN:VEVENT
DTSTAMP:20260421T184726
DTSTART;TZID=Europe/Berlin:20260630T083000
DTEND;TZID=Europe/Berlin:20260630T120000
UID:261-473307-20260630T083000@VHSTÜBINGEN
SUMMARY:Deutsch Intensiv A2.1 / Integrationskurs 307 (261-473307) 
LOCATION:vhs, Schulungsraum 017, Katharinenstraße 18, 72072 Tübingen
END:VEVENT
BEGIN:VEVENT
DTSTAMP:20260421T184726
DTSTART;TZID=Europe/Berlin:20260701T083000
DTEND;TZID=Europe/Berlin:20260701T120000
UID:261-473307-20260701T083000@VHSTÜBINGEN
SUMMARY:Deutsch Intensiv A2.1 / Integrationskurs 307 (261-473307) 
LOCATION:vhs, Schulungsraum 017, Katharinenstraße 18, 72072 Tübingen
END:VEVENT
BEGIN:VEVENT
DTSTAMP:20260421T184726
DTSTART;TZID=Europe/Berlin:20260702T083000
DTEND;TZID=Europe/Berlin:20260702T120000
UID:261-473307-20260702T083000@VHSTÜBINGEN
SUMMARY:Deutsch Intensiv A2.1 / Integrationskurs 307 (261-473307) 
LOCATION:vhs, Schulungsraum 017, Katharinenstraße 18, 72072 Tübingen
END:VEVENT
BEGIN:VEVENT
DTSTAMP:20260421T184726
DTSTART;TZID=Europe/Berlin:20260703T083000
DTEND;TZID=Europe/Berlin:20260703T120000
UID:261-473307-20260703T083000@VHSTÜBINGEN
SUMMARY:Deutsch Intensiv A2.1 / Integrationskurs 307 (261-473307) 
LOCATION:vhs, Schulungsraum 017, Katharinenstraße 18, 72072 Tübingen
END:VEVENT
BEGIN:VEVENT
DTSTAMP:20260421T184726
DTSTART;TZID=Europe/Berlin:20260706T083000
DTEND;TZID=Europe/Berlin:20260706T120000
UID:261-473307-20260706T083000@VHSTÜBINGEN
SUMMARY:Deutsch Intensiv A2.1 / Integrationskurs 307 (261-473307) 
LOCATION:vhs, Schulungsraum 017, Katharinenstraße 18, 72072 Tübingen
END:VEVENT
BEGIN:VEVENT
DTSTAMP:20260421T184726
DTSTART;TZID=Europe/Berlin:20260707T083000
DTEND;TZID=Europe/Berlin:20260707T120000
UID:261-473307-20260707T083000@VHSTÜBINGEN
SUMMARY:Deutsch Intensiv A2.1 / Integrationskurs 307 (261-473307) 
LOCATION:vhs, Schulungsraum 017, Katharinenstraße 18, 72072 Tübingen
END:VEVENT
END:VCALENDAR