BEGIN:VCALENDAR
VERSION:2.0
PRODID:https://www.kufer.de/kuferweb / DE
METHOD:PUBLISH
CALSCALE:GREGORIAN
X-WR-TIMEZONE:Europe/Berlin
BEGIN:VTIMEZONE
TZID:Europe/Berlin
X-LIC-LOCATION:Europe/Berlin
BEGIN:DAYLIGHT
TZOFFSETFROM:+0100
TZOFFSETTO:+0200
TZNAME:CEST
DTSTART:19700329T020000
RRULE:FREQ=YEARLY;INTERVAL=1;BYDAY=-1SU;BYMONTH=3
END:DAYLIGHT
BEGIN:STANDARD
TZOFFSETFROM:+0200
TZOFFSETTO:+0100
TZNAME:CET
DTSTART:19701025T030000
RRULE:FREQ=YEARLY;INTERVAL=1;BYDAY=-1SU;BYMONTH=10
END:STANDARD
END:VTIMEZONE
BEGIN:VEVENT
DTSTAMP:20260421T202238
DTSTART;TZID=Europe/Berlin:20260317T083000
DTEND;TZID=Europe/Berlin:20260317T120000
UID:261-474296-20260317T083000@VHSTÜBINGEN
SUMMARY:Alphabetisierungskurs Abschnitt 4 Kurs 296 (261-474296) 
LOCATION:vhs, Schulungsraum 311, Katharinenstraße 18, 72072 Tübingen
END:VEVENT
BEGIN:VEVENT
DTSTAMP:20260421T202238
DTSTART;TZID=Europe/Berlin:20260318T083000
DTEND;TZID=Europe/Berlin:20260318T120000
UID:261-474296-20260318T083000@VHSTÜBINGEN
SUMMARY:Alphabetisierungskurs Abschnitt 4 Kurs 296 (261-474296) 
LOCATION:vhs, Schulungsraum 311, Katharinenstraße 18, 72072 Tübingen
END:VEVENT
BEGIN:VEVENT
DTSTAMP:20260421T202238
DTSTART;TZID=Europe/Berlin:20260319T083000
DTEND;TZID=Europe/Berlin:20260319T120000
UID:261-474296-20260319T083000@VHSTÜBINGEN
SUMMARY:Alphabetisierungskurs Abschnitt 4 Kurs 296 (261-474296) 
LOCATION:vhs, Schulungsraum 311, Katharinenstraße 18, 72072 Tübingen
END:VEVENT
BEGIN:VEVENT
DTSTAMP:20260421T202238
DTSTART;TZID=Europe/Berlin:20260323T083000
DTEND;TZID=Europe/Berlin:20260323T120000
UID:261-474296-20260323T083000@VHSTÜBINGEN
SUMMARY:Alphabetisierungskurs Abschnitt 4 Kurs 296 (261-474296) 
LOCATION:vhs, Schulungsraum 311, Katharinenstraße 18, 72072 Tübingen
END:VEVENT
BEGIN:VEVENT
DTSTAMP:20260421T202238
DTSTART;TZID=Europe/Berlin:20260324T083000
DTEND;TZID=Europe/Berlin:20260324T120000
UID:261-474296-20260324T083000@VHSTÜBINGEN
SUMMARY:Alphabetisierungskurs Abschnitt 4 Kurs 296 (261-474296) 
LOCATION:vhs, Schulungsraum 311, Katharinenstraße 18, 72072 Tübingen
END:VEVENT
BEGIN:VEVENT
DTSTAMP:20260421T202238
DTSTART;TZID=Europe/Berlin:20260325T083000
DTEND;TZID=Europe/Berlin:20260325T120000
UID:261-474296-20260325T083000@VHSTÜBINGEN
SUMMARY:Alphabetisierungskurs Abschnitt 4 Kurs 296 (261-474296) 
LOCATION:vhs, Schulungsraum 311, Katharinenstraße 18, 72072 Tübingen
END:VEVENT
BEGIN:VEVENT
DTSTAMP:20260421T202238
DTSTART;TZID=Europe/Berlin:20260326T083000
DTEND;TZID=Europe/Berlin:20260326T120000
UID:261-474296-20260326T083000@VHSTÜBINGEN
SUMMARY:Alphabetisierungskurs Abschnitt 4 Kurs 296 (261-474296) 
LOCATION:vhs, Schulungsraum 311, Katharinenstraße 18, 72072 Tübingen
END:VEVENT
BEGIN:VEVENT
DTSTAMP:20260421T202238
DTSTART;TZID=Europe/Berlin:20260327T083000
DTEND;TZID=Europe/Berlin:20260327T120000
UID:261-474296-20260327T083000@VHSTÜBINGEN
SUMMARY:Alphabetisierungskurs Abschnitt 4 Kurs 296 (261-474296) 
LOCATION:vhs, Schulungsraum 311, Katharinenstraße 18, 72072 Tübingen
END:VEVENT
BEGIN:VEVENT
DTSTAMP:20260421T202238
DTSTART;TZID=Europe/Berlin:20260330T083000
DTEND;TZID=Europe/Berlin:20260330T120000
UID:261-474296-20260330T083000@VHSTÜBINGEN
SUMMARY:Alphabetisierungskurs Abschnitt 4 Kurs 296 (261-474296) 
LOCATION:vhs, Schulungsraum 311, Katharinenstraße 18, 72072 Tübingen
END:VEVENT
BEGIN:VEVENT
DTSTAMP:20260421T202238
DTSTART;TZID=Europe/Berlin:20260331T083000
DTEND;TZID=Europe/Berlin:20260331T120000
UID:261-474296-20260331T083000@VHSTÜBINGEN
SUMMARY:Alphabetisierungskurs Abschnitt 4 Kurs 296 (261-474296) 
LOCATION:vhs, Schulungsraum 311, Katharinenstraße 18, 72072 Tübingen
END:VEVENT
BEGIN:VEVENT
DTSTAMP:20260421T202238
DTSTART;TZID=Europe/Berlin:20260413T083000
DTEND;TZID=Europe/Berlin:20260413T120000
UID:261-474296-20260413T083000@VHSTÜBINGEN
SUMMARY:Alphabetisierungskurs Abschnitt 4 Kurs 296 (261-474296) 
LOCATION:vhs, Schulungsraum 311, Katharinenstraße 18, 72072 Tübingen
END:VEVENT
BEGIN:VEVENT
DTSTAMP:20260421T202238
DTSTART;TZID=Europe/Berlin:20260414T083000
DTEND;TZID=Europe/Berlin:20260414T120000
UID:261-474296-20260414T083000@VHSTÜBINGEN
SUMMARY:Alphabetisierungskurs Abschnitt 4 Kurs 296 (261-474296) 
LOCATION:vhs, Schulungsraum 311, Katharinenstraße 18, 72072 Tübingen
END:VEVENT
BEGIN:VEVENT
DTSTAMP:20260421T202238
DTSTART;TZID=Europe/Berlin:20260415T083000
DTEND;TZID=Europe/Berlin:20260415T120000
UID:261-474296-20260415T083000@VHSTÜBINGEN
SUMMARY:Alphabetisierungskurs Abschnitt 4 Kurs 296 (261-474296) 
LOCATION:vhs, Schulungsraum 311, Katharinenstraße 18, 72072 Tübingen
END:VEVENT
BEGIN:VEVENT
DTSTAMP:20260421T202238
DTSTART;TZID=Europe/Berlin:20260416T083000
DTEND;TZID=Europe/Berlin:20260416T120000
UID:261-474296-20260416T083000@VHSTÜBINGEN
SUMMARY:Alphabetisierungskurs Abschnitt 4 Kurs 296 (261-474296) 
LOCATION:vhs, Schulungsraum 311, Katharinenstraße 18, 72072 Tübingen
END:VEVENT
BEGIN:VEVENT
DTSTAMP:20260421T202238
DTSTART;TZID=Europe/Berlin:20260417T083000
DTEND;TZID=Europe/Berlin:20260417T120000
UID:261-474296-20260417T083000@VHSTÜBINGEN
SUMMARY:Alphabetisierungskurs Abschnitt 4 Kurs 296 (261-474296) 
LOCATION:vhs, Schulungsraum 311, Katharinenstraße 18, 72072 Tübingen
END:VEVENT
BEGIN:VEVENT
DTSTAMP:20260421T202238
DTSTART;TZID=Europe/Berlin:20260420T083000
DTEND;TZID=Europe/Berlin:20260420T120000
UID:261-474296-20260420T083000@VHSTÜBINGEN
SUMMARY:Alphabetisierungskurs Abschnitt 4 Kurs 296 (261-474296) 
LOCATION:vhs, Schulungsraum 311, Katharinenstraße 18, 72072 Tübingen
END:VEVENT
BEGIN:VEVENT
DTSTAMP:20260421T202238
DTSTART;TZID=Europe/Berlin:20260421T083000
DTEND;TZID=Europe/Berlin:20260421T120000
UID:261-474296-20260421T083000@VHSTÜBINGEN
SUMMARY:Alphabetisierungskurs Abschnitt 4 Kurs 296 (261-474296) 
LOCATION:vhs, Schulungsraum 311, Katharinenstraße 18, 72072 Tübingen
END:VEVENT
BEGIN:VEVENT
DTSTAMP:20260421T202238
DTSTART;TZID=Europe/Berlin:20260422T083000
DTEND;TZID=Europe/Berlin:20260422T120000
UID:261-474296-20260422T083000@VHSTÜBINGEN
SUMMARY:Alphabetisierungskurs Abschnitt 4 Kurs 296 (261-474296) 
LOCATION:vhs, Schulungsraum 311, Katharinenstraße 18, 72072 Tübingen
END:VEVENT
BEGIN:VEVENT
DTSTAMP:20260421T202238
DTSTART;TZID=Europe/Berlin:20260423T083000
DTEND;TZID=Europe/Berlin:20260423T120000
UID:261-474296-20260423T083000@VHSTÜBINGEN
SUMMARY:Alphabetisierungskurs Abschnitt 4 Kurs 296 (261-474296) 
LOCATION:vhs, Schulungsraum 311, Katharinenstraße 18, 72072 Tübingen
END:VEVENT
BEGIN:VEVENT
DTSTAMP:20260421T202238
DTSTART;TZID=Europe/Berlin:20260424T083000
DTEND;TZID=Europe/Berlin:20260424T120000
UID:261-474296-20260424T083000@VHSTÜBINGEN
SUMMARY:Alphabetisierungskurs Abschnitt 4 Kurs 296 (261-474296) 
LOCATION:vhs, Schulungsraum 311, Katharinenstraße 18, 72072 Tübingen
END:VEVENT
BEGIN:VEVENT
DTSTAMP:20260421T202238
DTSTART;TZID=Europe/Berlin:20260427T083000
DTEND;TZID=Europe/Berlin:20260427T120000
UID:261-474296-20260427T083000@VHSTÜBINGEN
SUMMARY:Alphabetisierungskurs Abschnitt 4 Kurs 296 (261-474296) 
LOCATION:vhs, Schulungsraum 311, Katharinenstraße 18, 72072 Tübingen
END:VEVENT
BEGIN:VEVENT
DTSTAMP:20260421T202238
DTSTART;TZID=Europe/Berlin:20260428T083000
DTEND;TZID=Europe/Berlin:20260428T120000
UID:261-474296-20260428T083000@VHSTÜBINGEN
SUMMARY:Alphabetisierungskurs Abschnitt 4 Kurs 296 (261-474296) 
LOCATION:vhs, Schulungsraum 311, Katharinenstraße 18, 72072 Tübingen
END:VEVENT
BEGIN:VEVENT
DTSTAMP:20260421T202238
DTSTART;TZID=Europe/Berlin:20260429T083000
DTEND;TZID=Europe/Berlin:20260429T120000
UID:261-474296-20260429T083000@VHSTÜBINGEN
SUMMARY:Alphabetisierungskurs Abschnitt 4 Kurs 296 (261-474296) 
LOCATION:vhs, Schulungsraum 311, Katharinenstraße 18, 72072 Tübingen
END:VEVENT
BEGIN:VEVENT
DTSTAMP:20260421T202238
DTSTART;TZID=Europe/Berlin:20260430T083000
DTEND;TZID=Europe/Berlin:20260430T120000
UID:261-474296-20260430T083000@VHSTÜBINGEN
SUMMARY:Alphabetisierungskurs Abschnitt 4 Kurs 296 (261-474296) 
LOCATION:vhs, Schulungsraum 311, Katharinenstraße 18, 72072 Tübingen
END:VEVENT
BEGIN:VEVENT
DTSTAMP:20260421T202238
DTSTART;TZID=Europe/Berlin:20260504T083000
DTEND;TZID=Europe/Berlin:20260504T120000
UID:261-474296-20260504T083000@VHSTÜBINGEN
SUMMARY:Alphabetisierungskurs Abschnitt 4 Kurs 296 (261-474296) 
LOCATION:vhs, Schulungsraum 311, Katharinenstraße 18, 72072 Tübingen
END:VEVENT
END:VCALENDAR