BEGIN:VCALENDAR
VERSION:2.0
PRODID:https://www.kufer.de/kuferweb / DE
METHOD:PUBLISH
CALSCALE:GREGORIAN
X-WR-TIMEZONE:Europe/Berlin
BEGIN:VTIMEZONE
TZID:Europe/Berlin
X-LIC-LOCATION:Europe/Berlin
BEGIN:DAYLIGHT
TZOFFSETFROM:+0100
TZOFFSETTO:+0200
TZNAME:CEST
DTSTART:19700329T020000
RRULE:FREQ=YEARLY;INTERVAL=1;BYDAY=-1SU;BYMONTH=3
END:DAYLIGHT
BEGIN:STANDARD
TZOFFSETFROM:+0200
TZOFFSETTO:+0100
TZNAME:CET
DTSTART:19701025T030000
RRULE:FREQ=YEARLY;INTERVAL=1;BYDAY=-1SU;BYMONTH=10
END:STANDARD
END:VTIMEZONE
BEGIN:VEVENT
DTSTAMP:20260421T174731
DTSTART;TZID=Europe/Berlin:20260413T133000
DTEND;TZID=Europe/Berlin:20260413T170000
UID:261-474299-20260413T133000@VHSTÜBINGEN
SUMMARY:Deutsch Intensiv A2.2 / Integrationskurs 299 (261-474299) 
LOCATION:vhs, Schulungsraum 015, Katharinenstraße 18, 72072 Tübingen
END:VEVENT
BEGIN:VEVENT
DTSTAMP:20260421T174731
DTSTART;TZID=Europe/Berlin:20260414T133000
DTEND;TZID=Europe/Berlin:20260414T170000
UID:261-474299-20260414T133000@VHSTÜBINGEN
SUMMARY:Deutsch Intensiv A2.2 / Integrationskurs 299 (261-474299) 
LOCATION:vhs, Schulungsraum 015, Katharinenstraße 18, 72072 Tübingen
END:VEVENT
BEGIN:VEVENT
DTSTAMP:20260421T174731
DTSTART;TZID=Europe/Berlin:20260415T133000
DTEND;TZID=Europe/Berlin:20260415T170000
UID:261-474299-20260415T133000@VHSTÜBINGEN
SUMMARY:Deutsch Intensiv A2.2 / Integrationskurs 299 (261-474299) 
LOCATION:vhs, Schulungsraum 015, Katharinenstraße 18, 72072 Tübingen
END:VEVENT
BEGIN:VEVENT
DTSTAMP:20260421T174731
DTSTART;TZID=Europe/Berlin:20260416T133000
DTEND;TZID=Europe/Berlin:20260416T170000
UID:261-474299-20260416T133000@VHSTÜBINGEN
SUMMARY:Deutsch Intensiv A2.2 / Integrationskurs 299 (261-474299) 
LOCATION:vhs, Schulungsraum 015, Katharinenstraße 18, 72072 Tübingen
END:VEVENT
BEGIN:VEVENT
DTSTAMP:20260421T174731
DTSTART;TZID=Europe/Berlin:20260417T133000
DTEND;TZID=Europe/Berlin:20260417T170000
UID:261-474299-20260417T133000@VHSTÜBINGEN
SUMMARY:Deutsch Intensiv A2.2 / Integrationskurs 299 (261-474299) 
LOCATION:vhs, Schulungsraum 015, Katharinenstraße 18, 72072 Tübingen
END:VEVENT
BEGIN:VEVENT
DTSTAMP:20260421T174731
DTSTART;TZID=Europe/Berlin:20260420T133000
DTEND;TZID=Europe/Berlin:20260420T170000
UID:261-474299-20260420T133000@VHSTÜBINGEN
SUMMARY:Deutsch Intensiv A2.2 / Integrationskurs 299 (261-474299) 
LOCATION:vhs, Schulungsraum 015, Katharinenstraße 18, 72072 Tübingen
END:VEVENT
BEGIN:VEVENT
DTSTAMP:20260421T174731
DTSTART;TZID=Europe/Berlin:20260421T133000
DTEND;TZID=Europe/Berlin:20260421T170000
UID:261-474299-20260421T133000@VHSTÜBINGEN
SUMMARY:Deutsch Intensiv A2.2 / Integrationskurs 299 (261-474299) 
LOCATION:vhs, Schulungsraum 015, Katharinenstraße 18, 72072 Tübingen
END:VEVENT
BEGIN:VEVENT
DTSTAMP:20260421T174731
DTSTART;TZID=Europe/Berlin:20260422T133000
DTEND;TZID=Europe/Berlin:20260422T170000
UID:261-474299-20260422T133000@VHSTÜBINGEN
SUMMARY:Deutsch Intensiv A2.2 / Integrationskurs 299 (261-474299) 
LOCATION:vhs, Schulungsraum 015, Katharinenstraße 18, 72072 Tübingen
END:VEVENT
BEGIN:VEVENT
DTSTAMP:20260421T174731
DTSTART;TZID=Europe/Berlin:20260423T133000
DTEND;TZID=Europe/Berlin:20260423T170000
UID:261-474299-20260423T133000@VHSTÜBINGEN
SUMMARY:Deutsch Intensiv A2.2 / Integrationskurs 299 (261-474299) 
LOCATION:vhs, Schulungsraum 015, Katharinenstraße 18, 72072 Tübingen
END:VEVENT
BEGIN:VEVENT
DTSTAMP:20260421T174731
DTSTART;TZID=Europe/Berlin:20260424T133000
DTEND;TZID=Europe/Berlin:20260424T170000
UID:261-474299-20260424T133000@VHSTÜBINGEN
SUMMARY:Deutsch Intensiv A2.2 / Integrationskurs 299 (261-474299) 
LOCATION:vhs, Schulungsraum 015, Katharinenstraße 18, 72072 Tübingen
END:VEVENT
BEGIN:VEVENT
DTSTAMP:20260421T174731
DTSTART;TZID=Europe/Berlin:20260427T133000
DTEND;TZID=Europe/Berlin:20260427T170000
UID:261-474299-20260427T133000@VHSTÜBINGEN
SUMMARY:Deutsch Intensiv A2.2 / Integrationskurs 299 (261-474299) 
LOCATION:vhs, Schulungsraum 015, Katharinenstraße 18, 72072 Tübingen
END:VEVENT
BEGIN:VEVENT
DTSTAMP:20260421T174731
DTSTART;TZID=Europe/Berlin:20260428T133000
DTEND;TZID=Europe/Berlin:20260428T170000
UID:261-474299-20260428T133000@VHSTÜBINGEN
SUMMARY:Deutsch Intensiv A2.2 / Integrationskurs 299 (261-474299) 
LOCATION:vhs, Schulungsraum 015, Katharinenstraße 18, 72072 Tübingen
END:VEVENT
BEGIN:VEVENT
DTSTAMP:20260421T174731
DTSTART;TZID=Europe/Berlin:20260429T133000
DTEND;TZID=Europe/Berlin:20260429T170000
UID:261-474299-20260429T133000@VHSTÜBINGEN
SUMMARY:Deutsch Intensiv A2.2 / Integrationskurs 299 (261-474299) 
LOCATION:vhs, Schulungsraum 015, Katharinenstraße 18, 72072 Tübingen
END:VEVENT
BEGIN:VEVENT
DTSTAMP:20260421T174731
DTSTART;TZID=Europe/Berlin:20260430T133000
DTEND;TZID=Europe/Berlin:20260430T170000
UID:261-474299-20260430T133000@VHSTÜBINGEN
SUMMARY:Deutsch Intensiv A2.2 / Integrationskurs 299 (261-474299) 
LOCATION:vhs, Schulungsraum 015, Katharinenstraße 18, 72072 Tübingen
END:VEVENT
BEGIN:VEVENT
DTSTAMP:20260421T174731
DTSTART;TZID=Europe/Berlin:20260504T133000
DTEND;TZID=Europe/Berlin:20260504T170000
UID:261-474299-20260504T133000@VHSTÜBINGEN
SUMMARY:Deutsch Intensiv A2.2 / Integrationskurs 299 (261-474299) 
LOCATION:vhs, Schulungsraum 015, Katharinenstraße 18, 72072 Tübingen
END:VEVENT
BEGIN:VEVENT
DTSTAMP:20260421T174731
DTSTART;TZID=Europe/Berlin:20260505T133000
DTEND;TZID=Europe/Berlin:20260505T170000
UID:261-474299-20260505T133000@VHSTÜBINGEN
SUMMARY:Deutsch Intensiv A2.2 / Integrationskurs 299 (261-474299) 
LOCATION:vhs, Schulungsraum 015, Katharinenstraße 18, 72072 Tübingen
END:VEVENT
BEGIN:VEVENT
DTSTAMP:20260421T174731
DTSTART;TZID=Europe/Berlin:20260506T133000
DTEND;TZID=Europe/Berlin:20260506T170000
UID:261-474299-20260506T133000@VHSTÜBINGEN
SUMMARY:Deutsch Intensiv A2.2 / Integrationskurs 299 (261-474299) 
LOCATION:vhs, Schulungsraum 015, Katharinenstraße 18, 72072 Tübingen
END:VEVENT
BEGIN:VEVENT
DTSTAMP:20260421T174731
DTSTART;TZID=Europe/Berlin:20260507T133000
DTEND;TZID=Europe/Berlin:20260507T170000
UID:261-474299-20260507T133000@VHSTÜBINGEN
SUMMARY:Deutsch Intensiv A2.2 / Integrationskurs 299 (261-474299) 
LOCATION:vhs, Schulungsraum 015, Katharinenstraße 18, 72072 Tübingen
END:VEVENT
BEGIN:VEVENT
DTSTAMP:20260421T174731
DTSTART;TZID=Europe/Berlin:20260508T133000
DTEND;TZID=Europe/Berlin:20260508T170000
UID:261-474299-20260508T133000@VHSTÜBINGEN
SUMMARY:Deutsch Intensiv A2.2 / Integrationskurs 299 (261-474299) 
LOCATION:vhs, Schulungsraum 015, Katharinenstraße 18, 72072 Tübingen
END:VEVENT
BEGIN:VEVENT
DTSTAMP:20260421T174731
DTSTART;TZID=Europe/Berlin:20260511T133000
DTEND;TZID=Europe/Berlin:20260511T170000
UID:261-474299-20260511T133000@VHSTÜBINGEN
SUMMARY:Deutsch Intensiv A2.2 / Integrationskurs 299 (261-474299) 
LOCATION:vhs, Schulungsraum 015, Katharinenstraße 18, 72072 Tübingen
END:VEVENT
BEGIN:VEVENT
DTSTAMP:20260421T174731
DTSTART;TZID=Europe/Berlin:20260512T133000
DTEND;TZID=Europe/Berlin:20260512T170000
UID:261-474299-20260512T133000@VHSTÜBINGEN
SUMMARY:Deutsch Intensiv A2.2 / Integrationskurs 299 (261-474299) 
LOCATION:vhs, Schulungsraum 015, Katharinenstraße 18, 72072 Tübingen
END:VEVENT
BEGIN:VEVENT
DTSTAMP:20260421T174731
DTSTART;TZID=Europe/Berlin:20260513T133000
DTEND;TZID=Europe/Berlin:20260513T170000
UID:261-474299-20260513T133000@VHSTÜBINGEN
SUMMARY:Deutsch Intensiv A2.2 / Integrationskurs 299 (261-474299) 
LOCATION:vhs, Schulungsraum 015, Katharinenstraße 18, 72072 Tübingen
END:VEVENT
BEGIN:VEVENT
DTSTAMP:20260421T174731
DTSTART;TZID=Europe/Berlin:20260515T133000
DTEND;TZID=Europe/Berlin:20260515T170000
UID:261-474299-20260515T133000@VHSTÜBINGEN
SUMMARY:Deutsch Intensiv A2.2 / Integrationskurs 299 (261-474299) 
LOCATION:vhs, Schulungsraum 015, Katharinenstraße 18, 72072 Tübingen
END:VEVENT
BEGIN:VEVENT
DTSTAMP:20260421T174731
DTSTART;TZID=Europe/Berlin:20260518T133000
DTEND;TZID=Europe/Berlin:20260518T170000
UID:261-474299-20260518T133000@VHSTÜBINGEN
SUMMARY:Deutsch Intensiv A2.2 / Integrationskurs 299 (261-474299) 
LOCATION:vhs, Schulungsraum 015, Katharinenstraße 18, 72072 Tübingen
END:VEVENT
BEGIN:VEVENT
DTSTAMP:20260421T174731
DTSTART;TZID=Europe/Berlin:20260519T133000
DTEND;TZID=Europe/Berlin:20260519T170000
UID:261-474299-20260519T133000@VHSTÜBINGEN
SUMMARY:Deutsch Intensiv A2.2 / Integrationskurs 299 (261-474299) 
LOCATION:vhs, Schulungsraum 015, Katharinenstraße 18, 72072 Tübingen
END:VEVENT
END:VCALENDAR