BEGIN:VCALENDAR
VERSION:2.0
PRODID:https://www.kufer.de/kuferweb / DE
METHOD:PUBLISH
CALSCALE:GREGORIAN
X-WR-TIMEZONE:Europe/Berlin
BEGIN:VTIMEZONE
TZID:Europe/Berlin
X-LIC-LOCATION:Europe/Berlin
BEGIN:DAYLIGHT
TZOFFSETFROM:+0100
TZOFFSETTO:+0200
TZNAME:CEST
DTSTART:19700329T020000
RRULE:FREQ=YEARLY;INTERVAL=1;BYDAY=-1SU;BYMONTH=3
END:DAYLIGHT
BEGIN:STANDARD
TZOFFSETFROM:+0200
TZOFFSETTO:+0100
TZNAME:CET
DTSTART:19701025T030000
RRULE:FREQ=YEARLY;INTERVAL=1;BYDAY=-1SU;BYMONTH=10
END:STANDARD
END:VTIMEZONE
BEGIN:VEVENT
DTSTAMP:20260421T132134
DTSTART;TZID=Europe/Berlin:20260423T083000
DTEND;TZID=Europe/Berlin:20260423T120000
UID:261-474301-20260423T083000@VHSTÜBINGEN
SUMMARY:Deutsch Intensiv A2.2 / Integrationskurs 301 (261-474301) 
LOCATION:vhs, Schulungsraum 209, Katharinenstraße 18, 72072 Tübingen
END:VEVENT
BEGIN:VEVENT
DTSTAMP:20260421T132134
DTSTART;TZID=Europe/Berlin:20260424T083000
DTEND;TZID=Europe/Berlin:20260424T120000
UID:261-474301-20260424T083000@VHSTÜBINGEN
SUMMARY:Deutsch Intensiv A2.2 / Integrationskurs 301 (261-474301) 
LOCATION:vhs, Schulungsraum 209, Katharinenstraße 18, 72072 Tübingen
END:VEVENT
BEGIN:VEVENT
DTSTAMP:20260421T132134
DTSTART;TZID=Europe/Berlin:20260427T083000
DTEND;TZID=Europe/Berlin:20260427T120000
UID:261-474301-20260427T083000@VHSTÜBINGEN
SUMMARY:Deutsch Intensiv A2.2 / Integrationskurs 301 (261-474301) 
LOCATION:vhs, Schulungsraum 209, Katharinenstraße 18, 72072 Tübingen
END:VEVENT
BEGIN:VEVENT
DTSTAMP:20260421T132134
DTSTART;TZID=Europe/Berlin:20260428T083000
DTEND;TZID=Europe/Berlin:20260428T120000
UID:261-474301-20260428T083000@VHSTÜBINGEN
SUMMARY:Deutsch Intensiv A2.2 / Integrationskurs 301 (261-474301) 
LOCATION:vhs, Schulungsraum 209, Katharinenstraße 18, 72072 Tübingen
END:VEVENT
BEGIN:VEVENT
DTSTAMP:20260421T132134
DTSTART;TZID=Europe/Berlin:20260429T083000
DTEND;TZID=Europe/Berlin:20260429T120000
UID:261-474301-20260429T083000@VHSTÜBINGEN
SUMMARY:Deutsch Intensiv A2.2 / Integrationskurs 301 (261-474301) 
LOCATION:vhs, Schulungsraum 209, Katharinenstraße 18, 72072 Tübingen
END:VEVENT
BEGIN:VEVENT
DTSTAMP:20260421T132134
DTSTART;TZID=Europe/Berlin:20260430T083000
DTEND;TZID=Europe/Berlin:20260430T120000
UID:261-474301-20260430T083000@VHSTÜBINGEN
DESCRIPTION:Jan Müller übernimmt 
SUMMARY:Deutsch Intensiv A2.2 / Integrationskurs 301 (261-474301) 
LOCATION:vhs, Schulungsraum 209, Katharinenstraße 18, 72072 Tübingen
END:VEVENT
BEGIN:VEVENT
DTSTAMP:20260421T132134
DTSTART;TZID=Europe/Berlin:20260504T083000
DTEND;TZID=Europe/Berlin:20260504T120000
UID:261-474301-20260504T083000@VHSTÜBINGEN
SUMMARY:Deutsch Intensiv A2.2 / Integrationskurs 301 (261-474301) 
LOCATION:vhs, Schulungsraum 209, Katharinenstraße 18, 72072 Tübingen
END:VEVENT
BEGIN:VEVENT
DTSTAMP:20260421T132134
DTSTART;TZID=Europe/Berlin:20260505T083000
DTEND;TZID=Europe/Berlin:20260505T120000
UID:261-474301-20260505T083000@VHSTÜBINGEN
SUMMARY:Deutsch Intensiv A2.2 / Integrationskurs 301 (261-474301) 
LOCATION:vhs, Schulungsraum 209, Katharinenstraße 18, 72072 Tübingen
END:VEVENT
BEGIN:VEVENT
DTSTAMP:20260421T132134
DTSTART;TZID=Europe/Berlin:20260506T083000
DTEND;TZID=Europe/Berlin:20260506T120000
UID:261-474301-20260506T083000@VHSTÜBINGEN
SUMMARY:Deutsch Intensiv A2.2 / Integrationskurs 301 (261-474301) 
LOCATION:vhs, Schulungsraum 209, Katharinenstraße 18, 72072 Tübingen
END:VEVENT
BEGIN:VEVENT
DTSTAMP:20260421T132134
DTSTART;TZID=Europe/Berlin:20260507T083000
DTEND;TZID=Europe/Berlin:20260507T120000
UID:261-474301-20260507T083000@VHSTÜBINGEN
SUMMARY:Deutsch Intensiv A2.2 / Integrationskurs 301 (261-474301) 
LOCATION:vhs, Schulungsraum 209, Katharinenstraße 18, 72072 Tübingen
END:VEVENT
BEGIN:VEVENT
DTSTAMP:20260421T132134
DTSTART;TZID=Europe/Berlin:20260508T083000
DTEND;TZID=Europe/Berlin:20260508T120000
UID:261-474301-20260508T083000@VHSTÜBINGEN
SUMMARY:Deutsch Intensiv A2.2 / Integrationskurs 301 (261-474301) 
LOCATION:vhs, Schulungsraum 209, Katharinenstraße 18, 72072 Tübingen
END:VEVENT
BEGIN:VEVENT
DTSTAMP:20260421T132134
DTSTART;TZID=Europe/Berlin:20260511T083000
DTEND;TZID=Europe/Berlin:20260511T120000
UID:261-474301-20260511T083000@VHSTÜBINGEN
SUMMARY:Deutsch Intensiv A2.2 / Integrationskurs 301 (261-474301) 
LOCATION:vhs, Schulungsraum 209, Katharinenstraße 18, 72072 Tübingen
END:VEVENT
BEGIN:VEVENT
DTSTAMP:20260421T132134
DTSTART;TZID=Europe/Berlin:20260512T083000
DTEND;TZID=Europe/Berlin:20260512T120000
UID:261-474301-20260512T083000@VHSTÜBINGEN
SUMMARY:Deutsch Intensiv A2.2 / Integrationskurs 301 (261-474301) 
LOCATION:vhs, Schulungsraum 209, Katharinenstraße 18, 72072 Tübingen
END:VEVENT
BEGIN:VEVENT
DTSTAMP:20260421T132134
DTSTART;TZID=Europe/Berlin:20260513T083000
DTEND;TZID=Europe/Berlin:20260513T120000
UID:261-474301-20260513T083000@VHSTÜBINGEN
SUMMARY:Deutsch Intensiv A2.2 / Integrationskurs 301 (261-474301) 
LOCATION:vhs, Schulungsraum 209, Katharinenstraße 18, 72072 Tübingen
END:VEVENT
BEGIN:VEVENT
DTSTAMP:20260421T132134
DTSTART;TZID=Europe/Berlin:20260515T083000
DTEND;TZID=Europe/Berlin:20260515T120000
UID:261-474301-20260515T083000@VHSTÜBINGEN
SUMMARY:Deutsch Intensiv A2.2 / Integrationskurs 301 (261-474301) 
LOCATION:vhs, Schulungsraum 209, Katharinenstraße 18, 72072 Tübingen
END:VEVENT
BEGIN:VEVENT
DTSTAMP:20260421T132134
DTSTART;TZID=Europe/Berlin:20260518T083000
DTEND;TZID=Europe/Berlin:20260518T120000
UID:261-474301-20260518T083000@VHSTÜBINGEN
SUMMARY:Deutsch Intensiv A2.2 / Integrationskurs 301 (261-474301) 
LOCATION:vhs, Schulungsraum 209, Katharinenstraße 18, 72072 Tübingen
END:VEVENT
BEGIN:VEVENT
DTSTAMP:20260421T132134
DTSTART;TZID=Europe/Berlin:20260519T083000
DTEND;TZID=Europe/Berlin:20260519T120000
UID:261-474301-20260519T083000@VHSTÜBINGEN
SUMMARY:Deutsch Intensiv A2.2 / Integrationskurs 301 (261-474301) 
LOCATION:vhs, Schulungsraum 209, Katharinenstraße 18, 72072 Tübingen
END:VEVENT
BEGIN:VEVENT
DTSTAMP:20260421T132134
DTSTART;TZID=Europe/Berlin:20260520T083000
DTEND;TZID=Europe/Berlin:20260520T120000
UID:261-474301-20260520T083000@VHSTÜBINGEN
SUMMARY:Deutsch Intensiv A2.2 / Integrationskurs 301 (261-474301) 
LOCATION:vhs, Schulungsraum 209, Katharinenstraße 18, 72072 Tübingen
END:VEVENT
BEGIN:VEVENT
DTSTAMP:20260421T132134
DTSTART;TZID=Europe/Berlin:20260521T083000
DTEND;TZID=Europe/Berlin:20260521T120000
UID:261-474301-20260521T083000@VHSTÜBINGEN
SUMMARY:Deutsch Intensiv A2.2 / Integrationskurs 301 (261-474301) 
LOCATION:vhs, Schulungsraum 209, Katharinenstraße 18, 72072 Tübingen
END:VEVENT
BEGIN:VEVENT
DTSTAMP:20260421T132134
DTSTART;TZID=Europe/Berlin:20260522T083000
DTEND;TZID=Europe/Berlin:20260522T120000
UID:261-474301-20260522T083000@VHSTÜBINGEN
SUMMARY:Deutsch Intensiv A2.2 / Integrationskurs 301 (261-474301) 
LOCATION:vhs, Schulungsraum 209, Katharinenstraße 18, 72072 Tübingen
END:VEVENT
BEGIN:VEVENT
DTSTAMP:20260421T132134
DTSTART;TZID=Europe/Berlin:20260608T083000
DTEND;TZID=Europe/Berlin:20260608T120000
UID:261-474301-20260608T083000@VHSTÜBINGEN
SUMMARY:Deutsch Intensiv A2.2 / Integrationskurs 301 (261-474301) 
LOCATION:vhs, Schulungsraum 209, Katharinenstraße 18, 72072 Tübingen
END:VEVENT
BEGIN:VEVENT
DTSTAMP:20260421T132134
DTSTART;TZID=Europe/Berlin:20260609T083000
DTEND;TZID=Europe/Berlin:20260609T120000
UID:261-474301-20260609T083000@VHSTÜBINGEN
SUMMARY:Deutsch Intensiv A2.2 / Integrationskurs 301 (261-474301) 
LOCATION:vhs, Schulungsraum 209, Katharinenstraße 18, 72072 Tübingen
END:VEVENT
BEGIN:VEVENT
DTSTAMP:20260421T132134
DTSTART;TZID=Europe/Berlin:20260610T083000
DTEND;TZID=Europe/Berlin:20260610T120000
UID:261-474301-20260610T083000@VHSTÜBINGEN
SUMMARY:Deutsch Intensiv A2.2 / Integrationskurs 301 (261-474301) 
LOCATION:vhs, Schulungsraum 209, Katharinenstraße 18, 72072 Tübingen
END:VEVENT
BEGIN:VEVENT
DTSTAMP:20260421T132134
DTSTART;TZID=Europe/Berlin:20260611T083000
DTEND;TZID=Europe/Berlin:20260611T120000
UID:261-474301-20260611T083000@VHSTÜBINGEN
SUMMARY:Deutsch Intensiv A2.2 / Integrationskurs 301 (261-474301) 
LOCATION:vhs, Schulungsraum 209, Katharinenstraße 18, 72072 Tübingen
END:VEVENT
BEGIN:VEVENT
DTSTAMP:20260421T132134
DTSTART;TZID=Europe/Berlin:20260612T083000
DTEND;TZID=Europe/Berlin:20260612T120000
UID:261-474301-20260612T083000@VHSTÜBINGEN
SUMMARY:Deutsch Intensiv A2.2 / Integrationskurs 301 (261-474301) 
LOCATION:vhs, Schulungsraum 209, Katharinenstraße 18, 72072 Tübingen
END:VEVENT
END:VCALENDAR