BEGIN:VCALENDAR
VERSION:2.0
PRODID:https://www.kufer.de/kuferweb / DE
METHOD:PUBLISH
CALSCALE:GREGORIAN
X-WR-TIMEZONE:Europe/Berlin
BEGIN:VTIMEZONE
TZID:Europe/Berlin
X-LIC-LOCATION:Europe/Berlin
BEGIN:DAYLIGHT
TZOFFSETFROM:+0100
TZOFFSETTO:+0200
TZNAME:CEST
DTSTART:19700329T020000
RRULE:FREQ=YEARLY;INTERVAL=1;BYDAY=-1SU;BYMONTH=3
END:DAYLIGHT
BEGIN:STANDARD
TZOFFSETFROM:+0200
TZOFFSETTO:+0100
TZNAME:CET
DTSTART:19701025T030000
RRULE:FREQ=YEARLY;INTERVAL=1;BYDAY=-1SU;BYMONTH=10
END:STANDARD
END:VTIMEZONE
BEGIN:VEVENT
DTSTAMP:20260421T194904
DTSTART;TZID=Europe/Berlin:20260928T180000
DTEND;TZID=Europe/Berlin:20260928T211500
UID:261-474302-20260928T180000@VHSTÜBINGEN
SUMMARY:Deutsch Intensiv A2.2/ Integrationskurs 302 (Abend) (261-474302) 
LOCATION:vhs, Schulungsraum 015, Katharinenstraße 18, 72072 Tübingen
END:VEVENT
BEGIN:VEVENT
DTSTAMP:20260421T194904
DTSTART;TZID=Europe/Berlin:20260929T180000
DTEND;TZID=Europe/Berlin:20260929T211500
UID:261-474302-20260929T180000@VHSTÜBINGEN
SUMMARY:Deutsch Intensiv A2.2/ Integrationskurs 302 (Abend) (261-474302) 
LOCATION:vhs, Schulungsraum 015, Katharinenstraße 18, 72072 Tübingen
END:VEVENT
BEGIN:VEVENT
DTSTAMP:20260421T194904
DTSTART;TZID=Europe/Berlin:20261001T180000
DTEND;TZID=Europe/Berlin:20261001T211500
UID:261-474302-20261001T180000@VHSTÜBINGEN
SUMMARY:Deutsch Intensiv A2.2/ Integrationskurs 302 (Abend) (261-474302) 
LOCATION:vhs, Schulungsraum 015, Katharinenstraße 18, 72072 Tübingen
END:VEVENT
BEGIN:VEVENT
DTSTAMP:20260421T194904
DTSTART;TZID=Europe/Berlin:20261005T180000
DTEND;TZID=Europe/Berlin:20261005T211500
UID:261-474302-20261005T180000@VHSTÜBINGEN
SUMMARY:Deutsch Intensiv A2.2/ Integrationskurs 302 (Abend) (261-474302) 
LOCATION:vhs, Schulungsraum 015, Katharinenstraße 18, 72072 Tübingen
END:VEVENT
BEGIN:VEVENT
DTSTAMP:20260421T194904
DTSTART;TZID=Europe/Berlin:20261006T180000
DTEND;TZID=Europe/Berlin:20261006T211500
UID:261-474302-20261006T180000@VHSTÜBINGEN
SUMMARY:Deutsch Intensiv A2.2/ Integrationskurs 302 (Abend) (261-474302) 
LOCATION:vhs, Schulungsraum 015, Katharinenstraße 18, 72072 Tübingen
END:VEVENT
BEGIN:VEVENT
DTSTAMP:20260421T194904
DTSTART;TZID=Europe/Berlin:20261007T180000
DTEND;TZID=Europe/Berlin:20261007T211500
UID:261-474302-20261007T180000@VHSTÜBINGEN
DESCRIPTION:Zusatztag, eventuell anderer Raum
SUMMARY:Deutsch Intensiv A2.2/ Integrationskurs 302 (Abend) (261-474302) 
LOCATION:vhs, Schulungsraum 015, Katharinenstraße 18, 72072 Tübingen
END:VEVENT
BEGIN:VEVENT
DTSTAMP:20260421T194904
DTSTART;TZID=Europe/Berlin:20261008T180000
DTEND;TZID=Europe/Berlin:20261008T211500
UID:261-474302-20261008T180000@VHSTÜBINGEN
SUMMARY:Deutsch Intensiv A2.2/ Integrationskurs 302 (Abend) (261-474302) 
LOCATION:vhs, Schulungsraum 015, Katharinenstraße 18, 72072 Tübingen
END:VEVENT
BEGIN:VEVENT
DTSTAMP:20260421T194904
DTSTART;TZID=Europe/Berlin:20261012T180000
DTEND;TZID=Europe/Berlin:20261012T211500
UID:261-474302-20261012T180000@VHSTÜBINGEN
SUMMARY:Deutsch Intensiv A2.2/ Integrationskurs 302 (Abend) (261-474302) 
LOCATION:vhs, Schulungsraum 015, Katharinenstraße 18, 72072 Tübingen
END:VEVENT
BEGIN:VEVENT
DTSTAMP:20260421T194904
DTSTART;TZID=Europe/Berlin:20261013T180000
DTEND;TZID=Europe/Berlin:20261013T211500
UID:261-474302-20261013T180000@VHSTÜBINGEN
SUMMARY:Deutsch Intensiv A2.2/ Integrationskurs 302 (Abend) (261-474302) 
LOCATION:vhs, Schulungsraum 015, Katharinenstraße 18, 72072 Tübingen
END:VEVENT
BEGIN:VEVENT
DTSTAMP:20260421T194904
DTSTART;TZID=Europe/Berlin:20261015T180000
DTEND;TZID=Europe/Berlin:20261015T211500
UID:261-474302-20261015T180000@VHSTÜBINGEN
SUMMARY:Deutsch Intensiv A2.2/ Integrationskurs 302 (Abend) (261-474302) 
LOCATION:vhs, Schulungsraum 015, Katharinenstraße 18, 72072 Tübingen
END:VEVENT
BEGIN:VEVENT
DTSTAMP:20260421T194904
DTSTART;TZID=Europe/Berlin:20261019T180000
DTEND;TZID=Europe/Berlin:20261019T211500
UID:261-474302-20261019T180000@VHSTÜBINGEN
SUMMARY:Deutsch Intensiv A2.2/ Integrationskurs 302 (Abend) (261-474302) 
LOCATION:vhs, Schulungsraum 015, Katharinenstraße 18, 72072 Tübingen
END:VEVENT
BEGIN:VEVENT
DTSTAMP:20260421T194904
DTSTART;TZID=Europe/Berlin:20261020T180000
DTEND;TZID=Europe/Berlin:20261020T211500
UID:261-474302-20261020T180000@VHSTÜBINGEN
SUMMARY:Deutsch Intensiv A2.2/ Integrationskurs 302 (Abend) (261-474302) 
LOCATION:vhs, Schulungsraum 015, Katharinenstraße 18, 72072 Tübingen
END:VEVENT
BEGIN:VEVENT
DTSTAMP:20260421T194904
DTSTART;TZID=Europe/Berlin:20261022T180000
DTEND;TZID=Europe/Berlin:20261022T211500
UID:261-474302-20261022T180000@VHSTÜBINGEN
SUMMARY:Deutsch Intensiv A2.2/ Integrationskurs 302 (Abend) (261-474302) 
LOCATION:vhs, Schulungsraum 015, Katharinenstraße 18, 72072 Tübingen
END:VEVENT
BEGIN:VEVENT
DTSTAMP:20260421T194904
DTSTART;TZID=Europe/Berlin:20261026T180000
DTEND;TZID=Europe/Berlin:20261026T211500
UID:261-474302-20261026T180000@VHSTÜBINGEN
SUMMARY:Deutsch Intensiv A2.2/ Integrationskurs 302 (Abend) (261-474302) 
LOCATION:vhs, Schulungsraum 015, Katharinenstraße 18, 72072 Tübingen
END:VEVENT
BEGIN:VEVENT
DTSTAMP:20260421T194904
DTSTART;TZID=Europe/Berlin:20261027T180000
DTEND;TZID=Europe/Berlin:20261027T211500
UID:261-474302-20261027T180000@VHSTÜBINGEN
SUMMARY:Deutsch Intensiv A2.2/ Integrationskurs 302 (Abend) (261-474302) 
LOCATION:vhs, Schulungsraum 015, Katharinenstraße 18, 72072 Tübingen
END:VEVENT
BEGIN:VEVENT
DTSTAMP:20260421T194904
DTSTART;TZID=Europe/Berlin:20261029T180000
DTEND;TZID=Europe/Berlin:20261029T211500
UID:261-474302-20261029T180000@VHSTÜBINGEN
SUMMARY:Deutsch Intensiv A2.2/ Integrationskurs 302 (Abend) (261-474302) 
LOCATION:vhs, Schulungsraum 015, Katharinenstraße 18, 72072 Tübingen
END:VEVENT
BEGIN:VEVENT
DTSTAMP:20260421T194904
DTSTART;TZID=Europe/Berlin:20261102T180000
DTEND;TZID=Europe/Berlin:20261102T211500
UID:261-474302-20261102T180000@VHSTÜBINGEN
SUMMARY:Deutsch Intensiv A2.2/ Integrationskurs 302 (Abend) (261-474302) 
LOCATION:vhs, Schulungsraum 015, Katharinenstraße 18, 72072 Tübingen
END:VEVENT
BEGIN:VEVENT
DTSTAMP:20260421T194904
DTSTART;TZID=Europe/Berlin:20261103T180000
DTEND;TZID=Europe/Berlin:20261103T211500
UID:261-474302-20261103T180000@VHSTÜBINGEN
SUMMARY:Deutsch Intensiv A2.2/ Integrationskurs 302 (Abend) (261-474302) 
LOCATION:vhs, Schulungsraum 015, Katharinenstraße 18, 72072 Tübingen
END:VEVENT
BEGIN:VEVENT
DTSTAMP:20260421T194904
DTSTART;TZID=Europe/Berlin:20261105T180000
DTEND;TZID=Europe/Berlin:20261105T211500
UID:261-474302-20261105T180000@VHSTÜBINGEN
SUMMARY:Deutsch Intensiv A2.2/ Integrationskurs 302 (Abend) (261-474302) 
LOCATION:vhs, Schulungsraum 015, Katharinenstraße 18, 72072 Tübingen
END:VEVENT
BEGIN:VEVENT
DTSTAMP:20260421T194904
DTSTART;TZID=Europe/Berlin:20261109T180000
DTEND;TZID=Europe/Berlin:20261109T211500
UID:261-474302-20261109T180000@VHSTÜBINGEN
SUMMARY:Deutsch Intensiv A2.2/ Integrationskurs 302 (Abend) (261-474302) 
LOCATION:vhs, Schulungsraum 015, Katharinenstraße 18, 72072 Tübingen
END:VEVENT
BEGIN:VEVENT
DTSTAMP:20260421T194904
DTSTART;TZID=Europe/Berlin:20261110T180000
DTEND;TZID=Europe/Berlin:20261110T211500
UID:261-474302-20261110T180000@VHSTÜBINGEN
SUMMARY:Deutsch Intensiv A2.2/ Integrationskurs 302 (Abend) (261-474302) 
LOCATION:vhs, Schulungsraum 015, Katharinenstraße 18, 72072 Tübingen
END:VEVENT
BEGIN:VEVENT
DTSTAMP:20260421T194904
DTSTART;TZID=Europe/Berlin:20261112T180000
DTEND;TZID=Europe/Berlin:20261112T211500
UID:261-474302-20261112T180000@VHSTÜBINGEN
SUMMARY:Deutsch Intensiv A2.2/ Integrationskurs 302 (Abend) (261-474302) 
LOCATION:vhs, Schulungsraum 015, Katharinenstraße 18, 72072 Tübingen
END:VEVENT
BEGIN:VEVENT
DTSTAMP:20260421T194904
DTSTART;TZID=Europe/Berlin:20261116T180000
DTEND;TZID=Europe/Berlin:20261116T211500
UID:261-474302-20261116T180000@VHSTÜBINGEN
SUMMARY:Deutsch Intensiv A2.2/ Integrationskurs 302 (Abend) (261-474302) 
LOCATION:vhs, Schulungsraum 015, Katharinenstraße 18, 72072 Tübingen
END:VEVENT
BEGIN:VEVENT
DTSTAMP:20260421T194904
DTSTART;TZID=Europe/Berlin:20261117T180000
DTEND;TZID=Europe/Berlin:20261117T211500
UID:261-474302-20261117T180000@VHSTÜBINGEN
SUMMARY:Deutsch Intensiv A2.2/ Integrationskurs 302 (Abend) (261-474302) 
LOCATION:vhs, Schulungsraum 015, Katharinenstraße 18, 72072 Tübingen
END:VEVENT
BEGIN:VEVENT
DTSTAMP:20260421T194904
DTSTART;TZID=Europe/Berlin:20261119T180000
DTEND;TZID=Europe/Berlin:20261119T211500
UID:261-474302-20261119T180000@VHSTÜBINGEN
SUMMARY:Deutsch Intensiv A2.2/ Integrationskurs 302 (Abend) (261-474302) 
LOCATION:vhs, Schulungsraum 015, Katharinenstraße 18, 72072 Tübingen
END:VEVENT
END:VCALENDAR