BEGIN:VCALENDAR
VERSION:2.0
PRODID:https://www.kufer.de/kuferweb / DE
METHOD:PUBLISH
CALSCALE:GREGORIAN
X-WR-TIMEZONE:Europe/Berlin
BEGIN:VTIMEZONE
TZID:Europe/Berlin
X-LIC-LOCATION:Europe/Berlin
BEGIN:DAYLIGHT
TZOFFSETFROM:+0100
TZOFFSETTO:+0200
TZNAME:CEST
DTSTART:19700329T020000
RRULE:FREQ=YEARLY;INTERVAL=1;BYDAY=-1SU;BYMONTH=3
END:DAYLIGHT
BEGIN:STANDARD
TZOFFSETFROM:+0200
TZOFFSETTO:+0100
TZNAME:CET
DTSTART:19701025T030000
RRULE:FREQ=YEARLY;INTERVAL=1;BYDAY=-1SU;BYMONTH=10
END:STANDARD
END:VTIMEZONE
BEGIN:VEVENT
DTSTAMP:20260421T155532
DTSTART;TZID=Europe/Berlin:20260521T140000
DTEND;TZID=Europe/Berlin:20260521T181500
UID:261-474303-20260521T140000@VHSTÜBINGEN
SUMMARY:Deutsch Intensiv A2.2/ Integrationskurs 303 (261-474303) 
LOCATION:vhs, Schulungsraum 215, Katharinenstraße 18, 72072 Tübingen
END:VEVENT
BEGIN:VEVENT
DTSTAMP:20260421T155532
DTSTART;TZID=Europe/Berlin:20260522T140000
DTEND;TZID=Europe/Berlin:20260522T181500
UID:261-474303-20260522T140000@VHSTÜBINGEN
SUMMARY:Deutsch Intensiv A2.2/ Integrationskurs 303 (261-474303) 
LOCATION:vhs, Schulungsraum 215, Katharinenstraße 18, 72072 Tübingen
END:VEVENT
BEGIN:VEVENT
DTSTAMP:20260421T155532
DTSTART;TZID=Europe/Berlin:20260608T133000
DTEND;TZID=Europe/Berlin:20260608T174500
UID:261-474303-20260608T133000@VHSTÜBINGEN
SUMMARY:Deutsch Intensiv A2.2/ Integrationskurs 303 (261-474303) 
LOCATION:vhs, Schulungsraum 215, Katharinenstraße 18, 72072 Tübingen
END:VEVENT
BEGIN:VEVENT
DTSTAMP:20260421T155532
DTSTART;TZID=Europe/Berlin:20260609T133000
DTEND;TZID=Europe/Berlin:20260609T174500
UID:261-474303-20260609T133000@VHSTÜBINGEN
SUMMARY:Deutsch Intensiv A2.2/ Integrationskurs 303 (261-474303) 
LOCATION:vhs, Schulungsraum 215, Katharinenstraße 18, 72072 Tübingen
END:VEVENT
BEGIN:VEVENT
DTSTAMP:20260421T155532
DTSTART;TZID=Europe/Berlin:20260611T140000
DTEND;TZID=Europe/Berlin:20260611T181500
UID:261-474303-20260611T140000@VHSTÜBINGEN
SUMMARY:Deutsch Intensiv A2.2/ Integrationskurs 303 (261-474303) 
LOCATION:vhs, Schulungsraum 215, Katharinenstraße 18, 72072 Tübingen
END:VEVENT
BEGIN:VEVENT
DTSTAMP:20260421T155532
DTSTART;TZID=Europe/Berlin:20260612T140000
DTEND;TZID=Europe/Berlin:20260612T181500
UID:261-474303-20260612T140000@VHSTÜBINGEN
SUMMARY:Deutsch Intensiv A2.2/ Integrationskurs 303 (261-474303) 
LOCATION:vhs, Schulungsraum 215, Katharinenstraße 18, 72072 Tübingen
END:VEVENT
BEGIN:VEVENT
DTSTAMP:20260421T155532
DTSTART;TZID=Europe/Berlin:20260615T133000
DTEND;TZID=Europe/Berlin:20260615T174500
UID:261-474303-20260615T133000@VHSTÜBINGEN
SUMMARY:Deutsch Intensiv A2.2/ Integrationskurs 303 (261-474303) 
LOCATION:vhs, Schulungsraum 215, Katharinenstraße 18, 72072 Tübingen
END:VEVENT
BEGIN:VEVENT
DTSTAMP:20260421T155532
DTSTART;TZID=Europe/Berlin:20260616T133000
DTEND;TZID=Europe/Berlin:20260616T174500
UID:261-474303-20260616T133000@VHSTÜBINGEN
SUMMARY:Deutsch Intensiv A2.2/ Integrationskurs 303 (261-474303) 
LOCATION:vhs, Schulungsraum 215, Katharinenstraße 18, 72072 Tübingen
END:VEVENT
BEGIN:VEVENT
DTSTAMP:20260421T155532
DTSTART;TZID=Europe/Berlin:20260618T140000
DTEND;TZID=Europe/Berlin:20260618T181500
UID:261-474303-20260618T140000@VHSTÜBINGEN
SUMMARY:Deutsch Intensiv A2.2/ Integrationskurs 303 (261-474303) 
LOCATION:vhs, Schulungsraum 215, Katharinenstraße 18, 72072 Tübingen
END:VEVENT
BEGIN:VEVENT
DTSTAMP:20260421T155532
DTSTART;TZID=Europe/Berlin:20260619T140000
DTEND;TZID=Europe/Berlin:20260619T181500
UID:261-474303-20260619T140000@VHSTÜBINGEN
SUMMARY:Deutsch Intensiv A2.2/ Integrationskurs 303 (261-474303) 
LOCATION:vhs, Schulungsraum 215, Katharinenstraße 18, 72072 Tübingen
END:VEVENT
BEGIN:VEVENT
DTSTAMP:20260421T155532
DTSTART;TZID=Europe/Berlin:20260622T133000
DTEND;TZID=Europe/Berlin:20260622T174500
UID:261-474303-20260622T133000@VHSTÜBINGEN
SUMMARY:Deutsch Intensiv A2.2/ Integrationskurs 303 (261-474303) 
LOCATION:vhs, Schulungsraum 215, Katharinenstraße 18, 72072 Tübingen
END:VEVENT
BEGIN:VEVENT
DTSTAMP:20260421T155532
DTSTART;TZID=Europe/Berlin:20260623T133000
DTEND;TZID=Europe/Berlin:20260623T174500
UID:261-474303-20260623T133000@VHSTÜBINGEN
SUMMARY:Deutsch Intensiv A2.2/ Integrationskurs 303 (261-474303) 
LOCATION:vhs, Schulungsraum 215, Katharinenstraße 18, 72072 Tübingen
END:VEVENT
BEGIN:VEVENT
DTSTAMP:20260421T155532
DTSTART;TZID=Europe/Berlin:20260625T140000
DTEND;TZID=Europe/Berlin:20260625T181500
UID:261-474303-20260625T140000@VHSTÜBINGEN
SUMMARY:Deutsch Intensiv A2.2/ Integrationskurs 303 (261-474303) 
LOCATION:vhs, Schulungsraum 215, Katharinenstraße 18, 72072 Tübingen
END:VEVENT
BEGIN:VEVENT
DTSTAMP:20260421T155532
DTSTART;TZID=Europe/Berlin:20260626T140000
DTEND;TZID=Europe/Berlin:20260626T181500
UID:261-474303-20260626T140000@VHSTÜBINGEN
SUMMARY:Deutsch Intensiv A2.2/ Integrationskurs 303 (261-474303) 
LOCATION:vhs, Schulungsraum 215, Katharinenstraße 18, 72072 Tübingen
END:VEVENT
BEGIN:VEVENT
DTSTAMP:20260421T155532
DTSTART;TZID=Europe/Berlin:20260629T133000
DTEND;TZID=Europe/Berlin:20260629T174500
UID:261-474303-20260629T133000@VHSTÜBINGEN
SUMMARY:Deutsch Intensiv A2.2/ Integrationskurs 303 (261-474303) 
LOCATION:vhs, Schulungsraum 215, Katharinenstraße 18, 72072 Tübingen
END:VEVENT
BEGIN:VEVENT
DTSTAMP:20260421T155532
DTSTART;TZID=Europe/Berlin:20260630T133000
DTEND;TZID=Europe/Berlin:20260630T174500
UID:261-474303-20260630T133000@VHSTÜBINGEN
SUMMARY:Deutsch Intensiv A2.2/ Integrationskurs 303 (261-474303) 
LOCATION:vhs, Schulungsraum 215, Katharinenstraße 18, 72072 Tübingen
END:VEVENT
BEGIN:VEVENT
DTSTAMP:20260421T155532
DTSTART;TZID=Europe/Berlin:20260702T140000
DTEND;TZID=Europe/Berlin:20260702T181500
UID:261-474303-20260702T140000@VHSTÜBINGEN
SUMMARY:Deutsch Intensiv A2.2/ Integrationskurs 303 (261-474303) 
LOCATION:vhs, Schulungsraum 215, Katharinenstraße 18, 72072 Tübingen
END:VEVENT
BEGIN:VEVENT
DTSTAMP:20260421T155532
DTSTART;TZID=Europe/Berlin:20260703T140000
DTEND;TZID=Europe/Berlin:20260703T181500
UID:261-474303-20260703T140000@VHSTÜBINGEN
SUMMARY:Deutsch Intensiv A2.2/ Integrationskurs 303 (261-474303) 
LOCATION:vhs, Schulungsraum 215, Katharinenstraße 18, 72072 Tübingen
END:VEVENT
BEGIN:VEVENT
DTSTAMP:20260421T155532
DTSTART;TZID=Europe/Berlin:20260706T133000
DTEND;TZID=Europe/Berlin:20260706T174500
UID:261-474303-20260706T133000@VHSTÜBINGEN
SUMMARY:Deutsch Intensiv A2.2/ Integrationskurs 303 (261-474303) 
LOCATION:vhs, Schulungsraum 215, Katharinenstraße 18, 72072 Tübingen
END:VEVENT
BEGIN:VEVENT
DTSTAMP:20260421T155532
DTSTART;TZID=Europe/Berlin:20260707T133000
DTEND;TZID=Europe/Berlin:20260707T174500
UID:261-474303-20260707T133000@VHSTÜBINGEN
SUMMARY:Deutsch Intensiv A2.2/ Integrationskurs 303 (261-474303) 
LOCATION:vhs, Schulungsraum 215, Katharinenstraße 18, 72072 Tübingen
END:VEVENT
END:VCALENDAR