BEGIN:VCALENDAR
VERSION:2.0
PRODID:https://www.kufer.de/kuferweb / DE
METHOD:PUBLISH
CALSCALE:GREGORIAN
X-WR-TIMEZONE:Europe/Berlin
BEGIN:VTIMEZONE
TZID:Europe/Berlin
X-LIC-LOCATION:Europe/Berlin
BEGIN:DAYLIGHT
TZOFFSETFROM:+0100
TZOFFSETTO:+0200
TZNAME:CEST
DTSTART:19700329T020000
RRULE:FREQ=YEARLY;INTERVAL=1;BYDAY=-1SU;BYMONTH=3
END:DAYLIGHT
BEGIN:STANDARD
TZOFFSETFROM:+0200
TZOFFSETTO:+0100
TZNAME:CET
DTSTART:19701025T030000
RRULE:FREQ=YEARLY;INTERVAL=1;BYDAY=-1SU;BYMONTH=10
END:STANDARD
END:VTIMEZONE
BEGIN:VEVENT
DTSTAMP:20260421T175716
DTSTART;TZID=Europe/Berlin:20260320T133000
DTEND;TZID=Europe/Berlin:20260320T174500
UID:261-474304-20260320T133000@VHSTÜBINGEN
SUMMARY:Deutsch Intensiv A2.2 / Integrationskurs 304 (261-474304) 
LOCATION:vhs, Schulungsraum 108, Katharinenstraße 18, 72072 Tübingen
END:VEVENT
BEGIN:VEVENT
DTSTAMP:20260421T175716
DTSTART;TZID=Europe/Berlin:20260324T133000
DTEND;TZID=Europe/Berlin:20260324T174500
UID:261-474304-20260324T133000@VHSTÜBINGEN
SUMMARY:Deutsch Intensiv A2.2 / Integrationskurs 304 (261-474304) 
LOCATION:vhs, Schulungsraum 108, Katharinenstraße 18, 72072 Tübingen
END:VEVENT
BEGIN:VEVENT
DTSTAMP:20260421T175716
DTSTART;TZID=Europe/Berlin:20260325T133000
DTEND;TZID=Europe/Berlin:20260325T174500
UID:261-474304-20260325T133000@VHSTÜBINGEN
SUMMARY:Deutsch Intensiv A2.2 / Integrationskurs 304 (261-474304) 
LOCATION:vhs, Schulungsraum 108, Katharinenstraße 18, 72072 Tübingen
END:VEVENT
BEGIN:VEVENT
DTSTAMP:20260421T175716
DTSTART;TZID=Europe/Berlin:20260326T133000
DTEND;TZID=Europe/Berlin:20260326T174500
UID:261-474304-20260326T133000@VHSTÜBINGEN
SUMMARY:Deutsch Intensiv A2.2 / Integrationskurs 304 (261-474304) 
LOCATION:vhs, Schulungsraum 108, Katharinenstraße 18, 72072 Tübingen
END:VEVENT
BEGIN:VEVENT
DTSTAMP:20260421T175716
DTSTART;TZID=Europe/Berlin:20260327T133000
DTEND;TZID=Europe/Berlin:20260327T174500
UID:261-474304-20260327T133000@VHSTÜBINGEN
SUMMARY:Deutsch Intensiv A2.2 / Integrationskurs 304 (261-474304) 
LOCATION:vhs, Schulungsraum 108, Katharinenstraße 18, 72072 Tübingen
END:VEVENT
BEGIN:VEVENT
DTSTAMP:20260421T175716
DTSTART;TZID=Europe/Berlin:20260414T133000
DTEND;TZID=Europe/Berlin:20260414T174500
UID:261-474304-20260414T133000@VHSTÜBINGEN
SUMMARY:Deutsch Intensiv A2.2 / Integrationskurs 304 (261-474304) 
LOCATION:vhs, Schulungsraum 108, Katharinenstraße 18, 72072 Tübingen
END:VEVENT
BEGIN:VEVENT
DTSTAMP:20260421T175716
DTSTART;TZID=Europe/Berlin:20260415T133000
DTEND;TZID=Europe/Berlin:20260415T174500
UID:261-474304-20260415T133000@VHSTÜBINGEN
SUMMARY:Deutsch Intensiv A2.2 / Integrationskurs 304 (261-474304) 
LOCATION:vhs, Schulungsraum 108, Katharinenstraße 18, 72072 Tübingen
END:VEVENT
BEGIN:VEVENT
DTSTAMP:20260421T175716
DTSTART;TZID=Europe/Berlin:20260416T133000
DTEND;TZID=Europe/Berlin:20260416T174500
UID:261-474304-20260416T133000@VHSTÜBINGEN
SUMMARY:Deutsch Intensiv A2.2 / Integrationskurs 304 (261-474304) 
LOCATION:vhs, Schulungsraum 108, Katharinenstraße 18, 72072 Tübingen
END:VEVENT
BEGIN:VEVENT
DTSTAMP:20260421T175716
DTSTART;TZID=Europe/Berlin:20260417T133000
DTEND;TZID=Europe/Berlin:20260417T174500
UID:261-474304-20260417T133000@VHSTÜBINGEN
SUMMARY:Deutsch Intensiv A2.2 / Integrationskurs 304 (261-474304) 
LOCATION:vhs, Schulungsraum 108, Katharinenstraße 18, 72072 Tübingen
END:VEVENT
BEGIN:VEVENT
DTSTAMP:20260421T175716
DTSTART;TZID=Europe/Berlin:20260421T133000
DTEND;TZID=Europe/Berlin:20260421T174500
UID:261-474304-20260421T133000@VHSTÜBINGEN
SUMMARY:Deutsch Intensiv A2.2 / Integrationskurs 304 (261-474304) 
LOCATION:vhs, Schulungsraum 108, Katharinenstraße 18, 72072 Tübingen
END:VEVENT
BEGIN:VEVENT
DTSTAMP:20260421T175716
DTSTART;TZID=Europe/Berlin:20260422T133000
DTEND;TZID=Europe/Berlin:20260422T174500
UID:261-474304-20260422T133000@VHSTÜBINGEN
SUMMARY:Deutsch Intensiv A2.2 / Integrationskurs 304 (261-474304) 
LOCATION:vhs, Schulungsraum 108, Katharinenstraße 18, 72072 Tübingen
END:VEVENT
BEGIN:VEVENT
DTSTAMP:20260421T175716
DTSTART;TZID=Europe/Berlin:20260423T133000
DTEND;TZID=Europe/Berlin:20260423T174500
UID:261-474304-20260423T133000@VHSTÜBINGEN
SUMMARY:Deutsch Intensiv A2.2 / Integrationskurs 304 (261-474304) 
LOCATION:vhs, Schulungsraum 108, Katharinenstraße 18, 72072 Tübingen
END:VEVENT
BEGIN:VEVENT
DTSTAMP:20260421T175716
DTSTART;TZID=Europe/Berlin:20260424T133000
DTEND;TZID=Europe/Berlin:20260424T174500
UID:261-474304-20260424T133000@VHSTÜBINGEN
SUMMARY:Deutsch Intensiv A2.2 / Integrationskurs 304 (261-474304) 
LOCATION:vhs, Schulungsraum 108, Katharinenstraße 18, 72072 Tübingen
END:VEVENT
BEGIN:VEVENT
DTSTAMP:20260421T175716
DTSTART;TZID=Europe/Berlin:20260428T133000
DTEND;TZID=Europe/Berlin:20260428T174500
UID:261-474304-20260428T133000@VHSTÜBINGEN
SUMMARY:Deutsch Intensiv A2.2 / Integrationskurs 304 (261-474304) 
LOCATION:vhs, Schulungsraum 108, Katharinenstraße 18, 72072 Tübingen
END:VEVENT
BEGIN:VEVENT
DTSTAMP:20260421T175716
DTSTART;TZID=Europe/Berlin:20260429T133000
DTEND;TZID=Europe/Berlin:20260429T174500
UID:261-474304-20260429T133000@VHSTÜBINGEN
SUMMARY:Deutsch Intensiv A2.2 / Integrationskurs 304 (261-474304) 
LOCATION:vhs, Schulungsraum 108, Katharinenstraße 18, 72072 Tübingen
END:VEVENT
BEGIN:VEVENT
DTSTAMP:20260421T175716
DTSTART;TZID=Europe/Berlin:20260430T133000
DTEND;TZID=Europe/Berlin:20260430T174500
UID:261-474304-20260430T133000@VHSTÜBINGEN
SUMMARY:Deutsch Intensiv A2.2 / Integrationskurs 304 (261-474304) 
LOCATION:vhs, Schulungsraum 108, Katharinenstraße 18, 72072 Tübingen
END:VEVENT
BEGIN:VEVENT
DTSTAMP:20260421T175716
DTSTART;TZID=Europe/Berlin:20260505T133000
DTEND;TZID=Europe/Berlin:20260505T174500
UID:261-474304-20260505T133000@VHSTÜBINGEN
SUMMARY:Deutsch Intensiv A2.2 / Integrationskurs 304 (261-474304) 
LOCATION:vhs, Schulungsraum 108, Katharinenstraße 18, 72072 Tübingen
END:VEVENT
BEGIN:VEVENT
DTSTAMP:20260421T175716
DTSTART;TZID=Europe/Berlin:20260506T133000
DTEND;TZID=Europe/Berlin:20260506T174500
UID:261-474304-20260506T133000@VHSTÜBINGEN
SUMMARY:Deutsch Intensiv A2.2 / Integrationskurs 304 (261-474304) 
LOCATION:vhs, Schulungsraum 108, Katharinenstraße 18, 72072 Tübingen
END:VEVENT
BEGIN:VEVENT
DTSTAMP:20260421T175716
DTSTART;TZID=Europe/Berlin:20260507T133000
DTEND;TZID=Europe/Berlin:20260507T174500
UID:261-474304-20260507T133000@VHSTÜBINGEN
SUMMARY:Deutsch Intensiv A2.2 / Integrationskurs 304 (261-474304) 
LOCATION:vhs, Schulungsraum 108, Katharinenstraße 18, 72072 Tübingen
END:VEVENT
BEGIN:VEVENT
DTSTAMP:20260421T175716
DTSTART;TZID=Europe/Berlin:20260508T133000
DTEND;TZID=Europe/Berlin:20260508T174500
UID:261-474304-20260508T133000@VHSTÜBINGEN
SUMMARY:Deutsch Intensiv A2.2 / Integrationskurs 304 (261-474304) 
LOCATION:vhs, Schulungsraum 108, Katharinenstraße 18, 72072 Tübingen
END:VEVENT
END:VCALENDAR