BEGIN:VCALENDAR
VERSION:2.0
PRODID:https://www.kufer.de/kuferweb / DE
METHOD:PUBLISH
CALSCALE:GREGORIAN
X-WR-TIMEZONE:Europe/Berlin
BEGIN:VTIMEZONE
TZID:Europe/Berlin
X-LIC-LOCATION:Europe/Berlin
BEGIN:DAYLIGHT
TZOFFSETFROM:+0100
TZOFFSETTO:+0200
TZNAME:CEST
DTSTART:19700329T020000
RRULE:FREQ=YEARLY;INTERVAL=1;BYDAY=-1SU;BYMONTH=3
END:DAYLIGHT
BEGIN:STANDARD
TZOFFSETFROM:+0200
TZOFFSETTO:+0100
TZNAME:CET
DTSTART:19701025T030000
RRULE:FREQ=YEARLY;INTERVAL=1;BYDAY=-1SU;BYMONTH=10
END:STANDARD
END:VTIMEZONE
BEGIN:VEVENT
DTSTAMP:20260421T210212
DTSTART;TZID=Europe/Berlin:20260708T083000
DTEND;TZID=Europe/Berlin:20260708T120000
UID:261-474307-20260708T083000@VHSTÜBINGEN
SUMMARY:Deutsch Intensiv A2.2 / Integrationskurs 307 (261-474307) 
LOCATION:vhs, Schulungsraum 017, Katharinenstraße 18, 72072 Tübingen
END:VEVENT
BEGIN:VEVENT
DTSTAMP:20260421T210212
DTSTART;TZID=Europe/Berlin:20260709T083000
DTEND;TZID=Europe/Berlin:20260709T120000
UID:261-474307-20260709T083000@VHSTÜBINGEN
SUMMARY:Deutsch Intensiv A2.2 / Integrationskurs 307 (261-474307) 
LOCATION:vhs, Schulungsraum 017, Katharinenstraße 18, 72072 Tübingen
END:VEVENT
BEGIN:VEVENT
DTSTAMP:20260421T210212
DTSTART;TZID=Europe/Berlin:20260710T083000
DTEND;TZID=Europe/Berlin:20260710T120000
UID:261-474307-20260710T083000@VHSTÜBINGEN
SUMMARY:Deutsch Intensiv A2.2 / Integrationskurs 307 (261-474307) 
LOCATION:vhs, Schulungsraum 017, Katharinenstraße 18, 72072 Tübingen
END:VEVENT
BEGIN:VEVENT
DTSTAMP:20260421T210212
DTSTART;TZID=Europe/Berlin:20260713T083000
DTEND;TZID=Europe/Berlin:20260713T120000
UID:261-474307-20260713T083000@VHSTÜBINGEN
SUMMARY:Deutsch Intensiv A2.2 / Integrationskurs 307 (261-474307) 
LOCATION:vhs, Schulungsraum 017, Katharinenstraße 18, 72072 Tübingen
END:VEVENT
BEGIN:VEVENT
DTSTAMP:20260421T210212
DTSTART;TZID=Europe/Berlin:20260714T083000
DTEND;TZID=Europe/Berlin:20260714T120000
UID:261-474307-20260714T083000@VHSTÜBINGEN
SUMMARY:Deutsch Intensiv A2.2 / Integrationskurs 307 (261-474307) 
LOCATION:vhs, Schulungsraum 017, Katharinenstraße 18, 72072 Tübingen
END:VEVENT
BEGIN:VEVENT
DTSTAMP:20260421T210212
DTSTART;TZID=Europe/Berlin:20260715T083000
DTEND;TZID=Europe/Berlin:20260715T120000
UID:261-474307-20260715T083000@VHSTÜBINGEN
SUMMARY:Deutsch Intensiv A2.2 / Integrationskurs 307 (261-474307) 
LOCATION:vhs, Schulungsraum 017, Katharinenstraße 18, 72072 Tübingen
END:VEVENT
BEGIN:VEVENT
DTSTAMP:20260421T210212
DTSTART;TZID=Europe/Berlin:20260716T083000
DTEND;TZID=Europe/Berlin:20260716T120000
UID:261-474307-20260716T083000@VHSTÜBINGEN
SUMMARY:Deutsch Intensiv A2.2 / Integrationskurs 307 (261-474307) 
LOCATION:vhs, Schulungsraum 017, Katharinenstraße 18, 72072 Tübingen
END:VEVENT
BEGIN:VEVENT
DTSTAMP:20260421T210212
DTSTART;TZID=Europe/Berlin:20260717T083000
DTEND;TZID=Europe/Berlin:20260717T120000
UID:261-474307-20260717T083000@VHSTÜBINGEN
SUMMARY:Deutsch Intensiv A2.2 / Integrationskurs 307 (261-474307) 
LOCATION:vhs, Schulungsraum 017, Katharinenstraße 18, 72072 Tübingen
END:VEVENT
BEGIN:VEVENT
DTSTAMP:20260421T210212
DTSTART;TZID=Europe/Berlin:20260720T083000
DTEND;TZID=Europe/Berlin:20260720T120000
UID:261-474307-20260720T083000@VHSTÜBINGEN
SUMMARY:Deutsch Intensiv A2.2 / Integrationskurs 307 (261-474307) 
LOCATION:vhs, Schulungsraum 017, Katharinenstraße 18, 72072 Tübingen
END:VEVENT
BEGIN:VEVENT
DTSTAMP:20260421T210212
DTSTART;TZID=Europe/Berlin:20260721T083000
DTEND;TZID=Europe/Berlin:20260721T120000
UID:261-474307-20260721T083000@VHSTÜBINGEN
SUMMARY:Deutsch Intensiv A2.2 / Integrationskurs 307 (261-474307) 
LOCATION:vhs, Schulungsraum 017, Katharinenstraße 18, 72072 Tübingen
END:VEVENT
BEGIN:VEVENT
DTSTAMP:20260421T210212
DTSTART;TZID=Europe/Berlin:20260722T083000
DTEND;TZID=Europe/Berlin:20260722T120000
UID:261-474307-20260722T083000@VHSTÜBINGEN
SUMMARY:Deutsch Intensiv A2.2 / Integrationskurs 307 (261-474307) 
LOCATION:vhs, Schulungsraum 017, Katharinenstraße 18, 72072 Tübingen
END:VEVENT
BEGIN:VEVENT
DTSTAMP:20260421T210212
DTSTART;TZID=Europe/Berlin:20260723T083000
DTEND;TZID=Europe/Berlin:20260723T120000
UID:261-474307-20260723T083000@VHSTÜBINGEN
SUMMARY:Deutsch Intensiv A2.2 / Integrationskurs 307 (261-474307) 
LOCATION:vhs, Schulungsraum 017, Katharinenstraße 18, 72072 Tübingen
END:VEVENT
BEGIN:VEVENT
DTSTAMP:20260421T210212
DTSTART;TZID=Europe/Berlin:20260724T083000
DTEND;TZID=Europe/Berlin:20260724T120000
UID:261-474307-20260724T083000@VHSTÜBINGEN
SUMMARY:Deutsch Intensiv A2.2 / Integrationskurs 307 (261-474307) 
LOCATION:vhs, Schulungsraum 017, Katharinenstraße 18, 72072 Tübingen
END:VEVENT
BEGIN:VEVENT
DTSTAMP:20260421T210212
DTSTART;TZID=Europe/Berlin:20260727T083000
DTEND;TZID=Europe/Berlin:20260727T120000
UID:261-474307-20260727T083000@VHSTÜBINGEN
SUMMARY:Deutsch Intensiv A2.2 / Integrationskurs 307 (261-474307) 
LOCATION:vhs, Schulungsraum 017, Katharinenstraße 18, 72072 Tübingen
END:VEVENT
BEGIN:VEVENT
DTSTAMP:20260421T210212
DTSTART;TZID=Europe/Berlin:20260728T083000
DTEND;TZID=Europe/Berlin:20260728T120000
UID:261-474307-20260728T083000@VHSTÜBINGEN
SUMMARY:Deutsch Intensiv A2.2 / Integrationskurs 307 (261-474307) 
LOCATION:vhs, Schulungsraum 017, Katharinenstraße 18, 72072 Tübingen
END:VEVENT
BEGIN:VEVENT
DTSTAMP:20260421T210212
DTSTART;TZID=Europe/Berlin:20260729T083000
DTEND;TZID=Europe/Berlin:20260729T120000
UID:261-474307-20260729T083000@VHSTÜBINGEN
SUMMARY:Deutsch Intensiv A2.2 / Integrationskurs 307 (261-474307) 
LOCATION:vhs, Schulungsraum 017, Katharinenstraße 18, 72072 Tübingen
END:VEVENT
BEGIN:VEVENT
DTSTAMP:20260421T210212
DTSTART;TZID=Europe/Berlin:20260730T083000
DTEND;TZID=Europe/Berlin:20260730T120000
UID:261-474307-20260730T083000@VHSTÜBINGEN
SUMMARY:Deutsch Intensiv A2.2 / Integrationskurs 307 (261-474307) 
LOCATION:vhs, Schulungsraum 017, Katharinenstraße 18, 72072 Tübingen
END:VEVENT
BEGIN:VEVENT
DTSTAMP:20260421T210212
DTSTART;TZID=Europe/Berlin:20260731T083000
DTEND;TZID=Europe/Berlin:20260731T120000
UID:261-474307-20260731T083000@VHSTÜBINGEN
SUMMARY:Deutsch Intensiv A2.2 / Integrationskurs 307 (261-474307) 
LOCATION:vhs, Schulungsraum 017, Katharinenstraße 18, 72072 Tübingen
END:VEVENT
BEGIN:VEVENT
DTSTAMP:20260421T210212
DTSTART;TZID=Europe/Berlin:20260907T083000
DTEND;TZID=Europe/Berlin:20260907T120000
UID:261-474307-20260907T083000@VHSTÜBINGEN
SUMMARY:Deutsch Intensiv A2.2 / Integrationskurs 307 (261-474307) 
LOCATION:vhs, Schulungsraum 017, Katharinenstraße 18, 72072 Tübingen
END:VEVENT
BEGIN:VEVENT
DTSTAMP:20260421T210212
DTSTART;TZID=Europe/Berlin:20260908T083000
DTEND;TZID=Europe/Berlin:20260908T120000
UID:261-474307-20260908T083000@VHSTÜBINGEN
SUMMARY:Deutsch Intensiv A2.2 / Integrationskurs 307 (261-474307) 
LOCATION:vhs, Schulungsraum 017, Katharinenstraße 18, 72072 Tübingen
END:VEVENT
BEGIN:VEVENT
DTSTAMP:20260421T210212
DTSTART;TZID=Europe/Berlin:20260909T083000
DTEND;TZID=Europe/Berlin:20260909T120000
UID:261-474307-20260909T083000@VHSTÜBINGEN
SUMMARY:Deutsch Intensiv A2.2 / Integrationskurs 307 (261-474307) 
LOCATION:vhs, Schulungsraum 017, Katharinenstraße 18, 72072 Tübingen
END:VEVENT
BEGIN:VEVENT
DTSTAMP:20260421T210212
DTSTART;TZID=Europe/Berlin:20260910T083000
DTEND;TZID=Europe/Berlin:20260910T120000
UID:261-474307-20260910T083000@VHSTÜBINGEN
SUMMARY:Deutsch Intensiv A2.2 / Integrationskurs 307 (261-474307) 
LOCATION:vhs, Schulungsraum 017, Katharinenstraße 18, 72072 Tübingen
END:VEVENT
BEGIN:VEVENT
DTSTAMP:20260421T210212
DTSTART;TZID=Europe/Berlin:20260911T083000
DTEND;TZID=Europe/Berlin:20260911T120000
UID:261-474307-20260911T083000@VHSTÜBINGEN
SUMMARY:Deutsch Intensiv A2.2 / Integrationskurs 307 (261-474307) 
LOCATION:vhs, Schulungsraum 017, Katharinenstraße 18, 72072 Tübingen
END:VEVENT
BEGIN:VEVENT
DTSTAMP:20260421T210212
DTSTART;TZID=Europe/Berlin:20260914T083000
DTEND;TZID=Europe/Berlin:20260914T120000
UID:261-474307-20260914T083000@VHSTÜBINGEN
SUMMARY:Deutsch Intensiv A2.2 / Integrationskurs 307 (261-474307) 
LOCATION:vhs, Schulungsraum 017, Katharinenstraße 18, 72072 Tübingen
END:VEVENT
BEGIN:VEVENT
DTSTAMP:20260421T210212
DTSTART;TZID=Europe/Berlin:20260915T083000
DTEND;TZID=Europe/Berlin:20260915T120000
UID:261-474307-20260915T083000@VHSTÜBINGEN
SUMMARY:Deutsch Intensiv A2.2 / Integrationskurs 307 (261-474307) 
LOCATION:vhs, Schulungsraum 017, Katharinenstraße 18, 72072 Tübingen
END:VEVENT
END:VCALENDAR