BEGIN:VCALENDAR
VERSION:2.0
PRODID:https://www.kufer.de/kuferweb / DE
METHOD:PUBLISH
CALSCALE:GREGORIAN
X-WR-TIMEZONE:Europe/Berlin
BEGIN:VTIMEZONE
TZID:Europe/Berlin
X-LIC-LOCATION:Europe/Berlin
BEGIN:DAYLIGHT
TZOFFSETFROM:+0100
TZOFFSETTO:+0200
TZNAME:CEST
DTSTART:19700329T020000
RRULE:FREQ=YEARLY;INTERVAL=1;BYDAY=-1SU;BYMONTH=3
END:DAYLIGHT
BEGIN:STANDARD
TZOFFSETFROM:+0200
TZOFFSETTO:+0100
TZNAME:CET
DTSTART:19701025T030000
RRULE:FREQ=YEARLY;INTERVAL=1;BYDAY=-1SU;BYMONTH=10
END:STANDARD
END:VTIMEZONE
BEGIN:VEVENT
DTSTAMP:20260421T173000
DTSTART;TZID=Europe/Berlin:20260617T083000
DTEND;TZID=Europe/Berlin:20260617T120000
UID:261-474308-20260617T083000@VHSTÜBINGEN
SUMMARY:Integrationskurs GeLi 308 Abschnitt 4 (261-474308) 
LOCATION:vhs, Schulungsraum 111, Katharinenstraße 18, 72072 Tübingen
END:VEVENT
BEGIN:VEVENT
DTSTAMP:20260421T173000
DTSTART;TZID=Europe/Berlin:20260618T083000
DTEND;TZID=Europe/Berlin:20260618T120000
UID:261-474308-20260618T083000@VHSTÜBINGEN
SUMMARY:Integrationskurs GeLi 308 Abschnitt 4 (261-474308) 
LOCATION:vhs, Schulungsraum 115, Katharinenstraße 18, 72072 Tübingen
END:VEVENT
BEGIN:VEVENT
DTSTAMP:20260421T173000
DTSTART;TZID=Europe/Berlin:20260619T083000
DTEND;TZID=Europe/Berlin:20260619T120000
UID:261-474308-20260619T083000@VHSTÜBINGEN
SUMMARY:Integrationskurs GeLi 308 Abschnitt 4 (261-474308) 
LOCATION:vhs, Schulungsraum 115, Katharinenstraße 18, 72072 Tübingen
END:VEVENT
BEGIN:VEVENT
DTSTAMP:20260421T173000
DTSTART;TZID=Europe/Berlin:20260622T083000
DTEND;TZID=Europe/Berlin:20260622T120000
UID:261-474308-20260622T083000@VHSTÜBINGEN
SUMMARY:Integrationskurs GeLi 308 Abschnitt 4 (261-474308) 
LOCATION:vhs, Schulungsraum 217, Katharinenstraße 18, 72072 Tübingen
END:VEVENT
BEGIN:VEVENT
DTSTAMP:20260421T173000
DTSTART;TZID=Europe/Berlin:20260623T083000
DTEND;TZID=Europe/Berlin:20260623T120000
UID:261-474308-20260623T083000@VHSTÜBINGEN
SUMMARY:Integrationskurs GeLi 308 Abschnitt 4 (261-474308) 
LOCATION:vhs, Schulungsraum 115, Katharinenstraße 18, 72072 Tübingen
END:VEVENT
BEGIN:VEVENT
DTSTAMP:20260421T173000
DTSTART;TZID=Europe/Berlin:20260624T084500
DTEND;TZID=Europe/Berlin:20260624T121500
UID:261-474308-20260624T084500@VHSTÜBINGEN
SUMMARY:Integrationskurs GeLi 308 Abschnitt 4 (261-474308) 
LOCATION:vhs, Schulungsraum 111, Katharinenstraße 18, 72072 Tübingen
END:VEVENT
BEGIN:VEVENT
DTSTAMP:20260421T173000
DTSTART;TZID=Europe/Berlin:20260625T083000
DTEND;TZID=Europe/Berlin:20260625T120000
UID:261-474308-20260625T083000@VHSTÜBINGEN
SUMMARY:Integrationskurs GeLi 308 Abschnitt 4 (261-474308) 
LOCATION:vhs, Schulungsraum 309, Katharinenstraße 18, 72072 Tübingen
END:VEVENT
BEGIN:VEVENT
DTSTAMP:20260421T173000
DTSTART;TZID=Europe/Berlin:20260626T083000
DTEND;TZID=Europe/Berlin:20260626T120000
UID:261-474308-20260626T083000@VHSTÜBINGEN
SUMMARY:Integrationskurs GeLi 308 Abschnitt 4 (261-474308) 
LOCATION:vhs, Schulungsraum 115, Katharinenstraße 18, 72072 Tübingen
END:VEVENT
BEGIN:VEVENT
DTSTAMP:20260421T173000
DTSTART;TZID=Europe/Berlin:20260629T084500
DTEND;TZID=Europe/Berlin:20260629T121500
UID:261-474308-20260629T084500@VHSTÜBINGEN
SUMMARY:Integrationskurs GeLi 308 Abschnitt 4 (261-474308) 
LOCATION:vhs, Schulungsraum 213, Katharinenstraße 18, 72072 Tübingen
END:VEVENT
BEGIN:VEVENT
DTSTAMP:20260421T173000
DTSTART;TZID=Europe/Berlin:20260630T083000
DTEND;TZID=Europe/Berlin:20260630T120000
UID:261-474308-20260630T083000@VHSTÜBINGEN
SUMMARY:Integrationskurs GeLi 308 Abschnitt 4 (261-474308) 
LOCATION:vhs, Schulungsraum 309, Katharinenstraße 18, 72072 Tübingen
END:VEVENT
BEGIN:VEVENT
DTSTAMP:20260421T173000
DTSTART;TZID=Europe/Berlin:20260701T083000
DTEND;TZID=Europe/Berlin:20260701T120000
UID:261-474308-20260701T083000@VHSTÜBINGEN
SUMMARY:Integrationskurs GeLi 308 Abschnitt 4 (261-474308) 
LOCATION:vhs, Schulungsraum 309, Katharinenstraße 18, 72072 Tübingen
END:VEVENT
BEGIN:VEVENT
DTSTAMP:20260421T173000
DTSTART;TZID=Europe/Berlin:20260702T083000
DTEND;TZID=Europe/Berlin:20260702T120000
UID:261-474308-20260702T083000@VHSTÜBINGEN
SUMMARY:Integrationskurs GeLi 308 Abschnitt 4 (261-474308) 
LOCATION:vhs, Schulungsraum 309, Katharinenstraße 18, 72072 Tübingen
END:VEVENT
BEGIN:VEVENT
DTSTAMP:20260421T173000
DTSTART;TZID=Europe/Berlin:20260703T083000
DTEND;TZID=Europe/Berlin:20260703T120000
UID:261-474308-20260703T083000@VHSTÜBINGEN
SUMMARY:Integrationskurs GeLi 308 Abschnitt 4 (261-474308) 
LOCATION:vhs, Schulungsraum 309, Katharinenstraße 18, 72072 Tübingen
END:VEVENT
BEGIN:VEVENT
DTSTAMP:20260421T173000
DTSTART;TZID=Europe/Berlin:20260706T083000
DTEND;TZID=Europe/Berlin:20260706T120000
UID:261-474308-20260706T083000@VHSTÜBINGEN
SUMMARY:Integrationskurs GeLi 308 Abschnitt 4 (261-474308) 
LOCATION:vhs, Schulungsraum 117, Katharinenstraße 18, 72072 Tübingen
END:VEVENT
BEGIN:VEVENT
DTSTAMP:20260421T173000
DTSTART;TZID=Europe/Berlin:20260707T083000
DTEND;TZID=Europe/Berlin:20260707T120000
UID:261-474308-20260707T083000@VHSTÜBINGEN
SUMMARY:Integrationskurs GeLi 308 Abschnitt 4 (261-474308) 
LOCATION:vhs, Schulungsraum 309, Katharinenstraße 18, 72072 Tübingen
END:VEVENT
BEGIN:VEVENT
DTSTAMP:20260421T173000
DTSTART;TZID=Europe/Berlin:20260708T083000
DTEND;TZID=Europe/Berlin:20260708T120000
UID:261-474308-20260708T083000@VHSTÜBINGEN
SUMMARY:Integrationskurs GeLi 308 Abschnitt 4 (261-474308) 
LOCATION:vhs, Schulungsraum 309, Katharinenstraße 18, 72072 Tübingen
END:VEVENT
BEGIN:VEVENT
DTSTAMP:20260421T173000
DTSTART;TZID=Europe/Berlin:20260709T083000
DTEND;TZID=Europe/Berlin:20260709T120000
UID:261-474308-20260709T083000@VHSTÜBINGEN
SUMMARY:Integrationskurs GeLi 308 Abschnitt 4 (261-474308) 
LOCATION:vhs, Schulungsraum 115, Katharinenstraße 18, 72072 Tübingen
END:VEVENT
BEGIN:VEVENT
DTSTAMP:20260421T173000
DTSTART;TZID=Europe/Berlin:20260710T083000
DTEND;TZID=Europe/Berlin:20260710T120000
UID:261-474308-20260710T083000@VHSTÜBINGEN
SUMMARY:Integrationskurs GeLi 308 Abschnitt 4 (261-474308) 
LOCATION:vhs, Schulungsraum 115, Katharinenstraße 18, 72072 Tübingen
END:VEVENT
BEGIN:VEVENT
DTSTAMP:20260421T173000
DTSTART;TZID=Europe/Berlin:20260713T083000
DTEND;TZID=Europe/Berlin:20260713T120000
UID:261-474308-20260713T083000@VHSTÜBINGEN
SUMMARY:Integrationskurs GeLi 308 Abschnitt 4 (261-474308) 
LOCATION:vhs, Schulungsraum 217, Katharinenstraße 18, 72072 Tübingen
END:VEVENT
BEGIN:VEVENT
DTSTAMP:20260421T173000
DTSTART;TZID=Europe/Berlin:20260714T083000
DTEND;TZID=Europe/Berlin:20260714T120000
UID:261-474308-20260714T083000@VHSTÜBINGEN
SUMMARY:Integrationskurs GeLi 308 Abschnitt 4 (261-474308) 
LOCATION:vhs, Schulungsraum 115, Katharinenstraße 18, 72072 Tübingen
END:VEVENT
BEGIN:VEVENT
DTSTAMP:20260421T173000
DTSTART;TZID=Europe/Berlin:20260715T083000
DTEND;TZID=Europe/Berlin:20260715T120000
UID:261-474308-20260715T083000@VHSTÜBINGEN
SUMMARY:Integrationskurs GeLi 308 Abschnitt 4 (261-474308) 
LOCATION:vhs, Schulungsraum 309, Katharinenstraße 18, 72072 Tübingen
END:VEVENT
BEGIN:VEVENT
DTSTAMP:20260421T173000
DTSTART;TZID=Europe/Berlin:20260716T083000
DTEND;TZID=Europe/Berlin:20260716T120000
UID:261-474308-20260716T083000@VHSTÜBINGEN
SUMMARY:Integrationskurs GeLi 308 Abschnitt 4 (261-474308) 
LOCATION:vhs, Schulungsraum 309, Katharinenstraße 18, 72072 Tübingen
END:VEVENT
BEGIN:VEVENT
DTSTAMP:20260421T173000
DTSTART;TZID=Europe/Berlin:20260717T083000
DTEND;TZID=Europe/Berlin:20260717T120000
UID:261-474308-20260717T083000@VHSTÜBINGEN
SUMMARY:Integrationskurs GeLi 308 Abschnitt 4 (261-474308) 
LOCATION:vhs, Schulungsraum 115, Katharinenstraße 18, 72072 Tübingen
END:VEVENT
BEGIN:VEVENT
DTSTAMP:20260421T173000
DTSTART;TZID=Europe/Berlin:20260720T081500
DTEND;TZID=Europe/Berlin:20260720T114500
UID:261-474308-20260720T081500@VHSTÜBINGEN
SUMMARY:Integrationskurs GeLi 308 Abschnitt 4 (261-474308) 
LOCATION:vhs, Schulungsraum 213, Katharinenstraße 18, 72072 Tübingen
END:VEVENT
BEGIN:VEVENT
DTSTAMP:20260421T173000
DTSTART;TZID=Europe/Berlin:20260721T083000
DTEND;TZID=Europe/Berlin:20260721T120000
UID:261-474308-20260721T083000@VHSTÜBINGEN
SUMMARY:Integrationskurs GeLi 308 Abschnitt 4 (261-474308) 
LOCATION:vhs, Schulungsraum 115, Katharinenstraße 18, 72072 Tübingen
END:VEVENT
END:VCALENDAR