BEGIN:VCALENDAR
VERSION:2.0
PRODID:https://www.kufer.de/kuferweb / DE
METHOD:PUBLISH
CALSCALE:GREGORIAN
X-WR-TIMEZONE:Europe/Berlin
BEGIN:VTIMEZONE
TZID:Europe/Berlin
X-LIC-LOCATION:Europe/Berlin
BEGIN:DAYLIGHT
TZOFFSETFROM:+0100
TZOFFSETTO:+0200
TZNAME:CEST
DTSTART:19700329T020000
RRULE:FREQ=YEARLY;INTERVAL=1;BYDAY=-1SU;BYMONTH=3
END:DAYLIGHT
BEGIN:STANDARD
TZOFFSETFROM:+0200
TZOFFSETTO:+0100
TZNAME:CET
DTSTART:19701025T030000
RRULE:FREQ=YEARLY;INTERVAL=1;BYDAY=-1SU;BYMONTH=10
END:STANDARD
END:VTIMEZONE
BEGIN:VEVENT
DTSTAMP:20260423T122326
DTSTART;TZID=Europe/Berlin:20260305T133000
DTEND;TZID=Europe/Berlin:20260305T164500
UID:261-475292-20260305T133000@VHSTÜBINGEN
SUMMARY:Deutsch Intensiv B1.1 / Integrationskurs 292 (261-475292) 
LOCATION:vhs, Schulungsraum 208, Katharinenstraße 18, 72072 Tübingen
END:VEVENT
BEGIN:VEVENT
DTSTAMP:20260423T122326
DTSTART;TZID=Europe/Berlin:20260306T133000
DTEND;TZID=Europe/Berlin:20260306T164500
UID:261-475292-20260306T133000@VHSTÜBINGEN
SUMMARY:Deutsch Intensiv B1.1 / Integrationskurs 292 (261-475292) 
LOCATION:vhs, Schulungsraum 208, Katharinenstraße 18, 72072 Tübingen
END:VEVENT
BEGIN:VEVENT
DTSTAMP:20260423T122326
DTSTART;TZID=Europe/Berlin:20260309T133000
DTEND;TZID=Europe/Berlin:20260309T164500
UID:261-475292-20260309T133000@VHSTÜBINGEN
SUMMARY:Deutsch Intensiv B1.1 / Integrationskurs 292 (261-475292) 
LOCATION:vhs, Schulungsraum 208, Katharinenstraße 18, 72072 Tübingen
END:VEVENT
BEGIN:VEVENT
DTSTAMP:20260423T122326
DTSTART;TZID=Europe/Berlin:20260310T133000
DTEND;TZID=Europe/Berlin:20260310T164500
UID:261-475292-20260310T133000@VHSTÜBINGEN
SUMMARY:Deutsch Intensiv B1.1 / Integrationskurs 292 (261-475292) 
LOCATION:vhs, Schulungsraum 208, Katharinenstraße 18, 72072 Tübingen
END:VEVENT
BEGIN:VEVENT
DTSTAMP:20260423T122326
DTSTART;TZID=Europe/Berlin:20260311T133000
DTEND;TZID=Europe/Berlin:20260311T164500
UID:261-475292-20260311T133000@VHSTÜBINGEN
SUMMARY:Deutsch Intensiv B1.1 / Integrationskurs 292 (261-475292) 
LOCATION:vhs, Schulungsraum 208, Katharinenstraße 18, 72072 Tübingen
END:VEVENT
BEGIN:VEVENT
DTSTAMP:20260423T122326
DTSTART;TZID=Europe/Berlin:20260312T133000
DTEND;TZID=Europe/Berlin:20260312T164500
UID:261-475292-20260312T133000@VHSTÜBINGEN
SUMMARY:Deutsch Intensiv B1.1 / Integrationskurs 292 (261-475292) 
LOCATION:vhs, Schulungsraum 208, Katharinenstraße 18, 72072 Tübingen
END:VEVENT
BEGIN:VEVENT
DTSTAMP:20260423T122326
DTSTART;TZID=Europe/Berlin:20260313T133000
DTEND;TZID=Europe/Berlin:20260313T164500
UID:261-475292-20260313T133000@VHSTÜBINGEN
SUMMARY:Deutsch Intensiv B1.1 / Integrationskurs 292 (261-475292) 
LOCATION:vhs, Schulungsraum 208, Katharinenstraße 18, 72072 Tübingen
END:VEVENT
BEGIN:VEVENT
DTSTAMP:20260423T122326
DTSTART;TZID=Europe/Berlin:20260316T133000
DTEND;TZID=Europe/Berlin:20260316T164500
UID:261-475292-20260316T133000@VHSTÜBINGEN
SUMMARY:Deutsch Intensiv B1.1 / Integrationskurs 292 (261-475292) 
LOCATION:vhs, Schulungsraum 208, Katharinenstraße 18, 72072 Tübingen
END:VEVENT
BEGIN:VEVENT
DTSTAMP:20260423T122326
DTSTART;TZID=Europe/Berlin:20260317T133000
DTEND;TZID=Europe/Berlin:20260317T164500
UID:261-475292-20260317T133000@VHSTÜBINGEN
SUMMARY:Deutsch Intensiv B1.1 / Integrationskurs 292 (261-475292) 
LOCATION:vhs, Schulungsraum 208, Katharinenstraße 18, 72072 Tübingen
END:VEVENT
BEGIN:VEVENT
DTSTAMP:20260423T122326
DTSTART;TZID=Europe/Berlin:20260318T133000
DTEND;TZID=Europe/Berlin:20260318T164500
UID:261-475292-20260318T133000@VHSTÜBINGEN
SUMMARY:Deutsch Intensiv B1.1 / Integrationskurs 292 (261-475292) 
LOCATION:vhs, Schulungsraum 208, Katharinenstraße 18, 72072 Tübingen
END:VEVENT
BEGIN:VEVENT
DTSTAMP:20260423T122326
DTSTART;TZID=Europe/Berlin:20260319T133000
DTEND;TZID=Europe/Berlin:20260319T164500
UID:261-475292-20260319T133000@VHSTÜBINGEN
SUMMARY:Deutsch Intensiv B1.1 / Integrationskurs 292 (261-475292) 
LOCATION:vhs, Schulungsraum 208, Katharinenstraße 18, 72072 Tübingen
END:VEVENT
BEGIN:VEVENT
DTSTAMP:20260423T122326
DTSTART;TZID=Europe/Berlin:20260320T133000
DTEND;TZID=Europe/Berlin:20260320T164500
UID:261-475292-20260320T133000@VHSTÜBINGEN
SUMMARY:Deutsch Intensiv B1.1 / Integrationskurs 292 (261-475292) 
LOCATION:vhs, Schulungsraum 208, Katharinenstraße 18, 72072 Tübingen
END:VEVENT
BEGIN:VEVENT
DTSTAMP:20260423T122326
DTSTART;TZID=Europe/Berlin:20260323T133000
DTEND;TZID=Europe/Berlin:20260323T164500
UID:261-475292-20260323T133000@VHSTÜBINGEN
SUMMARY:Deutsch Intensiv B1.1 / Integrationskurs 292 (261-475292) 
LOCATION:vhs, Schulungsraum 208, Katharinenstraße 18, 72072 Tübingen
END:VEVENT
BEGIN:VEVENT
DTSTAMP:20260423T122326
DTSTART;TZID=Europe/Berlin:20260324T133000
DTEND;TZID=Europe/Berlin:20260324T164500
UID:261-475292-20260324T133000@VHSTÜBINGEN
SUMMARY:Deutsch Intensiv B1.1 / Integrationskurs 292 (261-475292) 
LOCATION:vhs, Schulungsraum 208, Katharinenstraße 18, 72072 Tübingen
END:VEVENT
BEGIN:VEVENT
DTSTAMP:20260423T122326
DTSTART;TZID=Europe/Berlin:20260325T133000
DTEND;TZID=Europe/Berlin:20260325T164500
UID:261-475292-20260325T133000@VHSTÜBINGEN
SUMMARY:Deutsch Intensiv B1.1 / Integrationskurs 292 (261-475292) 
LOCATION:vhs, Schulungsraum 208, Katharinenstraße 18, 72072 Tübingen
END:VEVENT
BEGIN:VEVENT
DTSTAMP:20260423T122326
DTSTART;TZID=Europe/Berlin:20260326T133000
DTEND;TZID=Europe/Berlin:20260326T164500
UID:261-475292-20260326T133000@VHSTÜBINGEN
SUMMARY:Deutsch Intensiv B1.1 / Integrationskurs 292 (261-475292) 
LOCATION:vhs, Schulungsraum 208, Katharinenstraße 18, 72072 Tübingen
END:VEVENT
BEGIN:VEVENT
DTSTAMP:20260423T122326
DTSTART;TZID=Europe/Berlin:20260327T133000
DTEND;TZID=Europe/Berlin:20260327T164500
UID:261-475292-20260327T133000@VHSTÜBINGEN
SUMMARY:Deutsch Intensiv B1.1 / Integrationskurs 292 (261-475292) 
LOCATION:vhs, Schulungsraum 208, Katharinenstraße 18, 72072 Tübingen
END:VEVENT
BEGIN:VEVENT
DTSTAMP:20260423T122326
DTSTART;TZID=Europe/Berlin:20260413T133000
DTEND;TZID=Europe/Berlin:20260413T164500
UID:261-475292-20260413T133000@VHSTÜBINGEN
SUMMARY:Deutsch Intensiv B1.1 / Integrationskurs 292 (261-475292) 
LOCATION:vhs, Schulungsraum 208, Katharinenstraße 18, 72072 Tübingen
END:VEVENT
BEGIN:VEVENT
DTSTAMP:20260423T122326
DTSTART;TZID=Europe/Berlin:20260414T133000
DTEND;TZID=Europe/Berlin:20260414T164500
UID:261-475292-20260414T133000@VHSTÜBINGEN
SUMMARY:Deutsch Intensiv B1.1 / Integrationskurs 292 (261-475292) 
LOCATION:vhs, Schulungsraum 208, Katharinenstraße 18, 72072 Tübingen
END:VEVENT
BEGIN:VEVENT
DTSTAMP:20260423T122326
DTSTART;TZID=Europe/Berlin:20260415T133000
DTEND;TZID=Europe/Berlin:20260415T164500
UID:261-475292-20260415T133000@VHSTÜBINGEN
SUMMARY:Deutsch Intensiv B1.1 / Integrationskurs 292 (261-475292) 
LOCATION:vhs, Schulungsraum 208, Katharinenstraße 18, 72072 Tübingen
END:VEVENT
BEGIN:VEVENT
DTSTAMP:20260423T122326
DTSTART;TZID=Europe/Berlin:20260416T133000
DTEND;TZID=Europe/Berlin:20260416T164500
UID:261-475292-20260416T133000@VHSTÜBINGEN
SUMMARY:Deutsch Intensiv B1.1 / Integrationskurs 292 (261-475292) 
LOCATION:vhs, Schulungsraum 208, Katharinenstraße 18, 72072 Tübingen
END:VEVENT
BEGIN:VEVENT
DTSTAMP:20260423T122326
DTSTART;TZID=Europe/Berlin:20260417T133000
DTEND;TZID=Europe/Berlin:20260417T164500
UID:261-475292-20260417T133000@VHSTÜBINGEN
SUMMARY:Deutsch Intensiv B1.1 / Integrationskurs 292 (261-475292) 
LOCATION:vhs, Schulungsraum 208, Katharinenstraße 18, 72072 Tübingen
END:VEVENT
BEGIN:VEVENT
DTSTAMP:20260423T122326
DTSTART;TZID=Europe/Berlin:20260420T133000
DTEND;TZID=Europe/Berlin:20260420T164500
UID:261-475292-20260420T133000@VHSTÜBINGEN
SUMMARY:Deutsch Intensiv B1.1 / Integrationskurs 292 (261-475292) 
LOCATION:vhs, Schulungsraum 208, Katharinenstraße 18, 72072 Tübingen
END:VEVENT
BEGIN:VEVENT
DTSTAMP:20260423T122326
DTSTART;TZID=Europe/Berlin:20260421T133000
DTEND;TZID=Europe/Berlin:20260421T164500
UID:261-475292-20260421T133000@VHSTÜBINGEN
SUMMARY:Deutsch Intensiv B1.1 / Integrationskurs 292 (261-475292) 
LOCATION:vhs, Schulungsraum 208, Katharinenstraße 18, 72072 Tübingen
END:VEVENT
BEGIN:VEVENT
DTSTAMP:20260423T122326
DTSTART;TZID=Europe/Berlin:20260422T133000
DTEND;TZID=Europe/Berlin:20260422T164500
UID:261-475292-20260422T133000@VHSTÜBINGEN
SUMMARY:Deutsch Intensiv B1.1 / Integrationskurs 292 (261-475292) 
LOCATION:vhs, Schulungsraum 208, Katharinenstraße 18, 72072 Tübingen
END:VEVENT
END:VCALENDAR