BEGIN:VCALENDAR
VERSION:2.0
PRODID:https://www.kufer.de/kuferweb / DE
METHOD:PUBLISH
CALSCALE:GREGORIAN
X-WR-TIMEZONE:Europe/Berlin
BEGIN:VTIMEZONE
TZID:Europe/Berlin
X-LIC-LOCATION:Europe/Berlin
BEGIN:DAYLIGHT
TZOFFSETFROM:+0100
TZOFFSETTO:+0200
TZNAME:CEST
DTSTART:19700329T020000
RRULE:FREQ=YEARLY;INTERVAL=1;BYDAY=-1SU;BYMONTH=3
END:DAYLIGHT
BEGIN:STANDARD
TZOFFSETFROM:+0200
TZOFFSETTO:+0100
TZNAME:CET
DTSTART:19701025T030000
RRULE:FREQ=YEARLY;INTERVAL=1;BYDAY=-1SU;BYMONTH=10
END:STANDARD
END:VTIMEZONE
BEGIN:VEVENT
DTSTAMP:20260421T174704
DTSTART;TZID=Europe/Berlin:20260520T133000
DTEND;TZID=Europe/Berlin:20260520T170000
UID:261-475299-20260520T133000@VHSTÜBINGEN
SUMMARY:Deutsch Intensiv B1.1 / Integrationskurs 299 (261-475299) 
LOCATION:vhs, Schulungsraum 015, Katharinenstraße 18, 72072 Tübingen
END:VEVENT
BEGIN:VEVENT
DTSTAMP:20260421T174704
DTSTART;TZID=Europe/Berlin:20260521T133000
DTEND;TZID=Europe/Berlin:20260521T170000
UID:261-475299-20260521T133000@VHSTÜBINGEN
SUMMARY:Deutsch Intensiv B1.1 / Integrationskurs 299 (261-475299) 
LOCATION:vhs, Schulungsraum 015, Katharinenstraße 18, 72072 Tübingen
END:VEVENT
BEGIN:VEVENT
DTSTAMP:20260421T174704
DTSTART;TZID=Europe/Berlin:20260522T133000
DTEND;TZID=Europe/Berlin:20260522T170000
UID:261-475299-20260522T133000@VHSTÜBINGEN
SUMMARY:Deutsch Intensiv B1.1 / Integrationskurs 299 (261-475299) 
LOCATION:vhs, Schulungsraum 015, Katharinenstraße 18, 72072 Tübingen
END:VEVENT
BEGIN:VEVENT
DTSTAMP:20260421T174704
DTSTART;TZID=Europe/Berlin:20260608T133000
DTEND;TZID=Europe/Berlin:20260608T170000
UID:261-475299-20260608T133000@VHSTÜBINGEN
SUMMARY:Deutsch Intensiv B1.1 / Integrationskurs 299 (261-475299) 
LOCATION:vhs, Schulungsraum 015, Katharinenstraße 18, 72072 Tübingen
END:VEVENT
BEGIN:VEVENT
DTSTAMP:20260421T174704
DTSTART;TZID=Europe/Berlin:20260609T133000
DTEND;TZID=Europe/Berlin:20260609T170000
UID:261-475299-20260609T133000@VHSTÜBINGEN
SUMMARY:Deutsch Intensiv B1.1 / Integrationskurs 299 (261-475299) 
LOCATION:vhs, Schulungsraum 015, Katharinenstraße 18, 72072 Tübingen
END:VEVENT
BEGIN:VEVENT
DTSTAMP:20260421T174704
DTSTART;TZID=Europe/Berlin:20260610T133000
DTEND;TZID=Europe/Berlin:20260610T170000
UID:261-475299-20260610T133000@VHSTÜBINGEN
SUMMARY:Deutsch Intensiv B1.1 / Integrationskurs 299 (261-475299) 
LOCATION:vhs, Schulungsraum 015, Katharinenstraße 18, 72072 Tübingen
END:VEVENT
BEGIN:VEVENT
DTSTAMP:20260421T174704
DTSTART;TZID=Europe/Berlin:20260611T133000
DTEND;TZID=Europe/Berlin:20260611T170000
UID:261-475299-20260611T133000@VHSTÜBINGEN
SUMMARY:Deutsch Intensiv B1.1 / Integrationskurs 299 (261-475299) 
LOCATION:vhs, Schulungsraum 015, Katharinenstraße 18, 72072 Tübingen
END:VEVENT
BEGIN:VEVENT
DTSTAMP:20260421T174704
DTSTART;TZID=Europe/Berlin:20260612T133000
DTEND;TZID=Europe/Berlin:20260612T170000
UID:261-475299-20260612T133000@VHSTÜBINGEN
SUMMARY:Deutsch Intensiv B1.1 / Integrationskurs 299 (261-475299) 
LOCATION:vhs, Schulungsraum 017, Katharinenstraße 18, 72072 Tübingen
END:VEVENT
BEGIN:VEVENT
DTSTAMP:20260421T174704
DTSTART;TZID=Europe/Berlin:20260615T133000
DTEND;TZID=Europe/Berlin:20260615T170000
UID:261-475299-20260615T133000@VHSTÜBINGEN
SUMMARY:Deutsch Intensiv B1.1 / Integrationskurs 299 (261-475299) 
LOCATION:vhs, Schulungsraum 015, Katharinenstraße 18, 72072 Tübingen
END:VEVENT
BEGIN:VEVENT
DTSTAMP:20260421T174704
DTSTART;TZID=Europe/Berlin:20260616T133000
DTEND;TZID=Europe/Berlin:20260616T170000
UID:261-475299-20260616T133000@VHSTÜBINGEN
SUMMARY:Deutsch Intensiv B1.1 / Integrationskurs 299 (261-475299) 
LOCATION:vhs, Schulungsraum 015, Katharinenstraße 18, 72072 Tübingen
END:VEVENT
BEGIN:VEVENT
DTSTAMP:20260421T174704
DTSTART;TZID=Europe/Berlin:20260617T133000
DTEND;TZID=Europe/Berlin:20260617T170000
UID:261-475299-20260617T133000@VHSTÜBINGEN
SUMMARY:Deutsch Intensiv B1.1 / Integrationskurs 299 (261-475299) 
LOCATION:vhs, Schulungsraum 015, Katharinenstraße 18, 72072 Tübingen
END:VEVENT
BEGIN:VEVENT
DTSTAMP:20260421T174704
DTSTART;TZID=Europe/Berlin:20260618T133000
DTEND;TZID=Europe/Berlin:20260618T170000
UID:261-475299-20260618T133000@VHSTÜBINGEN
SUMMARY:Deutsch Intensiv B1.1 / Integrationskurs 299 (261-475299) 
LOCATION:vhs, Schulungsraum 015, Katharinenstraße 18, 72072 Tübingen
END:VEVENT
BEGIN:VEVENT
DTSTAMP:20260421T174704
DTSTART;TZID=Europe/Berlin:20260619T133000
DTEND;TZID=Europe/Berlin:20260619T170000
UID:261-475299-20260619T133000@VHSTÜBINGEN
SUMMARY:Deutsch Intensiv B1.1 / Integrationskurs 299 (261-475299) 
LOCATION:vhs, Schulungsraum 015, Katharinenstraße 18, 72072 Tübingen
END:VEVENT
BEGIN:VEVENT
DTSTAMP:20260421T174704
DTSTART;TZID=Europe/Berlin:20260622T133000
DTEND;TZID=Europe/Berlin:20260622T170000
UID:261-475299-20260622T133000@VHSTÜBINGEN
SUMMARY:Deutsch Intensiv B1.1 / Integrationskurs 299 (261-475299) 
LOCATION:vhs, Schulungsraum 015, Katharinenstraße 18, 72072 Tübingen
END:VEVENT
BEGIN:VEVENT
DTSTAMP:20260421T174704
DTSTART;TZID=Europe/Berlin:20260623T133000
DTEND;TZID=Europe/Berlin:20260623T170000
UID:261-475299-20260623T133000@VHSTÜBINGEN
SUMMARY:Deutsch Intensiv B1.1 / Integrationskurs 299 (261-475299) 
LOCATION:vhs, Schulungsraum 015, Katharinenstraße 18, 72072 Tübingen
END:VEVENT
BEGIN:VEVENT
DTSTAMP:20260421T174704
DTSTART;TZID=Europe/Berlin:20260624T133000
DTEND;TZID=Europe/Berlin:20260624T170000
UID:261-475299-20260624T133000@VHSTÜBINGEN
SUMMARY:Deutsch Intensiv B1.1 / Integrationskurs 299 (261-475299) 
LOCATION:vhs, Schulungsraum 015, Katharinenstraße 18, 72072 Tübingen
END:VEVENT
BEGIN:VEVENT
DTSTAMP:20260421T174704
DTSTART;TZID=Europe/Berlin:20260625T133000
DTEND;TZID=Europe/Berlin:20260625T170000
UID:261-475299-20260625T133000@VHSTÜBINGEN
SUMMARY:Deutsch Intensiv B1.1 / Integrationskurs 299 (261-475299) 
LOCATION:vhs, Schulungsraum 015, Katharinenstraße 18, 72072 Tübingen
END:VEVENT
BEGIN:VEVENT
DTSTAMP:20260421T174704
DTSTART;TZID=Europe/Berlin:20260626T133000
DTEND;TZID=Europe/Berlin:20260626T170000
UID:261-475299-20260626T133000@VHSTÜBINGEN
SUMMARY:Deutsch Intensiv B1.1 / Integrationskurs 299 (261-475299) 
LOCATION:vhs, Schulungsraum 015, Katharinenstraße 18, 72072 Tübingen
END:VEVENT
BEGIN:VEVENT
DTSTAMP:20260421T174704
DTSTART;TZID=Europe/Berlin:20260629T133000
DTEND;TZID=Europe/Berlin:20260629T170000
UID:261-475299-20260629T133000@VHSTÜBINGEN
SUMMARY:Deutsch Intensiv B1.1 / Integrationskurs 299 (261-475299) 
LOCATION:vhs, Schulungsraum 015, Katharinenstraße 18, 72072 Tübingen
END:VEVENT
BEGIN:VEVENT
DTSTAMP:20260421T174704
DTSTART;TZID=Europe/Berlin:20260630T133000
DTEND;TZID=Europe/Berlin:20260630T170000
UID:261-475299-20260630T133000@VHSTÜBINGEN
SUMMARY:Deutsch Intensiv B1.1 / Integrationskurs 299 (261-475299) 
LOCATION:vhs, Schulungsraum 015, Katharinenstraße 18, 72072 Tübingen
END:VEVENT
BEGIN:VEVENT
DTSTAMP:20260421T174704
DTSTART;TZID=Europe/Berlin:20260701T133000
DTEND;TZID=Europe/Berlin:20260701T170000
UID:261-475299-20260701T133000@VHSTÜBINGEN
SUMMARY:Deutsch Intensiv B1.1 / Integrationskurs 299 (261-475299) 
LOCATION:vhs, Schulungsraum 015, Katharinenstraße 18, 72072 Tübingen
END:VEVENT
BEGIN:VEVENT
DTSTAMP:20260421T174704
DTSTART;TZID=Europe/Berlin:20260702T133000
DTEND;TZID=Europe/Berlin:20260702T170000
UID:261-475299-20260702T133000@VHSTÜBINGEN
SUMMARY:Deutsch Intensiv B1.1 / Integrationskurs 299 (261-475299) 
LOCATION:vhs, Schulungsraum 015, Katharinenstraße 18, 72072 Tübingen
END:VEVENT
BEGIN:VEVENT
DTSTAMP:20260421T174704
DTSTART;TZID=Europe/Berlin:20260703T133000
DTEND;TZID=Europe/Berlin:20260703T170000
UID:261-475299-20260703T133000@VHSTÜBINGEN
SUMMARY:Deutsch Intensiv B1.1 / Integrationskurs 299 (261-475299) 
LOCATION:vhs, Schulungsraum 015, Katharinenstraße 18, 72072 Tübingen
END:VEVENT
BEGIN:VEVENT
DTSTAMP:20260421T174704
DTSTART;TZID=Europe/Berlin:20260706T133000
DTEND;TZID=Europe/Berlin:20260706T170000
UID:261-475299-20260706T133000@VHSTÜBINGEN
SUMMARY:Deutsch Intensiv B1.1 / Integrationskurs 299 (261-475299) 
LOCATION:vhs, Schulungsraum 015, Katharinenstraße 18, 72072 Tübingen
END:VEVENT
BEGIN:VEVENT
DTSTAMP:20260421T174704
DTSTART;TZID=Europe/Berlin:20260707T133000
DTEND;TZID=Europe/Berlin:20260707T170000
UID:261-475299-20260707T133000@VHSTÜBINGEN
SUMMARY:Deutsch Intensiv B1.1 / Integrationskurs 299 (261-475299) 
LOCATION:vhs, Schulungsraum 015, Katharinenstraße 18, 72072 Tübingen
END:VEVENT
END:VCALENDAR