BEGIN:VCALENDAR
VERSION:2.0
PRODID:https://www.kufer.de/kuferweb / DE
METHOD:PUBLISH
CALSCALE:GREGORIAN
X-WR-TIMEZONE:Europe/Berlin
BEGIN:VTIMEZONE
TZID:Europe/Berlin
X-LIC-LOCATION:Europe/Berlin
BEGIN:DAYLIGHT
TZOFFSETFROM:+0100
TZOFFSETTO:+0200
TZNAME:CEST
DTSTART:19700329T020000
RRULE:FREQ=YEARLY;INTERVAL=1;BYDAY=-1SU;BYMONTH=3
END:DAYLIGHT
BEGIN:STANDARD
TZOFFSETFROM:+0200
TZOFFSETTO:+0100
TZNAME:CET
DTSTART:19701025T030000
RRULE:FREQ=YEARLY;INTERVAL=1;BYDAY=-1SU;BYMONTH=10
END:STANDARD
END:VTIMEZONE
BEGIN:VEVENT
DTSTAMP:20260421T223804
DTSTART;TZID=Europe/Berlin:20260709T140000
DTEND;TZID=Europe/Berlin:20260709T181500
UID:261-475303-20260709T140000@VHSTÜBINGEN
SUMMARY:Deutsch Intensiv B1.1/ Integrationskurs 303 (261-475303) 
LOCATION:vhs, Schulungsraum 215, Katharinenstraße 18, 72072 Tübingen
END:VEVENT
BEGIN:VEVENT
DTSTAMP:20260421T223804
DTSTART;TZID=Europe/Berlin:20260710T140000
DTEND;TZID=Europe/Berlin:20260710T181500
UID:261-475303-20260710T140000@VHSTÜBINGEN
SUMMARY:Deutsch Intensiv B1.1/ Integrationskurs 303 (261-475303) 
LOCATION:vhs, Schulungsraum 215, Katharinenstraße 18, 72072 Tübingen
END:VEVENT
BEGIN:VEVENT
DTSTAMP:20260421T223804
DTSTART;TZID=Europe/Berlin:20260713T133000
DTEND;TZID=Europe/Berlin:20260713T174500
UID:261-475303-20260713T133000@VHSTÜBINGEN
SUMMARY:Deutsch Intensiv B1.1/ Integrationskurs 303 (261-475303) 
LOCATION:vhs, Schulungsraum 215, Katharinenstraße 18, 72072 Tübingen
END:VEVENT
BEGIN:VEVENT
DTSTAMP:20260421T223804
DTSTART;TZID=Europe/Berlin:20260714T133000
DTEND;TZID=Europe/Berlin:20260714T174500
UID:261-475303-20260714T133000@VHSTÜBINGEN
SUMMARY:Deutsch Intensiv B1.1/ Integrationskurs 303 (261-475303) 
LOCATION:vhs, Schulungsraum 215, Katharinenstraße 18, 72072 Tübingen
END:VEVENT
BEGIN:VEVENT
DTSTAMP:20260421T223804
DTSTART;TZID=Europe/Berlin:20260716T140000
DTEND;TZID=Europe/Berlin:20260716T181500
UID:261-475303-20260716T140000@VHSTÜBINGEN
SUMMARY:Deutsch Intensiv B1.1/ Integrationskurs 303 (261-475303) 
LOCATION:vhs, Schulungsraum 215, Katharinenstraße 18, 72072 Tübingen
END:VEVENT
BEGIN:VEVENT
DTSTAMP:20260421T223804
DTSTART;TZID=Europe/Berlin:20260717T140000
DTEND;TZID=Europe/Berlin:20260717T181500
UID:261-475303-20260717T140000@VHSTÜBINGEN
SUMMARY:Deutsch Intensiv B1.1/ Integrationskurs 303 (261-475303) 
LOCATION:vhs, Schulungsraum 215, Katharinenstraße 18, 72072 Tübingen
END:VEVENT
BEGIN:VEVENT
DTSTAMP:20260421T223804
DTSTART;TZID=Europe/Berlin:20260720T133000
DTEND;TZID=Europe/Berlin:20260720T174500
UID:261-475303-20260720T133000@VHSTÜBINGEN
SUMMARY:Deutsch Intensiv B1.1/ Integrationskurs 303 (261-475303) 
LOCATION:vhs, Schulungsraum 215, Katharinenstraße 18, 72072 Tübingen
END:VEVENT
BEGIN:VEVENT
DTSTAMP:20260421T223804
DTSTART;TZID=Europe/Berlin:20260721T133000
DTEND;TZID=Europe/Berlin:20260721T174500
UID:261-475303-20260721T133000@VHSTÜBINGEN
SUMMARY:Deutsch Intensiv B1.1/ Integrationskurs 303 (261-475303) 
LOCATION:vhs, Schulungsraum 215, Katharinenstraße 18, 72072 Tübingen
END:VEVENT
BEGIN:VEVENT
DTSTAMP:20260421T223804
DTSTART;TZID=Europe/Berlin:20260723T140000
DTEND;TZID=Europe/Berlin:20260723T181500
UID:261-475303-20260723T140000@VHSTÜBINGEN
SUMMARY:Deutsch Intensiv B1.1/ Integrationskurs 303 (261-475303) 
LOCATION:vhs, Schulungsraum 215, Katharinenstraße 18, 72072 Tübingen
END:VEVENT
BEGIN:VEVENT
DTSTAMP:20260421T223804
DTSTART;TZID=Europe/Berlin:20260724T140000
DTEND;TZID=Europe/Berlin:20260724T181500
UID:261-475303-20260724T140000@VHSTÜBINGEN
SUMMARY:Deutsch Intensiv B1.1/ Integrationskurs 303 (261-475303) 
LOCATION:vhs, Schulungsraum 215, Katharinenstraße 18, 72072 Tübingen
END:VEVENT
BEGIN:VEVENT
DTSTAMP:20260421T223804
DTSTART;TZID=Europe/Berlin:20260727T133000
DTEND;TZID=Europe/Berlin:20260727T174500
UID:261-475303-20260727T133000@VHSTÜBINGEN
SUMMARY:Deutsch Intensiv B1.1/ Integrationskurs 303 (261-475303) 
LOCATION:vhs, Schulungsraum 215, Katharinenstraße 18, 72072 Tübingen
END:VEVENT
BEGIN:VEVENT
DTSTAMP:20260421T223804
DTSTART;TZID=Europe/Berlin:20260728T133000
DTEND;TZID=Europe/Berlin:20260728T174500
UID:261-475303-20260728T133000@VHSTÜBINGEN
SUMMARY:Deutsch Intensiv B1.1/ Integrationskurs 303 (261-475303) 
LOCATION:vhs, Schulungsraum 215, Katharinenstraße 18, 72072 Tübingen
END:VEVENT
BEGIN:VEVENT
DTSTAMP:20260421T223804
DTSTART;TZID=Europe/Berlin:20260914T133000
DTEND;TZID=Europe/Berlin:20260914T174500
UID:261-475303-20260914T133000@VHSTÜBINGEN
SUMMARY:Deutsch Intensiv B1.1/ Integrationskurs 303 (261-475303) 
LOCATION:vhs, Schulungsraum 215, Katharinenstraße 18, 72072 Tübingen
END:VEVENT
BEGIN:VEVENT
DTSTAMP:20260421T223804
DTSTART;TZID=Europe/Berlin:20260915T133000
DTEND;TZID=Europe/Berlin:20260915T174500
UID:261-475303-20260915T133000@VHSTÜBINGEN
SUMMARY:Deutsch Intensiv B1.1/ Integrationskurs 303 (261-475303) 
LOCATION:vhs, Schulungsraum 215, Katharinenstraße 18, 72072 Tübingen
END:VEVENT
BEGIN:VEVENT
DTSTAMP:20260421T223804
DTSTART;TZID=Europe/Berlin:20260917T140000
DTEND;TZID=Europe/Berlin:20260917T181500
UID:261-475303-20260917T140000@VHSTÜBINGEN
SUMMARY:Deutsch Intensiv B1.1/ Integrationskurs 303 (261-475303) 
LOCATION:vhs, Schulungsraum 215, Katharinenstraße 18, 72072 Tübingen
END:VEVENT
BEGIN:VEVENT
DTSTAMP:20260421T223804
DTSTART;TZID=Europe/Berlin:20260918T140000
DTEND;TZID=Europe/Berlin:20260918T181500
UID:261-475303-20260918T140000@VHSTÜBINGEN
SUMMARY:Deutsch Intensiv B1.1/ Integrationskurs 303 (261-475303) 
LOCATION:vhs, Schulungsraum 215, Katharinenstraße 18, 72072 Tübingen
END:VEVENT
BEGIN:VEVENT
DTSTAMP:20260421T223804
DTSTART;TZID=Europe/Berlin:20260921T133000
DTEND;TZID=Europe/Berlin:20260921T174500
UID:261-475303-20260921T133000@VHSTÜBINGEN
SUMMARY:Deutsch Intensiv B1.1/ Integrationskurs 303 (261-475303) 
LOCATION:vhs, Schulungsraum 215, Katharinenstraße 18, 72072 Tübingen
END:VEVENT
BEGIN:VEVENT
DTSTAMP:20260421T223804
DTSTART;TZID=Europe/Berlin:20260922T133000
DTEND;TZID=Europe/Berlin:20260922T174500
UID:261-475303-20260922T133000@VHSTÜBINGEN
SUMMARY:Deutsch Intensiv B1.1/ Integrationskurs 303 (261-475303) 
LOCATION:vhs, Schulungsraum 215, Katharinenstraße 18, 72072 Tübingen
END:VEVENT
BEGIN:VEVENT
DTSTAMP:20260421T223804
DTSTART;TZID=Europe/Berlin:20260924T140000
DTEND;TZID=Europe/Berlin:20260924T181500
UID:261-475303-20260924T140000@VHSTÜBINGEN
SUMMARY:Deutsch Intensiv B1.1/ Integrationskurs 303 (261-475303) 
LOCATION:vhs, Schulungsraum 215, Katharinenstraße 18, 72072 Tübingen
END:VEVENT
BEGIN:VEVENT
DTSTAMP:20260421T223804
DTSTART;TZID=Europe/Berlin:20260925T140000
DTEND;TZID=Europe/Berlin:20260925T181500
UID:261-475303-20260925T140000@VHSTÜBINGEN
SUMMARY:Deutsch Intensiv B1.1/ Integrationskurs 303 (261-475303) 
LOCATION:vhs, Schulungsraum 215, Katharinenstraße 18, 72072 Tübingen
END:VEVENT
END:VCALENDAR