BEGIN:VCALENDAR
VERSION:2.0
PRODID:https://www.kufer.de/kuferweb / DE
METHOD:PUBLISH
CALSCALE:GREGORIAN
X-WR-TIMEZONE:Europe/Berlin
BEGIN:VTIMEZONE
TZID:Europe/Berlin
X-LIC-LOCATION:Europe/Berlin
BEGIN:DAYLIGHT
TZOFFSETFROM:+0100
TZOFFSETTO:+0200
TZNAME:CEST
DTSTART:19700329T020000
RRULE:FREQ=YEARLY;INTERVAL=1;BYDAY=-1SU;BYMONTH=3
END:DAYLIGHT
BEGIN:STANDARD
TZOFFSETFROM:+0200
TZOFFSETTO:+0100
TZNAME:CET
DTSTART:19701025T030000
RRULE:FREQ=YEARLY;INTERVAL=1;BYDAY=-1SU;BYMONTH=10
END:STANDARD
END:VTIMEZONE
BEGIN:VEVENT
DTSTAMP:20260421T155550
DTSTART;TZID=Europe/Berlin:20260512T133000
DTEND;TZID=Europe/Berlin:20260512T174500
UID:261-475304-20260512T133000@VHSTÜBINGEN
SUMMARY:Deutsch Intensiv B1.1 / Integrationskurs 304 (261-475304) 
LOCATION:vhs, Schulungsraum 108, Katharinenstraße 18, 72072 Tübingen
END:VEVENT
BEGIN:VEVENT
DTSTAMP:20260421T155550
DTSTART;TZID=Europe/Berlin:20260513T133000
DTEND;TZID=Europe/Berlin:20260513T174500
UID:261-475304-20260513T133000@VHSTÜBINGEN
SUMMARY:Deutsch Intensiv B1.1 / Integrationskurs 304 (261-475304) 
LOCATION:vhs, Schulungsraum 108, Katharinenstraße 18, 72072 Tübingen
END:VEVENT
BEGIN:VEVENT
DTSTAMP:20260421T155550
DTSTART;TZID=Europe/Berlin:20260515T133000
DTEND;TZID=Europe/Berlin:20260515T174500
UID:261-475304-20260515T133000@VHSTÜBINGEN
SUMMARY:Deutsch Intensiv B1.1 / Integrationskurs 304 (261-475304) 
LOCATION:vhs, Schulungsraum 108, Katharinenstraße 18, 72072 Tübingen
END:VEVENT
BEGIN:VEVENT
DTSTAMP:20260421T155550
DTSTART;TZID=Europe/Berlin:20260519T133000
DTEND;TZID=Europe/Berlin:20260519T174500
UID:261-475304-20260519T133000@VHSTÜBINGEN
SUMMARY:Deutsch Intensiv B1.1 / Integrationskurs 304 (261-475304) 
LOCATION:vhs, Schulungsraum 108, Katharinenstraße 18, 72072 Tübingen
END:VEVENT
BEGIN:VEVENT
DTSTAMP:20260421T155550
DTSTART;TZID=Europe/Berlin:20260520T133000
DTEND;TZID=Europe/Berlin:20260520T174500
UID:261-475304-20260520T133000@VHSTÜBINGEN
SUMMARY:Deutsch Intensiv B1.1 / Integrationskurs 304 (261-475304) 
LOCATION:vhs, Schulungsraum 108, Katharinenstraße 18, 72072 Tübingen
END:VEVENT
BEGIN:VEVENT
DTSTAMP:20260421T155550
DTSTART;TZID=Europe/Berlin:20260521T133000
DTEND;TZID=Europe/Berlin:20260521T174500
UID:261-475304-20260521T133000@VHSTÜBINGEN
SUMMARY:Deutsch Intensiv B1.1 / Integrationskurs 304 (261-475304) 
LOCATION:vhs, Schulungsraum 108, Katharinenstraße 18, 72072 Tübingen
END:VEVENT
BEGIN:VEVENT
DTSTAMP:20260421T155550
DTSTART;TZID=Europe/Berlin:20260522T133000
DTEND;TZID=Europe/Berlin:20260522T174500
UID:261-475304-20260522T133000@VHSTÜBINGEN
SUMMARY:Deutsch Intensiv B1.1 / Integrationskurs 304 (261-475304) 
LOCATION:vhs, Schulungsraum 108, Katharinenstraße 18, 72072 Tübingen
END:VEVENT
BEGIN:VEVENT
DTSTAMP:20260421T155550
DTSTART;TZID=Europe/Berlin:20260609T133000
DTEND;TZID=Europe/Berlin:20260609T174500
UID:261-475304-20260609T133000@VHSTÜBINGEN
SUMMARY:Deutsch Intensiv B1.1 / Integrationskurs 304 (261-475304) 
LOCATION:vhs, Schulungsraum 108, Katharinenstraße 18, 72072 Tübingen
END:VEVENT
BEGIN:VEVENT
DTSTAMP:20260421T155550
DTSTART;TZID=Europe/Berlin:20260610T133000
DTEND;TZID=Europe/Berlin:20260610T174500
UID:261-475304-20260610T133000@VHSTÜBINGEN
SUMMARY:Deutsch Intensiv B1.1 / Integrationskurs 304 (261-475304) 
LOCATION:vhs, Schulungsraum 108, Katharinenstraße 18, 72072 Tübingen
END:VEVENT
BEGIN:VEVENT
DTSTAMP:20260421T155550
DTSTART;TZID=Europe/Berlin:20260611T133000
DTEND;TZID=Europe/Berlin:20260611T174500
UID:261-475304-20260611T133000@VHSTÜBINGEN
SUMMARY:Deutsch Intensiv B1.1 / Integrationskurs 304 (261-475304) 
LOCATION:vhs, Schulungsraum 108, Katharinenstraße 18, 72072 Tübingen
END:VEVENT
BEGIN:VEVENT
DTSTAMP:20260421T155550
DTSTART;TZID=Europe/Berlin:20260612T133000
DTEND;TZID=Europe/Berlin:20260612T174500
UID:261-475304-20260612T133000@VHSTÜBINGEN
SUMMARY:Deutsch Intensiv B1.1 / Integrationskurs 304 (261-475304) 
LOCATION:vhs, Schulungsraum 108, Katharinenstraße 18, 72072 Tübingen
END:VEVENT
BEGIN:VEVENT
DTSTAMP:20260421T155550
DTSTART;TZID=Europe/Berlin:20260616T133000
DTEND;TZID=Europe/Berlin:20260616T174500
UID:261-475304-20260616T133000@VHSTÜBINGEN
SUMMARY:Deutsch Intensiv B1.1 / Integrationskurs 304 (261-475304) 
LOCATION:vhs, Schulungsraum 108, Katharinenstraße 18, 72072 Tübingen
END:VEVENT
BEGIN:VEVENT
DTSTAMP:20260421T155550
DTSTART;TZID=Europe/Berlin:20260617T133000
DTEND;TZID=Europe/Berlin:20260617T174500
UID:261-475304-20260617T133000@VHSTÜBINGEN
SUMMARY:Deutsch Intensiv B1.1 / Integrationskurs 304 (261-475304) 
LOCATION:vhs, Schulungsraum 108, Katharinenstraße 18, 72072 Tübingen
END:VEVENT
BEGIN:VEVENT
DTSTAMP:20260421T155550
DTSTART;TZID=Europe/Berlin:20260618T133000
DTEND;TZID=Europe/Berlin:20260618T174500
UID:261-475304-20260618T133000@VHSTÜBINGEN
SUMMARY:Deutsch Intensiv B1.1 / Integrationskurs 304 (261-475304) 
LOCATION:vhs, Schulungsraum 108, Katharinenstraße 18, 72072 Tübingen
END:VEVENT
BEGIN:VEVENT
DTSTAMP:20260421T155550
DTSTART;TZID=Europe/Berlin:20260619T133000
DTEND;TZID=Europe/Berlin:20260619T174500
UID:261-475304-20260619T133000@VHSTÜBINGEN
SUMMARY:Deutsch Intensiv B1.1 / Integrationskurs 304 (261-475304) 
LOCATION:vhs, Schulungsraum 108, Katharinenstraße 18, 72072 Tübingen
END:VEVENT
BEGIN:VEVENT
DTSTAMP:20260421T155550
DTSTART;TZID=Europe/Berlin:20260623T133000
DTEND;TZID=Europe/Berlin:20260623T174500
UID:261-475304-20260623T133000@VHSTÜBINGEN
SUMMARY:Deutsch Intensiv B1.1 / Integrationskurs 304 (261-475304) 
LOCATION:vhs, Schulungsraum 108, Katharinenstraße 18, 72072 Tübingen
END:VEVENT
BEGIN:VEVENT
DTSTAMP:20260421T155550
DTSTART;TZID=Europe/Berlin:20260624T133000
DTEND;TZID=Europe/Berlin:20260624T174500
UID:261-475304-20260624T133000@VHSTÜBINGEN
SUMMARY:Deutsch Intensiv B1.1 / Integrationskurs 304 (261-475304) 
LOCATION:vhs, Schulungsraum 108, Katharinenstraße 18, 72072 Tübingen
END:VEVENT
BEGIN:VEVENT
DTSTAMP:20260421T155550
DTSTART;TZID=Europe/Berlin:20260625T133000
DTEND;TZID=Europe/Berlin:20260625T174500
UID:261-475304-20260625T133000@VHSTÜBINGEN
SUMMARY:Deutsch Intensiv B1.1 / Integrationskurs 304 (261-475304) 
LOCATION:vhs, Schulungsraum 108, Katharinenstraße 18, 72072 Tübingen
END:VEVENT
BEGIN:VEVENT
DTSTAMP:20260421T155550
DTSTART;TZID=Europe/Berlin:20260626T133000
DTEND;TZID=Europe/Berlin:20260626T174500
UID:261-475304-20260626T133000@VHSTÜBINGEN
SUMMARY:Deutsch Intensiv B1.1 / Integrationskurs 304 (261-475304) 
LOCATION:vhs, Schulungsraum 108, Katharinenstraße 18, 72072 Tübingen
END:VEVENT
BEGIN:VEVENT
DTSTAMP:20260421T155550
DTSTART;TZID=Europe/Berlin:20260630T133000
DTEND;TZID=Europe/Berlin:20260630T174500
UID:261-475304-20260630T133000@VHSTÜBINGEN
SUMMARY:Deutsch Intensiv B1.1 / Integrationskurs 304 (261-475304) 
LOCATION:vhs, Schulungsraum 108, Katharinenstraße 18, 72072 Tübingen
END:VEVENT
END:VCALENDAR