BEGIN:VCALENDAR
VERSION:2.0
PRODID:https://www.kufer.de/kuferweb / DE
METHOD:PUBLISH
CALSCALE:GREGORIAN
X-WR-TIMEZONE:Europe/Berlin
BEGIN:VTIMEZONE
TZID:Europe/Berlin
X-LIC-LOCATION:Europe/Berlin
BEGIN:DAYLIGHT
TZOFFSETFROM:+0100
TZOFFSETTO:+0200
TZNAME:CEST
DTSTART:19700329T020000
RRULE:FREQ=YEARLY;INTERVAL=1;BYDAY=-1SU;BYMONTH=3
END:DAYLIGHT
BEGIN:STANDARD
TZOFFSETFROM:+0200
TZOFFSETTO:+0100
TZNAME:CET
DTSTART:19701025T030000
RRULE:FREQ=YEARLY;INTERVAL=1;BYDAY=-1SU;BYMONTH=10
END:STANDARD
END:VTIMEZONE
BEGIN:VEVENT
DTSTAMP:20260421T132126
DTSTART;TZID=Europe/Berlin:20260423T133000
DTEND;TZID=Europe/Berlin:20260423T164500
UID:261-476292-20260423T133000@VHSTÜBINGEN
SUMMARY:Deutsch Intensiv B1.2 / Integrationskurs 292 (261-476292) 
LOCATION:vhs, Schulungsraum 208, Katharinenstraße 18, 72072 Tübingen
END:VEVENT
BEGIN:VEVENT
DTSTAMP:20260421T132126
DTSTART;TZID=Europe/Berlin:20260424T133000
DTEND;TZID=Europe/Berlin:20260424T164500
UID:261-476292-20260424T133000@VHSTÜBINGEN
SUMMARY:Deutsch Intensiv B1.2 / Integrationskurs 292 (261-476292) 
LOCATION:vhs, Schulungsraum 208, Katharinenstraße 18, 72072 Tübingen
END:VEVENT
BEGIN:VEVENT
DTSTAMP:20260421T132126
DTSTART;TZID=Europe/Berlin:20260427T133000
DTEND;TZID=Europe/Berlin:20260427T164500
UID:261-476292-20260427T133000@VHSTÜBINGEN
SUMMARY:Deutsch Intensiv B1.2 / Integrationskurs 292 (261-476292) 
LOCATION:vhs, Schulungsraum 208, Katharinenstraße 18, 72072 Tübingen
END:VEVENT
BEGIN:VEVENT
DTSTAMP:20260421T132126
DTSTART;TZID=Europe/Berlin:20260428T133000
DTEND;TZID=Europe/Berlin:20260428T164500
UID:261-476292-20260428T133000@VHSTÜBINGEN
SUMMARY:Deutsch Intensiv B1.2 / Integrationskurs 292 (261-476292) 
LOCATION:vhs, Schulungsraum 208, Katharinenstraße 18, 72072 Tübingen
END:VEVENT
BEGIN:VEVENT
DTSTAMP:20260421T132126
DTSTART;TZID=Europe/Berlin:20260429T133000
DTEND;TZID=Europe/Berlin:20260429T164500
UID:261-476292-20260429T133000@VHSTÜBINGEN
SUMMARY:Deutsch Intensiv B1.2 / Integrationskurs 292 (261-476292) 
LOCATION:vhs, Schulungsraum 208, Katharinenstraße 18, 72072 Tübingen
END:VEVENT
BEGIN:VEVENT
DTSTAMP:20260421T132126
DTSTART;TZID=Europe/Berlin:20260430T133000
DTEND;TZID=Europe/Berlin:20260430T164500
UID:261-476292-20260430T133000@VHSTÜBINGEN
SUMMARY:Deutsch Intensiv B1.2 / Integrationskurs 292 (261-476292) 
LOCATION:vhs, Schulungsraum 208, Katharinenstraße 18, 72072 Tübingen
END:VEVENT
BEGIN:VEVENT
DTSTAMP:20260421T132126
DTSTART;TZID=Europe/Berlin:20260504T133000
DTEND;TZID=Europe/Berlin:20260504T164500
UID:261-476292-20260504T133000@VHSTÜBINGEN
SUMMARY:Deutsch Intensiv B1.2 / Integrationskurs 292 (261-476292) 
LOCATION:vhs, Schulungsraum 208, Katharinenstraße 18, 72072 Tübingen
END:VEVENT
BEGIN:VEVENT
DTSTAMP:20260421T132126
DTSTART;TZID=Europe/Berlin:20260505T133000
DTEND;TZID=Europe/Berlin:20260505T164500
UID:261-476292-20260505T133000@VHSTÜBINGEN
SUMMARY:Deutsch Intensiv B1.2 / Integrationskurs 292 (261-476292) 
LOCATION:vhs, Schulungsraum 208, Katharinenstraße 18, 72072 Tübingen
END:VEVENT
BEGIN:VEVENT
DTSTAMP:20260421T132126
DTSTART;TZID=Europe/Berlin:20260506T133000
DTEND;TZID=Europe/Berlin:20260506T164500
UID:261-476292-20260506T133000@VHSTÜBINGEN
SUMMARY:Deutsch Intensiv B1.2 / Integrationskurs 292 (261-476292) 
LOCATION:vhs, Schulungsraum 208, Katharinenstraße 18, 72072 Tübingen
END:VEVENT
BEGIN:VEVENT
DTSTAMP:20260421T132126
DTSTART;TZID=Europe/Berlin:20260507T133000
DTEND;TZID=Europe/Berlin:20260507T164500
UID:261-476292-20260507T133000@VHSTÜBINGEN
SUMMARY:Deutsch Intensiv B1.2 / Integrationskurs 292 (261-476292) 
LOCATION:vhs, Schulungsraum 208, Katharinenstraße 18, 72072 Tübingen
END:VEVENT
BEGIN:VEVENT
DTSTAMP:20260421T132126
DTSTART;TZID=Europe/Berlin:20260508T133000
DTEND;TZID=Europe/Berlin:20260508T164500
UID:261-476292-20260508T133000@VHSTÜBINGEN
SUMMARY:Deutsch Intensiv B1.2 / Integrationskurs 292 (261-476292) 
LOCATION:vhs, Schulungsraum 208, Katharinenstraße 18, 72072 Tübingen
END:VEVENT
BEGIN:VEVENT
DTSTAMP:20260421T132126
DTSTART;TZID=Europe/Berlin:20260511T133000
DTEND;TZID=Europe/Berlin:20260511T164500
UID:261-476292-20260511T133000@VHSTÜBINGEN
SUMMARY:Deutsch Intensiv B1.2 / Integrationskurs 292 (261-476292) 
LOCATION:vhs, Schulungsraum 208, Katharinenstraße 18, 72072 Tübingen
END:VEVENT
BEGIN:VEVENT
DTSTAMP:20260421T132126
DTSTART;TZID=Europe/Berlin:20260512T133000
DTEND;TZID=Europe/Berlin:20260512T164500
UID:261-476292-20260512T133000@VHSTÜBINGEN
SUMMARY:Deutsch Intensiv B1.2 / Integrationskurs 292 (261-476292) 
LOCATION:vhs, Schulungsraum 208, Katharinenstraße 18, 72072 Tübingen
END:VEVENT
BEGIN:VEVENT
DTSTAMP:20260421T132126
DTSTART;TZID=Europe/Berlin:20260513T133000
DTEND;TZID=Europe/Berlin:20260513T164500
UID:261-476292-20260513T133000@VHSTÜBINGEN
SUMMARY:Deutsch Intensiv B1.2 / Integrationskurs 292 (261-476292) 
LOCATION:vhs, Schulungsraum 208, Katharinenstraße 18, 72072 Tübingen
END:VEVENT
BEGIN:VEVENT
DTSTAMP:20260421T132126
DTSTART;TZID=Europe/Berlin:20260515T133000
DTEND;TZID=Europe/Berlin:20260515T164500
UID:261-476292-20260515T133000@VHSTÜBINGEN
SUMMARY:Deutsch Intensiv B1.2 / Integrationskurs 292 (261-476292) 
LOCATION:vhs, Schulungsraum 208, Katharinenstraße 18, 72072 Tübingen
END:VEVENT
BEGIN:VEVENT
DTSTAMP:20260421T132126
DTSTART;TZID=Europe/Berlin:20260518T133000
DTEND;TZID=Europe/Berlin:20260518T164500
UID:261-476292-20260518T133000@VHSTÜBINGEN
SUMMARY:Deutsch Intensiv B1.2 / Integrationskurs 292 (261-476292) 
LOCATION:vhs, Schulungsraum 208, Katharinenstraße 18, 72072 Tübingen
END:VEVENT
BEGIN:VEVENT
DTSTAMP:20260421T132126
DTSTART;TZID=Europe/Berlin:20260519T133000
DTEND;TZID=Europe/Berlin:20260519T164500
UID:261-476292-20260519T133000@VHSTÜBINGEN
SUMMARY:Deutsch Intensiv B1.2 / Integrationskurs 292 (261-476292) 
LOCATION:vhs, Schulungsraum 208, Katharinenstraße 18, 72072 Tübingen
END:VEVENT
BEGIN:VEVENT
DTSTAMP:20260421T132126
DTSTART;TZID=Europe/Berlin:20260520T133000
DTEND;TZID=Europe/Berlin:20260520T164500
UID:261-476292-20260520T133000@VHSTÜBINGEN
SUMMARY:Deutsch Intensiv B1.2 / Integrationskurs 292 (261-476292) 
LOCATION:vhs, Schulungsraum 208, Katharinenstraße 18, 72072 Tübingen
END:VEVENT
BEGIN:VEVENT
DTSTAMP:20260421T132126
DTSTART;TZID=Europe/Berlin:20260521T133000
DTEND;TZID=Europe/Berlin:20260521T164500
UID:261-476292-20260521T133000@VHSTÜBINGEN
SUMMARY:Deutsch Intensiv B1.2 / Integrationskurs 292 (261-476292) 
LOCATION:vhs, Schulungsraum 208, Katharinenstraße 18, 72072 Tübingen
END:VEVENT
BEGIN:VEVENT
DTSTAMP:20260421T132126
DTSTART;TZID=Europe/Berlin:20260522T133000
DTEND;TZID=Europe/Berlin:20260522T164500
UID:261-476292-20260522T133000@VHSTÜBINGEN
SUMMARY:Deutsch Intensiv B1.2 / Integrationskurs 292 (261-476292) 
LOCATION:vhs, Schulungsraum 208, Katharinenstraße 18, 72072 Tübingen
END:VEVENT
BEGIN:VEVENT
DTSTAMP:20260421T132126
DTSTART;TZID=Europe/Berlin:20260608T133000
DTEND;TZID=Europe/Berlin:20260608T164500
UID:261-476292-20260608T133000@VHSTÜBINGEN
SUMMARY:Deutsch Intensiv B1.2 / Integrationskurs 292 (261-476292) 
LOCATION:vhs, Schulungsraum 208, Katharinenstraße 18, 72072 Tübingen
END:VEVENT
BEGIN:VEVENT
DTSTAMP:20260421T132126
DTSTART;TZID=Europe/Berlin:20260609T133000
DTEND;TZID=Europe/Berlin:20260609T164500
UID:261-476292-20260609T133000@VHSTÜBINGEN
SUMMARY:Deutsch Intensiv B1.2 / Integrationskurs 292 (261-476292) 
LOCATION:vhs, Schulungsraum 208, Katharinenstraße 18, 72072 Tübingen
END:VEVENT
BEGIN:VEVENT
DTSTAMP:20260421T132126
DTSTART;TZID=Europe/Berlin:20260610T133000
DTEND;TZID=Europe/Berlin:20260610T164500
UID:261-476292-20260610T133000@VHSTÜBINGEN
SUMMARY:Deutsch Intensiv B1.2 / Integrationskurs 292 (261-476292) 
LOCATION:vhs, Schulungsraum 208, Katharinenstraße 18, 72072 Tübingen
END:VEVENT
BEGIN:VEVENT
DTSTAMP:20260421T132126
DTSTART;TZID=Europe/Berlin:20260611T133000
DTEND;TZID=Europe/Berlin:20260611T164500
UID:261-476292-20260611T133000@VHSTÜBINGEN
SUMMARY:Deutsch Intensiv B1.2 / Integrationskurs 292 (261-476292) 
LOCATION:vhs, Schulungsraum 208, Katharinenstraße 18, 72072 Tübingen
END:VEVENT
BEGIN:VEVENT
DTSTAMP:20260421T132126
DTSTART;TZID=Europe/Berlin:20260612T133000
DTEND;TZID=Europe/Berlin:20260612T164500
UID:261-476292-20260612T133000@VHSTÜBINGEN
SUMMARY:Deutsch Intensiv B1.2 / Integrationskurs 292 (261-476292) 
LOCATION:vhs, Schulungsraum 208, Katharinenstraße 18, 72072 Tübingen
END:VEVENT
END:VCALENDAR