BEGIN:VCALENDAR
VERSION:2.0
PRODID:https://www.kufer.de/kuferweb / DE
METHOD:PUBLISH
CALSCALE:GREGORIAN
X-WR-TIMEZONE:Europe/Berlin
BEGIN:VTIMEZONE
TZID:Europe/Berlin
X-LIC-LOCATION:Europe/Berlin
BEGIN:DAYLIGHT
TZOFFSETFROM:+0100
TZOFFSETTO:+0200
TZNAME:CEST
DTSTART:19700329T020000
RRULE:FREQ=YEARLY;INTERVAL=1;BYDAY=-1SU;BYMONTH=3
END:DAYLIGHT
BEGIN:STANDARD
TZOFFSETFROM:+0200
TZOFFSETTO:+0100
TZNAME:CET
DTSTART:19701025T030000
RRULE:FREQ=YEARLY;INTERVAL=1;BYDAY=-1SU;BYMONTH=10
END:STANDARD
END:VTIMEZONE
BEGIN:VEVENT
DTSTAMP:20260421T174730
DTSTART;TZID=Europe/Berlin:20260708T133000
DTEND;TZID=Europe/Berlin:20260708T170000
UID:261-476299-20260708T133000@VHSTÜBINGEN
SUMMARY:Deutsch Intensiv B1.2 / Integrationskurs 299 (261-476299) 
LOCATION:vhs, Schulungsraum 015, Katharinenstraße 18, 72072 Tübingen
END:VEVENT
BEGIN:VEVENT
DTSTAMP:20260421T174730
DTSTART;TZID=Europe/Berlin:20260709T133000
DTEND;TZID=Europe/Berlin:20260709T170000
UID:261-476299-20260709T133000@VHSTÜBINGEN
SUMMARY:Deutsch Intensiv B1.2 / Integrationskurs 299 (261-476299) 
LOCATION:vhs, Schulungsraum 015, Katharinenstraße 18, 72072 Tübingen
END:VEVENT
BEGIN:VEVENT
DTSTAMP:20260421T174730
DTSTART;TZID=Europe/Berlin:20260710T133000
DTEND;TZID=Europe/Berlin:20260710T170000
UID:261-476299-20260710T133000@VHSTÜBINGEN
SUMMARY:Deutsch Intensiv B1.2 / Integrationskurs 299 (261-476299) 
LOCATION:vhs, Schulungsraum 015, Katharinenstraße 18, 72072 Tübingen
END:VEVENT
BEGIN:VEVENT
DTSTAMP:20260421T174730
DTSTART;TZID=Europe/Berlin:20260713T133000
DTEND;TZID=Europe/Berlin:20260713T170000
UID:261-476299-20260713T133000@VHSTÜBINGEN
SUMMARY:Deutsch Intensiv B1.2 / Integrationskurs 299 (261-476299) 
LOCATION:vhs, Schulungsraum 015, Katharinenstraße 18, 72072 Tübingen
END:VEVENT
BEGIN:VEVENT
DTSTAMP:20260421T174730
DTSTART;TZID=Europe/Berlin:20260714T133000
DTEND;TZID=Europe/Berlin:20260714T170000
UID:261-476299-20260714T133000@VHSTÜBINGEN
SUMMARY:Deutsch Intensiv B1.2 / Integrationskurs 299 (261-476299) 
LOCATION:vhs, Schulungsraum 015, Katharinenstraße 18, 72072 Tübingen
END:VEVENT
BEGIN:VEVENT
DTSTAMP:20260421T174730
DTSTART;TZID=Europe/Berlin:20260715T133000
DTEND;TZID=Europe/Berlin:20260715T170000
UID:261-476299-20260715T133000@VHSTÜBINGEN
SUMMARY:Deutsch Intensiv B1.2 / Integrationskurs 299 (261-476299) 
LOCATION:vhs, Schulungsraum 015, Katharinenstraße 18, 72072 Tübingen
END:VEVENT
BEGIN:VEVENT
DTSTAMP:20260421T174730
DTSTART;TZID=Europe/Berlin:20260716T133000
DTEND;TZID=Europe/Berlin:20260716T170000
UID:261-476299-20260716T133000@VHSTÜBINGEN
SUMMARY:Deutsch Intensiv B1.2 / Integrationskurs 299 (261-476299) 
LOCATION:vhs, Schulungsraum 015, Katharinenstraße 18, 72072 Tübingen
END:VEVENT
BEGIN:VEVENT
DTSTAMP:20260421T174730
DTSTART;TZID=Europe/Berlin:20260717T133000
DTEND;TZID=Europe/Berlin:20260717T170000
UID:261-476299-20260717T133000@VHSTÜBINGEN
SUMMARY:Deutsch Intensiv B1.2 / Integrationskurs 299 (261-476299) 
LOCATION:vhs, Schulungsraum 015, Katharinenstraße 18, 72072 Tübingen
END:VEVENT
BEGIN:VEVENT
DTSTAMP:20260421T174730
DTSTART;TZID=Europe/Berlin:20260720T133000
DTEND;TZID=Europe/Berlin:20260720T170000
UID:261-476299-20260720T133000@VHSTÜBINGEN
SUMMARY:Deutsch Intensiv B1.2 / Integrationskurs 299 (261-476299) 
LOCATION:vhs, Schulungsraum 015, Katharinenstraße 18, 72072 Tübingen
END:VEVENT
BEGIN:VEVENT
DTSTAMP:20260421T174730
DTSTART;TZID=Europe/Berlin:20260721T133000
DTEND;TZID=Europe/Berlin:20260721T170000
UID:261-476299-20260721T133000@VHSTÜBINGEN
SUMMARY:Deutsch Intensiv B1.2 / Integrationskurs 299 (261-476299) 
LOCATION:vhs, Schulungsraum 015, Katharinenstraße 18, 72072 Tübingen
END:VEVENT
BEGIN:VEVENT
DTSTAMP:20260421T174730
DTSTART;TZID=Europe/Berlin:20260722T133000
DTEND;TZID=Europe/Berlin:20260722T170000
UID:261-476299-20260722T133000@VHSTÜBINGEN
SUMMARY:Deutsch Intensiv B1.2 / Integrationskurs 299 (261-476299) 
LOCATION:vhs, Schulungsraum 015, Katharinenstraße 18, 72072 Tübingen
END:VEVENT
BEGIN:VEVENT
DTSTAMP:20260421T174730
DTSTART;TZID=Europe/Berlin:20260723T133000
DTEND;TZID=Europe/Berlin:20260723T170000
UID:261-476299-20260723T133000@VHSTÜBINGEN
SUMMARY:Deutsch Intensiv B1.2 / Integrationskurs 299 (261-476299) 
LOCATION:vhs, Schulungsraum 015, Katharinenstraße 18, 72072 Tübingen
END:VEVENT
BEGIN:VEVENT
DTSTAMP:20260421T174730
DTSTART;TZID=Europe/Berlin:20260724T133000
DTEND;TZID=Europe/Berlin:20260724T170000
UID:261-476299-20260724T133000@VHSTÜBINGEN
SUMMARY:Deutsch Intensiv B1.2 / Integrationskurs 299 (261-476299) 
LOCATION:vhs, Schulungsraum 015, Katharinenstraße 18, 72072 Tübingen
END:VEVENT
BEGIN:VEVENT
DTSTAMP:20260421T174730
DTSTART;TZID=Europe/Berlin:20260727T133000
DTEND;TZID=Europe/Berlin:20260727T170000
UID:261-476299-20260727T133000@VHSTÜBINGEN
SUMMARY:Deutsch Intensiv B1.2 / Integrationskurs 299 (261-476299) 
LOCATION:vhs, Schulungsraum 015, Katharinenstraße 18, 72072 Tübingen
END:VEVENT
BEGIN:VEVENT
DTSTAMP:20260421T174730
DTSTART;TZID=Europe/Berlin:20260728T133000
DTEND;TZID=Europe/Berlin:20260728T170000
UID:261-476299-20260728T133000@VHSTÜBINGEN
SUMMARY:Deutsch Intensiv B1.2 / Integrationskurs 299 (261-476299) 
LOCATION:vhs, Schulungsraum 015, Katharinenstraße 18, 72072 Tübingen
END:VEVENT
BEGIN:VEVENT
DTSTAMP:20260421T174730
DTSTART;TZID=Europe/Berlin:20260729T133000
DTEND;TZID=Europe/Berlin:20260729T170000
UID:261-476299-20260729T133000@VHSTÜBINGEN
SUMMARY:Deutsch Intensiv B1.2 / Integrationskurs 299 (261-476299) 
LOCATION:vhs, Schulungsraum 015, Katharinenstraße 18, 72072 Tübingen
END:VEVENT
BEGIN:VEVENT
DTSTAMP:20260421T174730
DTSTART;TZID=Europe/Berlin:20260914T133000
DTEND;TZID=Europe/Berlin:20260914T170000
UID:261-476299-20260914T133000@VHSTÜBINGEN
SUMMARY:Deutsch Intensiv B1.2 / Integrationskurs 299 (261-476299) 
LOCATION:vhs, Schulungsraum 015, Katharinenstraße 18, 72072 Tübingen
END:VEVENT
BEGIN:VEVENT
DTSTAMP:20260421T174730
DTSTART;TZID=Europe/Berlin:20260915T133000
DTEND;TZID=Europe/Berlin:20260915T170000
UID:261-476299-20260915T133000@VHSTÜBINGEN
SUMMARY:Deutsch Intensiv B1.2 / Integrationskurs 299 (261-476299) 
LOCATION:vhs, Schulungsraum 015, Katharinenstraße 18, 72072 Tübingen
END:VEVENT
BEGIN:VEVENT
DTSTAMP:20260421T174730
DTSTART;TZID=Europe/Berlin:20260916T133000
DTEND;TZID=Europe/Berlin:20260916T170000
UID:261-476299-20260916T133000@VHSTÜBINGEN
SUMMARY:Deutsch Intensiv B1.2 / Integrationskurs 299 (261-476299) 
LOCATION:vhs, Schulungsraum 015, Katharinenstraße 18, 72072 Tübingen
END:VEVENT
BEGIN:VEVENT
DTSTAMP:20260421T174730
DTSTART;TZID=Europe/Berlin:20260917T133000
DTEND;TZID=Europe/Berlin:20260917T170000
UID:261-476299-20260917T133000@VHSTÜBINGEN
SUMMARY:Deutsch Intensiv B1.2 / Integrationskurs 299 (261-476299) 
LOCATION:vhs, Schulungsraum 015, Katharinenstraße 18, 72072 Tübingen
END:VEVENT
BEGIN:VEVENT
DTSTAMP:20260421T174730
DTSTART;TZID=Europe/Berlin:20260918T133000
DTEND;TZID=Europe/Berlin:20260918T170000
UID:261-476299-20260918T133000@VHSTÜBINGEN
SUMMARY:Deutsch Intensiv B1.2 / Integrationskurs 299 (261-476299) 
LOCATION:vhs, Schulungsraum 015, Katharinenstraße 18, 72072 Tübingen
END:VEVENT
BEGIN:VEVENT
DTSTAMP:20260421T174730
DTSTART;TZID=Europe/Berlin:20260921T133000
DTEND;TZID=Europe/Berlin:20260921T170000
UID:261-476299-20260921T133000@VHSTÜBINGEN
SUMMARY:Deutsch Intensiv B1.2 / Integrationskurs 299 (261-476299) 
LOCATION:vhs, Schulungsraum 015, Katharinenstraße 18, 72072 Tübingen
END:VEVENT
BEGIN:VEVENT
DTSTAMP:20260421T174730
DTSTART;TZID=Europe/Berlin:20260922T133000
DTEND;TZID=Europe/Berlin:20260922T170000
UID:261-476299-20260922T133000@VHSTÜBINGEN
SUMMARY:Deutsch Intensiv B1.2 / Integrationskurs 299 (261-476299) 
LOCATION:vhs, Schulungsraum 015, Katharinenstraße 18, 72072 Tübingen
END:VEVENT
BEGIN:VEVENT
DTSTAMP:20260421T174730
DTSTART;TZID=Europe/Berlin:20260923T133000
DTEND;TZID=Europe/Berlin:20260923T170000
UID:261-476299-20260923T133000@VHSTÜBINGEN
SUMMARY:Deutsch Intensiv B1.2 / Integrationskurs 299 (261-476299) 
LOCATION:vhs, Schulungsraum 015, Katharinenstraße 18, 72072 Tübingen
END:VEVENT
BEGIN:VEVENT
DTSTAMP:20260421T174730
DTSTART;TZID=Europe/Berlin:20260924T133000
DTEND;TZID=Europe/Berlin:20260924T170000
UID:261-476299-20260924T133000@VHSTÜBINGEN
SUMMARY:Deutsch Intensiv B1.2 / Integrationskurs 299 (261-476299) 
LOCATION:vhs, Schulungsraum 015, Katharinenstraße 18, 72072 Tübingen
END:VEVENT
END:VCALENDAR