BEGIN:VCALENDAR
VERSION:2.0
PRODID:https://www.kufer.de/kuferweb / DE
METHOD:PUBLISH
CALSCALE:GREGORIAN
X-WR-TIMEZONE:Europe/Berlin
BEGIN:VTIMEZONE
TZID:Europe/Berlin
X-LIC-LOCATION:Europe/Berlin
BEGIN:DAYLIGHT
TZOFFSETFROM:+0100
TZOFFSETTO:+0200
TZNAME:CEST
DTSTART:19700329T020000
RRULE:FREQ=YEARLY;INTERVAL=1;BYDAY=-1SU;BYMONTH=3
END:DAYLIGHT
BEGIN:STANDARD
TZOFFSETFROM:+0200
TZOFFSETTO:+0100
TZNAME:CET
DTSTART:19701025T030000
RRULE:FREQ=YEARLY;INTERVAL=1;BYDAY=-1SU;BYMONTH=10
END:STANDARD
END:VTIMEZONE
BEGIN:VEVENT
DTSTAMP:20260421T132108
DTSTART;TZID=Europe/Berlin:20260720T083000
DTEND;TZID=Europe/Berlin:20260720T120000
UID:261-476301-20260720T083000@VHSTÜBINGEN
SUMMARY:Deutsch Intensiv B1.2 / Integrationskurs 301 (261-476301) 
LOCATION:vhs, Schulungsraum 209, Katharinenstraße 18, 72072 Tübingen
END:VEVENT
BEGIN:VEVENT
DTSTAMP:20260421T132108
DTSTART;TZID=Europe/Berlin:20260721T083000
DTEND;TZID=Europe/Berlin:20260721T120000
UID:261-476301-20260721T083000@VHSTÜBINGEN
SUMMARY:Deutsch Intensiv B1.2 / Integrationskurs 301 (261-476301) 
LOCATION:vhs, Schulungsraum 209, Katharinenstraße 18, 72072 Tübingen
END:VEVENT
BEGIN:VEVENT
DTSTAMP:20260421T132108
DTSTART;TZID=Europe/Berlin:20260722T083000
DTEND;TZID=Europe/Berlin:20260722T120000
UID:261-476301-20260722T083000@VHSTÜBINGEN
SUMMARY:Deutsch Intensiv B1.2 / Integrationskurs 301 (261-476301) 
LOCATION:vhs, Schulungsraum 209, Katharinenstraße 18, 72072 Tübingen
END:VEVENT
BEGIN:VEVENT
DTSTAMP:20260421T132108
DTSTART;TZID=Europe/Berlin:20260723T083000
DTEND;TZID=Europe/Berlin:20260723T120000
UID:261-476301-20260723T083000@VHSTÜBINGEN
SUMMARY:Deutsch Intensiv B1.2 / Integrationskurs 301 (261-476301) 
LOCATION:vhs, Schulungsraum 209, Katharinenstraße 18, 72072 Tübingen
END:VEVENT
BEGIN:VEVENT
DTSTAMP:20260421T132108
DTSTART;TZID=Europe/Berlin:20260724T083000
DTEND;TZID=Europe/Berlin:20260724T120000
UID:261-476301-20260724T083000@VHSTÜBINGEN
SUMMARY:Deutsch Intensiv B1.2 / Integrationskurs 301 (261-476301) 
LOCATION:vhs, Schulungsraum 209, Katharinenstraße 18, 72072 Tübingen
END:VEVENT
BEGIN:VEVENT
DTSTAMP:20260421T132108
DTSTART;TZID=Europe/Berlin:20260727T083000
DTEND;TZID=Europe/Berlin:20260727T120000
UID:261-476301-20260727T083000@VHSTÜBINGEN
SUMMARY:Deutsch Intensiv B1.2 / Integrationskurs 301 (261-476301) 
LOCATION:vhs, Schulungsraum 209, Katharinenstraße 18, 72072 Tübingen
END:VEVENT
BEGIN:VEVENT
DTSTAMP:20260421T132108
DTSTART;TZID=Europe/Berlin:20260728T083000
DTEND;TZID=Europe/Berlin:20260728T120000
UID:261-476301-20260728T083000@VHSTÜBINGEN
SUMMARY:Deutsch Intensiv B1.2 / Integrationskurs 301 (261-476301) 
LOCATION:vhs, Schulungsraum 209, Katharinenstraße 18, 72072 Tübingen
END:VEVENT
BEGIN:VEVENT
DTSTAMP:20260421T132108
DTSTART;TZID=Europe/Berlin:20260729T083000
DTEND;TZID=Europe/Berlin:20260729T120000
UID:261-476301-20260729T083000@VHSTÜBINGEN
SUMMARY:Deutsch Intensiv B1.2 / Integrationskurs 301 (261-476301) 
LOCATION:vhs, Schulungsraum 209, Katharinenstraße 18, 72072 Tübingen
END:VEVENT
BEGIN:VEVENT
DTSTAMP:20260421T132108
DTSTART;TZID=Europe/Berlin:20260914T083000
DTEND;TZID=Europe/Berlin:20260914T120000
UID:261-476301-20260914T083000@VHSTÜBINGEN
SUMMARY:Deutsch Intensiv B1.2 / Integrationskurs 301 (261-476301) 
LOCATION:vhs, Schulungsraum 209, Katharinenstraße 18, 72072 Tübingen
END:VEVENT
BEGIN:VEVENT
DTSTAMP:20260421T132108
DTSTART;TZID=Europe/Berlin:20260915T083000
DTEND;TZID=Europe/Berlin:20260915T120000
UID:261-476301-20260915T083000@VHSTÜBINGEN
SUMMARY:Deutsch Intensiv B1.2 / Integrationskurs 301 (261-476301) 
LOCATION:vhs, Schulungsraum 209, Katharinenstraße 18, 72072 Tübingen
END:VEVENT
BEGIN:VEVENT
DTSTAMP:20260421T132108
DTSTART;TZID=Europe/Berlin:20260916T083000
DTEND;TZID=Europe/Berlin:20260916T120000
UID:261-476301-20260916T083000@VHSTÜBINGEN
SUMMARY:Deutsch Intensiv B1.2 / Integrationskurs 301 (261-476301) 
LOCATION:vhs, Schulungsraum 209, Katharinenstraße 18, 72072 Tübingen
END:VEVENT
BEGIN:VEVENT
DTSTAMP:20260421T132108
DTSTART;TZID=Europe/Berlin:20260917T083000
DTEND;TZID=Europe/Berlin:20260917T120000
UID:261-476301-20260917T083000@VHSTÜBINGEN
SUMMARY:Deutsch Intensiv B1.2 / Integrationskurs 301 (261-476301) 
LOCATION:vhs, Schulungsraum 209, Katharinenstraße 18, 72072 Tübingen
END:VEVENT
BEGIN:VEVENT
DTSTAMP:20260421T132108
DTSTART;TZID=Europe/Berlin:20260918T083000
DTEND;TZID=Europe/Berlin:20260918T120000
UID:261-476301-20260918T083000@VHSTÜBINGEN
SUMMARY:Deutsch Intensiv B1.2 / Integrationskurs 301 (261-476301) 
LOCATION:vhs, Schulungsraum 209, Katharinenstraße 18, 72072 Tübingen
END:VEVENT
BEGIN:VEVENT
DTSTAMP:20260421T132108
DTSTART;TZID=Europe/Berlin:20260921T083000
DTEND;TZID=Europe/Berlin:20260921T120000
UID:261-476301-20260921T083000@VHSTÜBINGEN
SUMMARY:Deutsch Intensiv B1.2 / Integrationskurs 301 (261-476301) 
LOCATION:vhs, Schulungsraum 209, Katharinenstraße 18, 72072 Tübingen
END:VEVENT
BEGIN:VEVENT
DTSTAMP:20260421T132108
DTSTART;TZID=Europe/Berlin:20260922T083000
DTEND;TZID=Europe/Berlin:20260922T120000
UID:261-476301-20260922T083000@VHSTÜBINGEN
SUMMARY:Deutsch Intensiv B1.2 / Integrationskurs 301 (261-476301) 
LOCATION:vhs, Schulungsraum 209, Katharinenstraße 18, 72072 Tübingen
END:VEVENT
BEGIN:VEVENT
DTSTAMP:20260421T132108
DTSTART;TZID=Europe/Berlin:20260923T083000
DTEND;TZID=Europe/Berlin:20260923T120000
UID:261-476301-20260923T083000@VHSTÜBINGEN
SUMMARY:Deutsch Intensiv B1.2 / Integrationskurs 301 (261-476301) 
LOCATION:vhs, Schulungsraum 209, Katharinenstraße 18, 72072 Tübingen
END:VEVENT
BEGIN:VEVENT
DTSTAMP:20260421T132108
DTSTART;TZID=Europe/Berlin:20260924T083000
DTEND;TZID=Europe/Berlin:20260924T120000
UID:261-476301-20260924T083000@VHSTÜBINGEN
SUMMARY:Deutsch Intensiv B1.2 / Integrationskurs 301 (261-476301) 
LOCATION:vhs, Schulungsraum 209, Katharinenstraße 18, 72072 Tübingen
END:VEVENT
BEGIN:VEVENT
DTSTAMP:20260421T132108
DTSTART;TZID=Europe/Berlin:20260925T083000
DTEND;TZID=Europe/Berlin:20260925T120000
UID:261-476301-20260925T083000@VHSTÜBINGEN
SUMMARY:Deutsch Intensiv B1.2 / Integrationskurs 301 (261-476301) 
LOCATION:vhs, Schulungsraum 209, Katharinenstraße 18, 72072 Tübingen
END:VEVENT
BEGIN:VEVENT
DTSTAMP:20260421T132108
DTSTART;TZID=Europe/Berlin:20260928T083000
DTEND;TZID=Europe/Berlin:20260928T120000
UID:261-476301-20260928T083000@VHSTÜBINGEN
SUMMARY:Deutsch Intensiv B1.2 / Integrationskurs 301 (261-476301) 
LOCATION:vhs, Schulungsraum 209, Katharinenstraße 18, 72072 Tübingen
END:VEVENT
BEGIN:VEVENT
DTSTAMP:20260421T132108
DTSTART;TZID=Europe/Berlin:20260929T083000
DTEND;TZID=Europe/Berlin:20260929T120000
UID:261-476301-20260929T083000@VHSTÜBINGEN
SUMMARY:Deutsch Intensiv B1.2 / Integrationskurs 301 (261-476301) 
LOCATION:vhs, Schulungsraum 209, Katharinenstraße 18, 72072 Tübingen
END:VEVENT
BEGIN:VEVENT
DTSTAMP:20260421T132108
DTSTART;TZID=Europe/Berlin:20260930T083000
DTEND;TZID=Europe/Berlin:20260930T120000
UID:261-476301-20260930T083000@VHSTÜBINGEN
SUMMARY:Deutsch Intensiv B1.2 / Integrationskurs 301 (261-476301) 
LOCATION:vhs, Schulungsraum 209, Katharinenstraße 18, 72072 Tübingen
END:VEVENT
BEGIN:VEVENT
DTSTAMP:20260421T132108
DTSTART;TZID=Europe/Berlin:20261001T083000
DTEND;TZID=Europe/Berlin:20261001T120000
UID:261-476301-20261001T083000@VHSTÜBINGEN
SUMMARY:Deutsch Intensiv B1.2 / Integrationskurs 301 (261-476301) 
LOCATION:vhs, Schulungsraum 209, Katharinenstraße 18, 72072 Tübingen
END:VEVENT
BEGIN:VEVENT
DTSTAMP:20260421T132108
DTSTART;TZID=Europe/Berlin:20261002T083000
DTEND;TZID=Europe/Berlin:20261002T120000
UID:261-476301-20261002T083000@VHSTÜBINGEN
SUMMARY:Deutsch Intensiv B1.2 / Integrationskurs 301 (261-476301) 
LOCATION:vhs, Schulungsraum 209, Katharinenstraße 18, 72072 Tübingen
END:VEVENT
BEGIN:VEVENT
DTSTAMP:20260421T132108
DTSTART;TZID=Europe/Berlin:20261005T083000
DTEND;TZID=Europe/Berlin:20261005T120000
UID:261-476301-20261005T083000@VHSTÜBINGEN
SUMMARY:Deutsch Intensiv B1.2 / Integrationskurs 301 (261-476301) 
LOCATION:vhs, Schulungsraum 209, Katharinenstraße 18, 72072 Tübingen
END:VEVENT
BEGIN:VEVENT
DTSTAMP:20260421T132108
DTSTART;TZID=Europe/Berlin:20261006T083000
DTEND;TZID=Europe/Berlin:20261006T120000
UID:261-476301-20261006T083000@VHSTÜBINGEN
SUMMARY:Deutsch Intensiv B1.2 / Integrationskurs 301 (261-476301) 
LOCATION:vhs, Schulungsraum 209, Katharinenstraße 18, 72072 Tübingen
END:VEVENT
END:VCALENDAR