BEGIN:VCALENDAR
VERSION:2.0
PRODID:https://www.kufer.de/kuferweb / DE
METHOD:PUBLISH
CALSCALE:GREGORIAN
X-WR-TIMEZONE:Europe/Berlin
BEGIN:VTIMEZONE
TZID:Europe/Berlin
X-LIC-LOCATION:Europe/Berlin
BEGIN:DAYLIGHT
TZOFFSETFROM:+0100
TZOFFSETTO:+0200
TZNAME:CEST
DTSTART:19700329T020000
RRULE:FREQ=YEARLY;INTERVAL=1;BYDAY=-1SU;BYMONTH=3
END:DAYLIGHT
BEGIN:STANDARD
TZOFFSETFROM:+0200
TZOFFSETTO:+0100
TZNAME:CET
DTSTART:19701025T030000
RRULE:FREQ=YEARLY;INTERVAL=1;BYDAY=-1SU;BYMONTH=10
END:STANDARD
END:VTIMEZONE
BEGIN:VEVENT
DTSTAMP:20260421T220957
DTSTART;TZID=Europe/Berlin:20260701T133000
DTEND;TZID=Europe/Berlin:20260701T174500
UID:261-476304-20260701T133000@VHSTÜBINGEN
SUMMARY:Deutsch Intensiv B1.2 / Integrationskurs 304 (261-476304) 
LOCATION:vhs, Schulungsraum 108, Katharinenstraße 18, 72072 Tübingen
END:VEVENT
BEGIN:VEVENT
DTSTAMP:20260421T220957
DTSTART;TZID=Europe/Berlin:20260702T133000
DTEND;TZID=Europe/Berlin:20260702T174500
UID:261-476304-20260702T133000@VHSTÜBINGEN
SUMMARY:Deutsch Intensiv B1.2 / Integrationskurs 304 (261-476304) 
LOCATION:vhs, Schulungsraum 108, Katharinenstraße 18, 72072 Tübingen
END:VEVENT
BEGIN:VEVENT
DTSTAMP:20260421T220957
DTSTART;TZID=Europe/Berlin:20260703T133000
DTEND;TZID=Europe/Berlin:20260703T174500
UID:261-476304-20260703T133000@VHSTÜBINGEN
SUMMARY:Deutsch Intensiv B1.2 / Integrationskurs 304 (261-476304) 
LOCATION:vhs, Schulungsraum 108, Katharinenstraße 18, 72072 Tübingen
END:VEVENT
BEGIN:VEVENT
DTSTAMP:20260421T220957
DTSTART;TZID=Europe/Berlin:20260707T133000
DTEND;TZID=Europe/Berlin:20260707T174500
UID:261-476304-20260707T133000@VHSTÜBINGEN
SUMMARY:Deutsch Intensiv B1.2 / Integrationskurs 304 (261-476304) 
LOCATION:vhs, Schulungsraum 108, Katharinenstraße 18, 72072 Tübingen
END:VEVENT
BEGIN:VEVENT
DTSTAMP:20260421T220957
DTSTART;TZID=Europe/Berlin:20260708T133000
DTEND;TZID=Europe/Berlin:20260708T174500
UID:261-476304-20260708T133000@VHSTÜBINGEN
SUMMARY:Deutsch Intensiv B1.2 / Integrationskurs 304 (261-476304) 
LOCATION:vhs, Schulungsraum 108, Katharinenstraße 18, 72072 Tübingen
END:VEVENT
BEGIN:VEVENT
DTSTAMP:20260421T220957
DTSTART;TZID=Europe/Berlin:20260709T133000
DTEND;TZID=Europe/Berlin:20260709T174500
UID:261-476304-20260709T133000@VHSTÜBINGEN
SUMMARY:Deutsch Intensiv B1.2 / Integrationskurs 304 (261-476304) 
LOCATION:vhs, Schulungsraum 108, Katharinenstraße 18, 72072 Tübingen
END:VEVENT
BEGIN:VEVENT
DTSTAMP:20260421T220957
DTSTART;TZID=Europe/Berlin:20260710T133000
DTEND;TZID=Europe/Berlin:20260710T174500
UID:261-476304-20260710T133000@VHSTÜBINGEN
SUMMARY:Deutsch Intensiv B1.2 / Integrationskurs 304 (261-476304) 
LOCATION:vhs, Schulungsraum 108, Katharinenstraße 18, 72072 Tübingen
END:VEVENT
BEGIN:VEVENT
DTSTAMP:20260421T220957
DTSTART;TZID=Europe/Berlin:20260714T133000
DTEND;TZID=Europe/Berlin:20260714T174500
UID:261-476304-20260714T133000@VHSTÜBINGEN
SUMMARY:Deutsch Intensiv B1.2 / Integrationskurs 304 (261-476304) 
LOCATION:vhs, Schulungsraum 108, Katharinenstraße 18, 72072 Tübingen
END:VEVENT
BEGIN:VEVENT
DTSTAMP:20260421T220957
DTSTART;TZID=Europe/Berlin:20260715T133000
DTEND;TZID=Europe/Berlin:20260715T174500
UID:261-476304-20260715T133000@VHSTÜBINGEN
SUMMARY:Deutsch Intensiv B1.2 / Integrationskurs 304 (261-476304) 
LOCATION:vhs, Schulungsraum 108, Katharinenstraße 18, 72072 Tübingen
END:VEVENT
BEGIN:VEVENT
DTSTAMP:20260421T220957
DTSTART;TZID=Europe/Berlin:20260716T133000
DTEND;TZID=Europe/Berlin:20260716T174500
UID:261-476304-20260716T133000@VHSTÜBINGEN
SUMMARY:Deutsch Intensiv B1.2 / Integrationskurs 304 (261-476304) 
LOCATION:vhs, Schulungsraum 108, Katharinenstraße 18, 72072 Tübingen
END:VEVENT
BEGIN:VEVENT
DTSTAMP:20260421T220957
DTSTART;TZID=Europe/Berlin:20260717T133000
DTEND;TZID=Europe/Berlin:20260717T174500
UID:261-476304-20260717T133000@VHSTÜBINGEN
SUMMARY:Deutsch Intensiv B1.2 / Integrationskurs 304 (261-476304) 
LOCATION:vhs, Schulungsraum 108, Katharinenstraße 18, 72072 Tübingen
END:VEVENT
BEGIN:VEVENT
DTSTAMP:20260421T220957
DTSTART;TZID=Europe/Berlin:20260721T133000
DTEND;TZID=Europe/Berlin:20260721T174500
UID:261-476304-20260721T133000@VHSTÜBINGEN
SUMMARY:Deutsch Intensiv B1.2 / Integrationskurs 304 (261-476304) 
LOCATION:vhs, Schulungsraum 108, Katharinenstraße 18, 72072 Tübingen
END:VEVENT
BEGIN:VEVENT
DTSTAMP:20260421T220957
DTSTART;TZID=Europe/Berlin:20260722T133000
DTEND;TZID=Europe/Berlin:20260722T174500
UID:261-476304-20260722T133000@VHSTÜBINGEN
SUMMARY:Deutsch Intensiv B1.2 / Integrationskurs 304 (261-476304) 
LOCATION:vhs, Schulungsraum 108, Katharinenstraße 18, 72072 Tübingen
END:VEVENT
BEGIN:VEVENT
DTSTAMP:20260421T220957
DTSTART;TZID=Europe/Berlin:20260723T133000
DTEND;TZID=Europe/Berlin:20260723T174500
UID:261-476304-20260723T133000@VHSTÜBINGEN
SUMMARY:Deutsch Intensiv B1.2 / Integrationskurs 304 (261-476304) 
LOCATION:vhs, Schulungsraum 108, Katharinenstraße 18, 72072 Tübingen
END:VEVENT
BEGIN:VEVENT
DTSTAMP:20260421T220957
DTSTART;TZID=Europe/Berlin:20260724T133000
DTEND;TZID=Europe/Berlin:20260724T174500
UID:261-476304-20260724T133000@VHSTÜBINGEN
SUMMARY:Deutsch Intensiv B1.2 / Integrationskurs 304 (261-476304) 
LOCATION:vhs, Schulungsraum 108, Katharinenstraße 18, 72072 Tübingen
END:VEVENT
BEGIN:VEVENT
DTSTAMP:20260421T220957
DTSTART;TZID=Europe/Berlin:20260728T133000
DTEND;TZID=Europe/Berlin:20260728T174500
UID:261-476304-20260728T133000@VHSTÜBINGEN
SUMMARY:Deutsch Intensiv B1.2 / Integrationskurs 304 (261-476304) 
LOCATION:vhs, Schulungsraum 108, Katharinenstraße 18, 72072 Tübingen
END:VEVENT
BEGIN:VEVENT
DTSTAMP:20260421T220957
DTSTART;TZID=Europe/Berlin:20260729T133000
DTEND;TZID=Europe/Berlin:20260729T174500
UID:261-476304-20260729T133000@VHSTÜBINGEN
SUMMARY:Deutsch Intensiv B1.2 / Integrationskurs 304 (261-476304) 
LOCATION:vhs, Schulungsraum 108, Katharinenstraße 18, 72072 Tübingen
END:VEVENT
BEGIN:VEVENT
DTSTAMP:20260421T220957
DTSTART;TZID=Europe/Berlin:20260730T133000
DTEND;TZID=Europe/Berlin:20260730T174500
UID:261-476304-20260730T133000@VHSTÜBINGEN
SUMMARY:Deutsch Intensiv B1.2 / Integrationskurs 304 (261-476304) 
LOCATION:vhs, Schulungsraum 108, Katharinenstraße 18, 72072 Tübingen
END:VEVENT
BEGIN:VEVENT
DTSTAMP:20260421T220957
DTSTART;TZID=Europe/Berlin:20260731T133000
DTEND;TZID=Europe/Berlin:20260731T174500
UID:261-476304-20260731T133000@VHSTÜBINGEN
SUMMARY:Deutsch Intensiv B1.2 / Integrationskurs 304 (261-476304) 
LOCATION:vhs, Schulungsraum 108, Katharinenstraße 18, 72072 Tübingen
END:VEVENT
BEGIN:VEVENT
DTSTAMP:20260421T220957
DTSTART;TZID=Europe/Berlin:20260803T133000
DTEND;TZID=Europe/Berlin:20260803T174500
UID:261-476304-20260803T133000@VHSTÜBINGEN
SUMMARY:Deutsch Intensiv B1.2 / Integrationskurs 304 (261-476304) 
LOCATION:vhs, Schulungsraum 108, Katharinenstraße 18, 72072 Tübingen
END:VEVENT
END:VCALENDAR