BEGIN:VCALENDAR
VERSION:2.0
PRODID:https://www.kufer.de/kuferweb / DE
METHOD:PUBLISH
CALSCALE:GREGORIAN
X-WR-TIMEZONE:Europe/Berlin
BEGIN:VTIMEZONE
TZID:Europe/Berlin
X-LIC-LOCATION:Europe/Berlin
BEGIN:DAYLIGHT
TZOFFSETFROM:+0100
TZOFFSETTO:+0200
TZNAME:CEST
DTSTART:19700329T020000
RRULE:FREQ=YEARLY;INTERVAL=1;BYDAY=-1SU;BYMONTH=3
END:DAYLIGHT
BEGIN:STANDARD
TZOFFSETFROM:+0200
TZOFFSETTO:+0100
TZNAME:CET
DTSTART:19701025T030000
RRULE:FREQ=YEARLY;INTERVAL=1;BYDAY=-1SU;BYMONTH=10
END:STANDARD
END:VTIMEZONE
BEGIN:VEVENT
DTSTAMP:20260421T132055
DTSTART;TZID=Europe/Berlin:20260227T083000
DTEND;TZID=Europe/Berlin:20260227T123000
UID:261-477286-20260227T083000@VHSTÜBINGEN
SUMMARY:Orientierungskurs B1/ Integrationskurs 286 (261-477286) 
LOCATION:15 Seminar Tübingen, Raum 100, Mathildenstraße 32, 72072 Tübingen
END:VEVENT
BEGIN:VEVENT
DTSTAMP:20260421T132055
DTSTART;TZID=Europe/Berlin:20260302T083000
DTEND;TZID=Europe/Berlin:20260302T123000
UID:261-477286-20260302T083000@VHSTÜBINGEN
SUMMARY:Orientierungskurs B1/ Integrationskurs 286 (261-477286) 
LOCATION:15 Seminar Tübingen, Raum 100, Mathildenstraße 32, 72072 Tübingen
END:VEVENT
BEGIN:VEVENT
DTSTAMP:20260421T132055
DTSTART;TZID=Europe/Berlin:20260303T083000
DTEND;TZID=Europe/Berlin:20260303T123000
UID:261-477286-20260303T083000@VHSTÜBINGEN
SUMMARY:Orientierungskurs B1/ Integrationskurs 286 (261-477286) 
LOCATION:15 Seminar Tübingen, Raum 100, Mathildenstraße 32, 72072 Tübingen
END:VEVENT
BEGIN:VEVENT
DTSTAMP:20260421T132055
DTSTART;TZID=Europe/Berlin:20260305T083000
DTEND;TZID=Europe/Berlin:20260305T123000
UID:261-477286-20260305T083000@VHSTÜBINGEN
SUMMARY:Orientierungskurs B1/ Integrationskurs 286 (261-477286) 
LOCATION:15 Seminar Tübingen, Raum 100, Mathildenstraße 32, 72072 Tübingen
END:VEVENT
BEGIN:VEVENT
DTSTAMP:20260421T132055
DTSTART;TZID=Europe/Berlin:20260306T083000
DTEND;TZID=Europe/Berlin:20260306T123000
UID:261-477286-20260306T083000@VHSTÜBINGEN
SUMMARY:Orientierungskurs B1/ Integrationskurs 286 (261-477286) 
LOCATION:15 Seminar Tübingen, Raum 100, Mathildenstraße 32, 72072 Tübingen
END:VEVENT
BEGIN:VEVENT
DTSTAMP:20260421T132055
DTSTART;TZID=Europe/Berlin:20260309T083000
DTEND;TZID=Europe/Berlin:20260309T123000
UID:261-477286-20260309T083000@VHSTÜBINGEN
SUMMARY:Orientierungskurs B1/ Integrationskurs 286 (261-477286) 
LOCATION:15 Seminar Tübingen, Raum 100, Mathildenstraße 32, 72072 Tübingen
END:VEVENT
BEGIN:VEVENT
DTSTAMP:20260421T132055
DTSTART;TZID=Europe/Berlin:20260310T083000
DTEND;TZID=Europe/Berlin:20260310T123000
UID:261-477286-20260310T083000@VHSTÜBINGEN
SUMMARY:Orientierungskurs B1/ Integrationskurs 286 (261-477286) 
LOCATION:15 Seminar Tübingen, Raum 100, Mathildenstraße 32, 72072 Tübingen
END:VEVENT
BEGIN:VEVENT
DTSTAMP:20260421T132055
DTSTART;TZID=Europe/Berlin:20260312T083000
DTEND;TZID=Europe/Berlin:20260312T123000
UID:261-477286-20260312T083000@VHSTÜBINGEN
SUMMARY:Orientierungskurs B1/ Integrationskurs 286 (261-477286) 
LOCATION:15 Seminar Tübingen, Raum 100, Mathildenstraße 32, 72072 Tübingen
END:VEVENT
BEGIN:VEVENT
DTSTAMP:20260421T132055
DTSTART;TZID=Europe/Berlin:20260313T083000
DTEND;TZID=Europe/Berlin:20260313T123000
UID:261-477286-20260313T083000@VHSTÜBINGEN
SUMMARY:Orientierungskurs B1/ Integrationskurs 286 (261-477286) 
LOCATION:15 Seminar Tübingen, Raum 100, Mathildenstraße 32, 72072 Tübingen
END:VEVENT
BEGIN:VEVENT
DTSTAMP:20260421T132055
DTSTART;TZID=Europe/Berlin:20260316T083000
DTEND;TZID=Europe/Berlin:20260316T123000
UID:261-477286-20260316T083000@VHSTÜBINGEN
SUMMARY:Orientierungskurs B1/ Integrationskurs 286 (261-477286) 
LOCATION:15 Seminar Tübingen, Raum 100, Mathildenstraße 32, 72072 Tübingen
END:VEVENT
BEGIN:VEVENT
DTSTAMP:20260421T132055
DTSTART;TZID=Europe/Berlin:20260317T083000
DTEND;TZID=Europe/Berlin:20260317T123000
UID:261-477286-20260317T083000@VHSTÜBINGEN
SUMMARY:Orientierungskurs B1/ Integrationskurs 286 (261-477286) 
LOCATION:15 Seminar Tübingen, Raum 100, Mathildenstraße 32, 72072 Tübingen
END:VEVENT
BEGIN:VEVENT
DTSTAMP:20260421T132055
DTSTART;TZID=Europe/Berlin:20260319T083000
DTEND;TZID=Europe/Berlin:20260319T123000
UID:261-477286-20260319T083000@VHSTÜBINGEN
SUMMARY:Orientierungskurs B1/ Integrationskurs 286 (261-477286) 
LOCATION:15 Seminar Tübingen, Raum 100, Mathildenstraße 32, 72072 Tübingen
END:VEVENT
BEGIN:VEVENT
DTSTAMP:20260421T132055
DTSTART;TZID=Europe/Berlin:20260320T083000
DTEND;TZID=Europe/Berlin:20260320T123000
UID:261-477286-20260320T083000@VHSTÜBINGEN
SUMMARY:Orientierungskurs B1/ Integrationskurs 286 (261-477286) 
LOCATION:15 Seminar Tübingen, Raum 100, Mathildenstraße 32, 72072 Tübingen
END:VEVENT
BEGIN:VEVENT
DTSTAMP:20260421T132055
DTSTART;TZID=Europe/Berlin:20260323T083000
DTEND;TZID=Europe/Berlin:20260323T123000
UID:261-477286-20260323T083000@VHSTÜBINGEN
SUMMARY:Orientierungskurs B1/ Integrationskurs 286 (261-477286) 
LOCATION:15 Seminar Tübingen, Raum 100, Mathildenstraße 32, 72072 Tübingen
END:VEVENT
BEGIN:VEVENT
DTSTAMP:20260421T132055
DTSTART;TZID=Europe/Berlin:20260324T083000
DTEND;TZID=Europe/Berlin:20260324T123000
UID:261-477286-20260324T083000@VHSTÜBINGEN
SUMMARY:Orientierungskurs B1/ Integrationskurs 286 (261-477286) 
LOCATION:15 Seminar Tübingen, Raum 100, Mathildenstraße 32, 72072 Tübingen
END:VEVENT
BEGIN:VEVENT
DTSTAMP:20260421T132055
DTSTART;TZID=Europe/Berlin:20260326T083000
DTEND;TZID=Europe/Berlin:20260326T123000
UID:261-477286-20260326T083000@VHSTÜBINGEN
SUMMARY:Orientierungskurs B1/ Integrationskurs 286 (261-477286) 
LOCATION:15 Seminar Tübingen, Raum 100, Mathildenstraße 32, 72072 Tübingen
END:VEVENT
BEGIN:VEVENT
DTSTAMP:20260421T132055
DTSTART;TZID=Europe/Berlin:20260413T083000
DTEND;TZID=Europe/Berlin:20260413T123000
UID:261-477286-20260413T083000@VHSTÜBINGEN
DESCRIPTION:Exkursion Spuren zu NS-Verbrechen in Tübingen
SUMMARY:Orientierungskurs B1/ Integrationskurs 286 (261-477286) 
LOCATION:15 Seminar Tübingen, Raum 100, Mathildenstraße 32, 72072 Tübingen
END:VEVENT
BEGIN:VEVENT
DTSTAMP:20260421T132055
DTSTART;TZID=Europe/Berlin:20260414T083000
DTEND;TZID=Europe/Berlin:20260414T123000
UID:261-477286-20260414T083000@VHSTÜBINGEN
SUMMARY:Orientierungskurs B1/ Integrationskurs 286 (261-477286) 
LOCATION:15 Seminar Tübingen, Raum 100, Mathildenstraße 32, 72072 Tübingen
END:VEVENT
BEGIN:VEVENT
DTSTAMP:20260421T132055
DTSTART;TZID=Europe/Berlin:20260415T083000
DTEND;TZID=Europe/Berlin:20260415T123000
UID:261-477286-20260415T083000@VHSTÜBINGEN
DESCRIPTION:Exkursion nicht im Haus
SUMMARY:Orientierungskurs B1/ Integrationskurs 286 (261-477286) 
LOCATION:15 Seminar Tübingen, Raum 100, Mathildenstraße 32, 72072 Tübingen
END:VEVENT
BEGIN:VEVENT
DTSTAMP:20260421T132055
DTSTART;TZID=Europe/Berlin:20260416T083000
DTEND;TZID=Europe/Berlin:20260416T123000
UID:261-477286-20260416T083000@VHSTÜBINGEN
SUMMARY:Orientierungskurs B1/ Integrationskurs 286 (261-477286) 
LOCATION:15 Seminar Tübingen, Raum 100, Mathildenstraße 32, 72072 Tübingen
END:VEVENT
END:VCALENDAR