BEGIN:VCALENDAR
VERSION:2.0
PRODID:https://www.kufer.de/kuferweb / DE
METHOD:PUBLISH
CALSCALE:GREGORIAN
X-WR-TIMEZONE:Europe/Berlin
BEGIN:VTIMEZONE
TZID:Europe/Berlin
X-LIC-LOCATION:Europe/Berlin
BEGIN:DAYLIGHT
TZOFFSETFROM:+0100
TZOFFSETTO:+0200
TZNAME:CEST
DTSTART:19700329T020000
RRULE:FREQ=YEARLY;INTERVAL=1;BYDAY=-1SU;BYMONTH=3
END:DAYLIGHT
BEGIN:STANDARD
TZOFFSETFROM:+0200
TZOFFSETTO:+0100
TZNAME:CET
DTSTART:19701025T030000
RRULE:FREQ=YEARLY;INTERVAL=1;BYDAY=-1SU;BYMONTH=10
END:STANDARD
END:VTIMEZONE
BEGIN:VEVENT
DTSTAMP:20260421T155522
DTSTART;TZID=Europe/Berlin:20260428T083000
DTEND;TZID=Europe/Berlin:20260428T124500
UID:261-477288-20260428T083000@VHSTÜBINGEN
SUMMARY:Orientierungskurs B1/ Integrationskurs 288 (261-477288) 
LOCATION:vhs, Schulungsraum 217, Katharinenstraße 18, 72072 Tübingen
END:VEVENT
BEGIN:VEVENT
DTSTAMP:20260421T155522
DTSTART;TZID=Europe/Berlin:20260429T083000
DTEND;TZID=Europe/Berlin:20260429T124500
UID:261-477288-20260429T083000@VHSTÜBINGEN
SUMMARY:Orientierungskurs B1/ Integrationskurs 288 (261-477288) 
LOCATION:vhs, Schulungsraum 217, Katharinenstraße 18, 72072 Tübingen
END:VEVENT
BEGIN:VEVENT
DTSTAMP:20260421T155522
DTSTART;TZID=Europe/Berlin:20260430T083000
DTEND;TZID=Europe/Berlin:20260430T124500
UID:261-477288-20260430T083000@VHSTÜBINGEN
SUMMARY:Orientierungskurs B1/ Integrationskurs 288 (261-477288) 
LOCATION:vhs, Schulungsraum 217, Katharinenstraße 18, 72072 Tübingen
END:VEVENT
BEGIN:VEVENT
DTSTAMP:20260421T155522
DTSTART;TZID=Europe/Berlin:20260505T083000
DTEND;TZID=Europe/Berlin:20260505T124500
UID:261-477288-20260505T083000@VHSTÜBINGEN
SUMMARY:Orientierungskurs B1/ Integrationskurs 288 (261-477288) 
LOCATION:vhs, Schulungsraum 217, Katharinenstraße 18, 72072 Tübingen
END:VEVENT
BEGIN:VEVENT
DTSTAMP:20260421T155522
DTSTART;TZID=Europe/Berlin:20260506T083000
DTEND;TZID=Europe/Berlin:20260506T124500
UID:261-477288-20260506T083000@VHSTÜBINGEN
SUMMARY:Orientierungskurs B1/ Integrationskurs 288 (261-477288) 
LOCATION:vhs, Schulungsraum 217, Katharinenstraße 18, 72072 Tübingen
END:VEVENT
BEGIN:VEVENT
DTSTAMP:20260421T155522
DTSTART;TZID=Europe/Berlin:20260507T083000
DTEND;TZID=Europe/Berlin:20260507T124500
UID:261-477288-20260507T083000@VHSTÜBINGEN
DESCRIPTION:Exkursion
SUMMARY:Orientierungskurs B1/ Integrationskurs 288 (261-477288) 
LOCATION:vhs, Schulungsraum 217, Katharinenstraße 18, 72072 Tübingen
END:VEVENT
BEGIN:VEVENT
DTSTAMP:20260421T155522
DTSTART;TZID=Europe/Berlin:20260508T083000
DTEND;TZID=Europe/Berlin:20260508T124500
UID:261-477288-20260508T083000@VHSTÜBINGEN
SUMMARY:Orientierungskurs B1/ Integrationskurs 288 (261-477288) 
LOCATION:vhs, Schulungsraum 217, Katharinenstraße 18, 72072 Tübingen
END:VEVENT
BEGIN:VEVENT
DTSTAMP:20260421T155522
DTSTART;TZID=Europe/Berlin:20260511T083000
DTEND;TZID=Europe/Berlin:20260511T124500
UID:261-477288-20260511T083000@VHSTÜBINGEN
SUMMARY:Orientierungskurs B1/ Integrationskurs 288 (261-477288) 
LOCATION:vhs, Schulungsraum 217, Katharinenstraße 18, 72072 Tübingen
END:VEVENT
BEGIN:VEVENT
DTSTAMP:20260421T155522
DTSTART;TZID=Europe/Berlin:20260512T083000
DTEND;TZID=Europe/Berlin:20260512T124500
UID:261-477288-20260512T083000@VHSTÜBINGEN
SUMMARY:Orientierungskurs B1/ Integrationskurs 288 (261-477288) 
LOCATION:vhs, Schulungsraum 217, Katharinenstraße 18, 72072 Tübingen
END:VEVENT
BEGIN:VEVENT
DTSTAMP:20260421T155522
DTSTART;TZID=Europe/Berlin:20260513T083000
DTEND;TZID=Europe/Berlin:20260513T124500
UID:261-477288-20260513T083000@VHSTÜBINGEN
SUMMARY:Orientierungskurs B1/ Integrationskurs 288 (261-477288) 
LOCATION:vhs, Schulungsraum 217, Katharinenstraße 18, 72072 Tübingen
END:VEVENT
BEGIN:VEVENT
DTSTAMP:20260421T155522
DTSTART;TZID=Europe/Berlin:20260608T083000
DTEND;TZID=Europe/Berlin:20260608T124500
UID:261-477288-20260608T083000@VHSTÜBINGEN
SUMMARY:Orientierungskurs B1/ Integrationskurs 288 (261-477288) 
LOCATION:vhs, Schulungsraum 217, Katharinenstraße 18, 72072 Tübingen
END:VEVENT
BEGIN:VEVENT
DTSTAMP:20260421T155522
DTSTART;TZID=Europe/Berlin:20260609T083000
DTEND;TZID=Europe/Berlin:20260609T124500
UID:261-477288-20260609T083000@VHSTÜBINGEN
SUMMARY:Orientierungskurs B1/ Integrationskurs 288 (261-477288) 
LOCATION:vhs, Schulungsraum 217, Katharinenstraße 18, 72072 Tübingen
END:VEVENT
BEGIN:VEVENT
DTSTAMP:20260421T155522
DTSTART;TZID=Europe/Berlin:20260610T083000
DTEND;TZID=Europe/Berlin:20260610T124500
UID:261-477288-20260610T083000@VHSTÜBINGEN
SUMMARY:Orientierungskurs B1/ Integrationskurs 288 (261-477288) 
LOCATION:vhs, Schulungsraum 217, Katharinenstraße 18, 72072 Tübingen
END:VEVENT
BEGIN:VEVENT
DTSTAMP:20260421T155522
DTSTART;TZID=Europe/Berlin:20260611T083000
DTEND;TZID=Europe/Berlin:20260611T124500
UID:261-477288-20260611T083000@VHSTÜBINGEN
SUMMARY:Orientierungskurs B1/ Integrationskurs 288 (261-477288) 
LOCATION:vhs, Schulungsraum 217, Katharinenstraße 18, 72072 Tübingen
END:VEVENT
BEGIN:VEVENT
DTSTAMP:20260421T155522
DTSTART;TZID=Europe/Berlin:20260612T083000
DTEND;TZID=Europe/Berlin:20260612T124500
UID:261-477288-20260612T083000@VHSTÜBINGEN
SUMMARY:Orientierungskurs B1/ Integrationskurs 288 (261-477288) 
LOCATION:vhs, Schulungsraum 217, Katharinenstraße 18, 72072 Tübingen
END:VEVENT
BEGIN:VEVENT
DTSTAMP:20260421T155522
DTSTART;TZID=Europe/Berlin:20260615T083000
DTEND;TZID=Europe/Berlin:20260615T124500
UID:261-477288-20260615T083000@VHSTÜBINGEN
SUMMARY:Orientierungskurs B1/ Integrationskurs 288 (261-477288) 
LOCATION:vhs, Schulungsraum 217, Katharinenstraße 18, 72072 Tübingen
END:VEVENT
BEGIN:VEVENT
DTSTAMP:20260421T155522
DTSTART;TZID=Europe/Berlin:20260616T083000
DTEND;TZID=Europe/Berlin:20260616T124500
UID:261-477288-20260616T083000@VHSTÜBINGEN
SUMMARY:Orientierungskurs B1/ Integrationskurs 288 (261-477288) 
LOCATION:vhs, Schulungsraum 217, Katharinenstraße 18, 72072 Tübingen
END:VEVENT
BEGIN:VEVENT
DTSTAMP:20260421T155522
DTSTART;TZID=Europe/Berlin:20260617T083000
DTEND;TZID=Europe/Berlin:20260617T124500
UID:261-477288-20260617T083000@VHSTÜBINGEN
SUMMARY:Orientierungskurs B1/ Integrationskurs 288 (261-477288) 
LOCATION:vhs, Schulungsraum 217, Katharinenstraße 18, 72072 Tübingen
END:VEVENT
BEGIN:VEVENT
DTSTAMP:20260421T155522
DTSTART;TZID=Europe/Berlin:20260618T083000
DTEND;TZID=Europe/Berlin:20260618T124500
UID:261-477288-20260618T083000@VHSTÜBINGEN
SUMMARY:Orientierungskurs B1/ Integrationskurs 288 (261-477288) 
LOCATION:vhs, Schulungsraum 217, Katharinenstraße 18, 72072 Tübingen
END:VEVENT
BEGIN:VEVENT
DTSTAMP:20260421T155522
DTSTART;TZID=Europe/Berlin:20260619T083000
DTEND;TZID=Europe/Berlin:20260619T124500
UID:261-477288-20260619T083000@VHSTÜBINGEN
SUMMARY:Orientierungskurs B1/ Integrationskurs 288 (261-477288) 
LOCATION:vhs, Schulungsraum 217, Katharinenstraße 18, 72072 Tübingen
END:VEVENT
END:VCALENDAR