BEGIN:VCALENDAR
VERSION:2.0
PRODID:https://www.kufer.de/kuferweb / DE
METHOD:PUBLISH
CALSCALE:GREGORIAN
X-WR-TIMEZONE:Europe/Berlin
BEGIN:VTIMEZONE
TZID:Europe/Berlin
X-LIC-LOCATION:Europe/Berlin
BEGIN:DAYLIGHT
TZOFFSETFROM:+0100
TZOFFSETTO:+0200
TZNAME:CEST
DTSTART:19700329T020000
RRULE:FREQ=YEARLY;INTERVAL=1;BYDAY=-1SU;BYMONTH=3
END:DAYLIGHT
BEGIN:STANDARD
TZOFFSETFROM:+0200
TZOFFSETTO:+0100
TZNAME:CET
DTSTART:19701025T030000
RRULE:FREQ=YEARLY;INTERVAL=1;BYDAY=-1SU;BYMONTH=10
END:STANDARD
END:VTIMEZONE
BEGIN:VEVENT
DTSTAMP:20260421T175726
DTSTART;TZID=Europe/Berlin:20260615T133000
DTEND;TZID=Europe/Berlin:20260615T164500
UID:261-477292-20260615T133000@VHSTÜBINGEN
SUMMARY:Orientierungskurs B1 / Integrationskurs 292 (261-477292) 
LOCATION:vhs, Schulungsraum 208, Katharinenstraße 18, 72072 Tübingen
END:VEVENT
BEGIN:VEVENT
DTSTAMP:20260421T175726
DTSTART;TZID=Europe/Berlin:20260616T133000
DTEND;TZID=Europe/Berlin:20260616T164500
UID:261-477292-20260616T133000@VHSTÜBINGEN
SUMMARY:Orientierungskurs B1 / Integrationskurs 292 (261-477292) 
LOCATION:vhs, Schulungsraum 208, Katharinenstraße 18, 72072 Tübingen
END:VEVENT
BEGIN:VEVENT
DTSTAMP:20260421T175726
DTSTART;TZID=Europe/Berlin:20260617T133000
DTEND;TZID=Europe/Berlin:20260617T164500
UID:261-477292-20260617T133000@VHSTÜBINGEN
SUMMARY:Orientierungskurs B1 / Integrationskurs 292 (261-477292) 
LOCATION:vhs, Schulungsraum 208, Katharinenstraße 18, 72072 Tübingen
END:VEVENT
BEGIN:VEVENT
DTSTAMP:20260421T175726
DTSTART;TZID=Europe/Berlin:20260618T133000
DTEND;TZID=Europe/Berlin:20260618T164500
UID:261-477292-20260618T133000@VHSTÜBINGEN
SUMMARY:Orientierungskurs B1 / Integrationskurs 292 (261-477292) 
LOCATION:vhs, Schulungsraum 208, Katharinenstraße 18, 72072 Tübingen
END:VEVENT
BEGIN:VEVENT
DTSTAMP:20260421T175726
DTSTART;TZID=Europe/Berlin:20260619T133000
DTEND;TZID=Europe/Berlin:20260619T164500
UID:261-477292-20260619T133000@VHSTÜBINGEN
SUMMARY:Orientierungskurs B1 / Integrationskurs 292 (261-477292) 
LOCATION:vhs, Schulungsraum 208, Katharinenstraße 18, 72072 Tübingen
END:VEVENT
BEGIN:VEVENT
DTSTAMP:20260421T175726
DTSTART;TZID=Europe/Berlin:20260622T133000
DTEND;TZID=Europe/Berlin:20260622T164500
UID:261-477292-20260622T133000@VHSTÜBINGEN
SUMMARY:Orientierungskurs B1 / Integrationskurs 292 (261-477292) 
LOCATION:vhs, Schulungsraum 208, Katharinenstraße 18, 72072 Tübingen
END:VEVENT
BEGIN:VEVENT
DTSTAMP:20260421T175726
DTSTART;TZID=Europe/Berlin:20260623T133000
DTEND;TZID=Europe/Berlin:20260623T164500
UID:261-477292-20260623T133000@VHSTÜBINGEN
SUMMARY:Orientierungskurs B1 / Integrationskurs 292 (261-477292) 
LOCATION:vhs, Schulungsraum 208, Katharinenstraße 18, 72072 Tübingen
END:VEVENT
BEGIN:VEVENT
DTSTAMP:20260421T175726
DTSTART;TZID=Europe/Berlin:20260624T133000
DTEND;TZID=Europe/Berlin:20260624T164500
UID:261-477292-20260624T133000@VHSTÜBINGEN
SUMMARY:Orientierungskurs B1 / Integrationskurs 292 (261-477292) 
LOCATION:vhs, Schulungsraum 208, Katharinenstraße 18, 72072 Tübingen
END:VEVENT
BEGIN:VEVENT
DTSTAMP:20260421T175726
DTSTART;TZID=Europe/Berlin:20260625T133000
DTEND;TZID=Europe/Berlin:20260625T164500
UID:261-477292-20260625T133000@VHSTÜBINGEN
SUMMARY:Orientierungskurs B1 / Integrationskurs 292 (261-477292) 
LOCATION:vhs, Schulungsraum 208, Katharinenstraße 18, 72072 Tübingen
END:VEVENT
BEGIN:VEVENT
DTSTAMP:20260421T175726
DTSTART;TZID=Europe/Berlin:20260626T133000
DTEND;TZID=Europe/Berlin:20260626T164500
UID:261-477292-20260626T133000@VHSTÜBINGEN
SUMMARY:Orientierungskurs B1 / Integrationskurs 292 (261-477292) 
LOCATION:vhs, Schulungsraum 208, Katharinenstraße 18, 72072 Tübingen
END:VEVENT
BEGIN:VEVENT
DTSTAMP:20260421T175726
DTSTART;TZID=Europe/Berlin:20260629T133000
DTEND;TZID=Europe/Berlin:20260629T164500
UID:261-477292-20260629T133000@VHSTÜBINGEN
SUMMARY:Orientierungskurs B1 / Integrationskurs 292 (261-477292) 
LOCATION:vhs, Schulungsraum 208, Katharinenstraße 18, 72072 Tübingen
END:VEVENT
BEGIN:VEVENT
DTSTAMP:20260421T175726
DTSTART;TZID=Europe/Berlin:20260630T133000
DTEND;TZID=Europe/Berlin:20260630T164500
UID:261-477292-20260630T133000@VHSTÜBINGEN
SUMMARY:Orientierungskurs B1 / Integrationskurs 292 (261-477292) 
LOCATION:vhs, Schulungsraum 208, Katharinenstraße 18, 72072 Tübingen
END:VEVENT
BEGIN:VEVENT
DTSTAMP:20260421T175726
DTSTART;TZID=Europe/Berlin:20260701T133000
DTEND;TZID=Europe/Berlin:20260701T164500
UID:261-477292-20260701T133000@VHSTÜBINGEN
SUMMARY:Orientierungskurs B1 / Integrationskurs 292 (261-477292) 
LOCATION:vhs, Schulungsraum 208, Katharinenstraße 18, 72072 Tübingen
END:VEVENT
BEGIN:VEVENT
DTSTAMP:20260421T175726
DTSTART;TZID=Europe/Berlin:20260702T133000
DTEND;TZID=Europe/Berlin:20260702T164500
UID:261-477292-20260702T133000@VHSTÜBINGEN
SUMMARY:Orientierungskurs B1 / Integrationskurs 292 (261-477292) 
LOCATION:vhs, Schulungsraum 208, Katharinenstraße 18, 72072 Tübingen
END:VEVENT
BEGIN:VEVENT
DTSTAMP:20260421T175726
DTSTART;TZID=Europe/Berlin:20260703T133000
DTEND;TZID=Europe/Berlin:20260703T164500
UID:261-477292-20260703T133000@VHSTÜBINGEN
SUMMARY:Orientierungskurs B1 / Integrationskurs 292 (261-477292) 
LOCATION:vhs, Schulungsraum 208, Katharinenstraße 18, 72072 Tübingen
END:VEVENT
BEGIN:VEVENT
DTSTAMP:20260421T175726
DTSTART;TZID=Europe/Berlin:20260706T133000
DTEND;TZID=Europe/Berlin:20260706T164500
UID:261-477292-20260706T133000@VHSTÜBINGEN
SUMMARY:Orientierungskurs B1 / Integrationskurs 292 (261-477292) 
LOCATION:vhs, Schulungsraum 208, Katharinenstraße 18, 72072 Tübingen
END:VEVENT
BEGIN:VEVENT
DTSTAMP:20260421T175726
DTSTART;TZID=Europe/Berlin:20260707T133000
DTEND;TZID=Europe/Berlin:20260707T164500
UID:261-477292-20260707T133000@VHSTÜBINGEN
SUMMARY:Orientierungskurs B1 / Integrationskurs 292 (261-477292) 
LOCATION:vhs, Schulungsraum 208, Katharinenstraße 18, 72072 Tübingen
END:VEVENT
BEGIN:VEVENT
DTSTAMP:20260421T175726
DTSTART;TZID=Europe/Berlin:20260708T133000
DTEND;TZID=Europe/Berlin:20260708T164500
UID:261-477292-20260708T133000@VHSTÜBINGEN
SUMMARY:Orientierungskurs B1 / Integrationskurs 292 (261-477292) 
LOCATION:vhs, Schulungsraum 208, Katharinenstraße 18, 72072 Tübingen
END:VEVENT
BEGIN:VEVENT
DTSTAMP:20260421T175726
DTSTART;TZID=Europe/Berlin:20260709T133000
DTEND;TZID=Europe/Berlin:20260709T164500
UID:261-477292-20260709T133000@VHSTÜBINGEN
SUMMARY:Orientierungskurs B1 / Integrationskurs 292 (261-477292) 
LOCATION:vhs, Schulungsraum 208, Katharinenstraße 18, 72072 Tübingen
END:VEVENT
BEGIN:VEVENT
DTSTAMP:20260421T175726
DTSTART;TZID=Europe/Berlin:20260710T133000
DTEND;TZID=Europe/Berlin:20260710T164500
UID:261-477292-20260710T133000@VHSTÜBINGEN
SUMMARY:Orientierungskurs B1 / Integrationskurs 292 (261-477292) 
LOCATION:vhs, Schulungsraum 208, Katharinenstraße 18, 72072 Tübingen
END:VEVENT
BEGIN:VEVENT
DTSTAMP:20260421T175726
DTSTART;TZID=Europe/Berlin:20260713T133000
DTEND;TZID=Europe/Berlin:20260713T164500
UID:261-477292-20260713T133000@VHSTÜBINGEN
SUMMARY:Orientierungskurs B1 / Integrationskurs 292 (261-477292) 
LOCATION:vhs, Schulungsraum 208, Katharinenstraße 18, 72072 Tübingen
END:VEVENT
BEGIN:VEVENT
DTSTAMP:20260421T175726
DTSTART;TZID=Europe/Berlin:20260714T133000
DTEND;TZID=Europe/Berlin:20260714T164500
UID:261-477292-20260714T133000@VHSTÜBINGEN
SUMMARY:Orientierungskurs B1 / Integrationskurs 292 (261-477292) 
LOCATION:vhs, Schulungsraum 208, Katharinenstraße 18, 72072 Tübingen
END:VEVENT
BEGIN:VEVENT
DTSTAMP:20260421T175726
DTSTART;TZID=Europe/Berlin:20260715T133000
DTEND;TZID=Europe/Berlin:20260715T164500
UID:261-477292-20260715T133000@VHSTÜBINGEN
SUMMARY:Orientierungskurs B1 / Integrationskurs 292 (261-477292) 
LOCATION:vhs, Schulungsraum 208, Katharinenstraße 18, 72072 Tübingen
END:VEVENT
BEGIN:VEVENT
DTSTAMP:20260421T175726
DTSTART;TZID=Europe/Berlin:20260716T133000
DTEND;TZID=Europe/Berlin:20260716T164500
UID:261-477292-20260716T133000@VHSTÜBINGEN
SUMMARY:Orientierungskurs B1 / Integrationskurs 292 (261-477292) 
LOCATION:vhs, Schulungsraum 208, Katharinenstraße 18, 72072 Tübingen
END:VEVENT
BEGIN:VEVENT
DTSTAMP:20260421T175726
DTSTART;TZID=Europe/Berlin:20260717T133000
DTEND;TZID=Europe/Berlin:20260717T164500
UID:261-477292-20260717T133000@VHSTÜBINGEN
SUMMARY:Orientierungskurs B1 / Integrationskurs 292 (261-477292) 
LOCATION:vhs, Schulungsraum 208, Katharinenstraße 18, 72072 Tübingen
END:VEVENT
END:VCALENDAR