BEGIN:VCALENDAR
VERSION:2.0
PRODID:https://www.kufer.de/kuferweb / DE
METHOD:PUBLISH
CALSCALE:GREGORIAN
X-WR-TIMEZONE:Europe/Berlin
BEGIN:VTIMEZONE
TZID:Europe/Berlin
X-LIC-LOCATION:Europe/Berlin
BEGIN:DAYLIGHT
TZOFFSETFROM:+0100
TZOFFSETTO:+0200
TZNAME:CEST
DTSTART:19700329T020000
RRULE:FREQ=YEARLY;INTERVAL=1;BYDAY=-1SU;BYMONTH=3
END:DAYLIGHT
BEGIN:STANDARD
TZOFFSETFROM:+0200
TZOFFSETTO:+0100
TZNAME:CET
DTSTART:19701025T030000
RRULE:FREQ=YEARLY;INTERVAL=1;BYDAY=-1SU;BYMONTH=10
END:STANDARD
END:VTIMEZONE
BEGIN:VEVENT
DTSTAMP:20260421T145431
DTSTART;TZID=Europe/Berlin:20260617T083000
DTEND;TZID=Europe/Berlin:20260617T115000
UID:261-477294-20260617T083000@VHSTÜBINGEN
SUMMARY:Alphabetisierungskurs 294 Abschnitt 7 (261-477294) 
LOCATION:vhs, Schulungsraum 214, Katharinenstraße 18, 72072 Tübingen
END:VEVENT
BEGIN:VEVENT
DTSTAMP:20260421T145431
DTSTART;TZID=Europe/Berlin:20260618T083000
DTEND;TZID=Europe/Berlin:20260618T115000
UID:261-477294-20260618T083000@VHSTÜBINGEN
SUMMARY:Alphabetisierungskurs 294 Abschnitt 7 (261-477294) 
LOCATION:vhs, Schulungsraum 214, Katharinenstraße 18, 72072 Tübingen
END:VEVENT
BEGIN:VEVENT
DTSTAMP:20260421T145431
DTSTART;TZID=Europe/Berlin:20260619T083000
DTEND;TZID=Europe/Berlin:20260619T115000
UID:261-477294-20260619T083000@VHSTÜBINGEN
SUMMARY:Alphabetisierungskurs 294 Abschnitt 7 (261-477294) 
LOCATION:vhs, Schulungsraum 214, Katharinenstraße 18, 72072 Tübingen
END:VEVENT
BEGIN:VEVENT
DTSTAMP:20260421T145431
DTSTART;TZID=Europe/Berlin:20260622T083000
DTEND;TZID=Europe/Berlin:20260622T115000
UID:261-477294-20260622T083000@VHSTÜBINGEN
SUMMARY:Alphabetisierungskurs 294 Abschnitt 7 (261-477294) 
LOCATION:vhs, Schulungsraum 214, Katharinenstraße 18, 72072 Tübingen
END:VEVENT
BEGIN:VEVENT
DTSTAMP:20260421T145431
DTSTART;TZID=Europe/Berlin:20260623T083000
DTEND;TZID=Europe/Berlin:20260623T115000
UID:261-477294-20260623T083000@VHSTÜBINGEN
SUMMARY:Alphabetisierungskurs 294 Abschnitt 7 (261-477294) 
LOCATION:vhs, Schulungsraum 214, Katharinenstraße 18, 72072 Tübingen
END:VEVENT
BEGIN:VEVENT
DTSTAMP:20260421T145431
DTSTART;TZID=Europe/Berlin:20260624T083000
DTEND;TZID=Europe/Berlin:20260624T115000
UID:261-477294-20260624T083000@VHSTÜBINGEN
SUMMARY:Alphabetisierungskurs 294 Abschnitt 7 (261-477294) 
LOCATION:vhs, Schulungsraum 214, Katharinenstraße 18, 72072 Tübingen
END:VEVENT
BEGIN:VEVENT
DTSTAMP:20260421T145431
DTSTART;TZID=Europe/Berlin:20260625T083000
DTEND;TZID=Europe/Berlin:20260625T115000
UID:261-477294-20260625T083000@VHSTÜBINGEN
SUMMARY:Alphabetisierungskurs 294 Abschnitt 7 (261-477294) 
LOCATION:vhs, Schulungsraum 214, Katharinenstraße 18, 72072 Tübingen
END:VEVENT
BEGIN:VEVENT
DTSTAMP:20260421T145431
DTSTART;TZID=Europe/Berlin:20260626T083000
DTEND;TZID=Europe/Berlin:20260626T115000
UID:261-477294-20260626T083000@VHSTÜBINGEN
SUMMARY:Alphabetisierungskurs 294 Abschnitt 7 (261-477294) 
LOCATION:vhs, Schulungsraum 214, Katharinenstraße 18, 72072 Tübingen
END:VEVENT
BEGIN:VEVENT
DTSTAMP:20260421T145431
DTSTART;TZID=Europe/Berlin:20260629T083000
DTEND;TZID=Europe/Berlin:20260629T115000
UID:261-477294-20260629T083000@VHSTÜBINGEN
SUMMARY:Alphabetisierungskurs 294 Abschnitt 7 (261-477294) 
LOCATION:vhs, Schulungsraum 214, Katharinenstraße 18, 72072 Tübingen
END:VEVENT
BEGIN:VEVENT
DTSTAMP:20260421T145431
DTSTART;TZID=Europe/Berlin:20260630T083000
DTEND;TZID=Europe/Berlin:20260630T115000
UID:261-477294-20260630T083000@VHSTÜBINGEN
SUMMARY:Alphabetisierungskurs 294 Abschnitt 7 (261-477294) 
LOCATION:vhs, Schulungsraum 214, Katharinenstraße 18, 72072 Tübingen
END:VEVENT
BEGIN:VEVENT
DTSTAMP:20260421T145431
DTSTART;TZID=Europe/Berlin:20260701T083000
DTEND;TZID=Europe/Berlin:20260701T115000
UID:261-477294-20260701T083000@VHSTÜBINGEN
SUMMARY:Alphabetisierungskurs 294 Abschnitt 7 (261-477294) 
LOCATION:vhs, Schulungsraum 214, Katharinenstraße 18, 72072 Tübingen
END:VEVENT
BEGIN:VEVENT
DTSTAMP:20260421T145431
DTSTART;TZID=Europe/Berlin:20260702T083000
DTEND;TZID=Europe/Berlin:20260702T115000
UID:261-477294-20260702T083000@VHSTÜBINGEN
SUMMARY:Alphabetisierungskurs 294 Abschnitt 7 (261-477294) 
LOCATION:vhs, Schulungsraum 214, Katharinenstraße 18, 72072 Tübingen
END:VEVENT
BEGIN:VEVENT
DTSTAMP:20260421T145431
DTSTART;TZID=Europe/Berlin:20260703T083000
DTEND;TZID=Europe/Berlin:20260703T115000
UID:261-477294-20260703T083000@VHSTÜBINGEN
SUMMARY:Alphabetisierungskurs 294 Abschnitt 7 (261-477294) 
LOCATION:vhs, Schulungsraum 214, Katharinenstraße 18, 72072 Tübingen
END:VEVENT
BEGIN:VEVENT
DTSTAMP:20260421T145431
DTSTART;TZID=Europe/Berlin:20260706T083000
DTEND;TZID=Europe/Berlin:20260706T115000
UID:261-477294-20260706T083000@VHSTÜBINGEN
SUMMARY:Alphabetisierungskurs 294 Abschnitt 7 (261-477294) 
LOCATION:vhs, Schulungsraum 214, Katharinenstraße 18, 72072 Tübingen
END:VEVENT
BEGIN:VEVENT
DTSTAMP:20260421T145431
DTSTART;TZID=Europe/Berlin:20260707T083000
DTEND;TZID=Europe/Berlin:20260707T115000
UID:261-477294-20260707T083000@VHSTÜBINGEN
SUMMARY:Alphabetisierungskurs 294 Abschnitt 7 (261-477294) 
LOCATION:vhs, Schulungsraum 214, Katharinenstraße 18, 72072 Tübingen
END:VEVENT
BEGIN:VEVENT
DTSTAMP:20260421T145431
DTSTART;TZID=Europe/Berlin:20260708T083000
DTEND;TZID=Europe/Berlin:20260708T115000
UID:261-477294-20260708T083000@VHSTÜBINGEN
SUMMARY:Alphabetisierungskurs 294 Abschnitt 7 (261-477294) 
LOCATION:vhs, Schulungsraum 214, Katharinenstraße 18, 72072 Tübingen
END:VEVENT
BEGIN:VEVENT
DTSTAMP:20260421T145431
DTSTART;TZID=Europe/Berlin:20260709T083000
DTEND;TZID=Europe/Berlin:20260709T115000
UID:261-477294-20260709T083000@VHSTÜBINGEN
SUMMARY:Alphabetisierungskurs 294 Abschnitt 7 (261-477294) 
LOCATION:vhs, Schulungsraum 214, Katharinenstraße 18, 72072 Tübingen
END:VEVENT
BEGIN:VEVENT
DTSTAMP:20260421T145431
DTSTART;TZID=Europe/Berlin:20260710T083000
DTEND;TZID=Europe/Berlin:20260710T115000
UID:261-477294-20260710T083000@VHSTÜBINGEN
SUMMARY:Alphabetisierungskurs 294 Abschnitt 7 (261-477294) 
LOCATION:vhs, Schulungsraum 214, Katharinenstraße 18, 72072 Tübingen
END:VEVENT
BEGIN:VEVENT
DTSTAMP:20260421T145431
DTSTART;TZID=Europe/Berlin:20260713T083000
DTEND;TZID=Europe/Berlin:20260713T115000
UID:261-477294-20260713T083000@VHSTÜBINGEN
SUMMARY:Alphabetisierungskurs 294 Abschnitt 7 (261-477294) 
LOCATION:vhs, Schulungsraum 214, Katharinenstraße 18, 72072 Tübingen
END:VEVENT
BEGIN:VEVENT
DTSTAMP:20260421T145431
DTSTART;TZID=Europe/Berlin:20260714T083000
DTEND;TZID=Europe/Berlin:20260714T115000
UID:261-477294-20260714T083000@VHSTÜBINGEN
SUMMARY:Alphabetisierungskurs 294 Abschnitt 7 (261-477294) 
LOCATION:vhs, Schulungsraum 214, Katharinenstraße 18, 72072 Tübingen
END:VEVENT
BEGIN:VEVENT
DTSTAMP:20260421T145431
DTSTART;TZID=Europe/Berlin:20260715T083000
DTEND;TZID=Europe/Berlin:20260715T115000
UID:261-477294-20260715T083000@VHSTÜBINGEN
SUMMARY:Alphabetisierungskurs 294 Abschnitt 7 (261-477294) 
LOCATION:vhs, Schulungsraum 214, Katharinenstraße 18, 72072 Tübingen
END:VEVENT
BEGIN:VEVENT
DTSTAMP:20260421T145431
DTSTART;TZID=Europe/Berlin:20260716T083000
DTEND;TZID=Europe/Berlin:20260716T115000
UID:261-477294-20260716T083000@VHSTÜBINGEN
SUMMARY:Alphabetisierungskurs 294 Abschnitt 7 (261-477294) 
LOCATION:vhs, Schulungsraum 214, Katharinenstraße 18, 72072 Tübingen
END:VEVENT
BEGIN:VEVENT
DTSTAMP:20260421T145431
DTSTART;TZID=Europe/Berlin:20260717T083000
DTEND;TZID=Europe/Berlin:20260717T115000
UID:261-477294-20260717T083000@VHSTÜBINGEN
SUMMARY:Alphabetisierungskurs 294 Abschnitt 7 (261-477294) 
LOCATION:vhs, Schulungsraum 214, Katharinenstraße 18, 72072 Tübingen
END:VEVENT
BEGIN:VEVENT
DTSTAMP:20260421T145431
DTSTART;TZID=Europe/Berlin:20260720T083000
DTEND;TZID=Europe/Berlin:20260720T115000
UID:261-477294-20260720T083000@VHSTÜBINGEN
SUMMARY:Alphabetisierungskurs 294 Abschnitt 7 (261-477294) 
LOCATION:vhs, Schulungsraum 214, Katharinenstraße 18, 72072 Tübingen
END:VEVENT
BEGIN:VEVENT
DTSTAMP:20260421T145431
DTSTART;TZID=Europe/Berlin:20260721T083000
DTEND;TZID=Europe/Berlin:20260721T115000
UID:261-477294-20260721T083000@VHSTÜBINGEN
SUMMARY:Alphabetisierungskurs 294 Abschnitt 7 (261-477294) 
LOCATION:vhs, Schulungsraum 214, Katharinenstraße 18, 72072 Tübingen
END:VEVENT
END:VCALENDAR