BEGIN:VCALENDAR
VERSION:2.0
PRODID:https://www.kufer.de/kuferweb / DE
METHOD:PUBLISH
CALSCALE:GREGORIAN
X-WR-TIMEZONE:Europe/Berlin
BEGIN:VTIMEZONE
TZID:Europe/Berlin
X-LIC-LOCATION:Europe/Berlin
BEGIN:DAYLIGHT
TZOFFSETFROM:+0100
TZOFFSETTO:+0200
TZNAME:CEST
DTSTART:19700329T020000
RRULE:FREQ=YEARLY;INTERVAL=1;BYDAY=-1SU;BYMONTH=3
END:DAYLIGHT
BEGIN:STANDARD
TZOFFSETFROM:+0200
TZOFFSETTO:+0100
TZNAME:CET
DTSTART:19701025T030000
RRULE:FREQ=YEARLY;INTERVAL=1;BYDAY=-1SU;BYMONTH=10
END:STANDARD
END:VTIMEZONE
BEGIN:VEVENT
DTSTAMP:20260421T132106
DTSTART;TZID=Europe/Berlin:20260914T133000
DTEND;TZID=Europe/Berlin:20260914T174500
UID:261-477304-20260914T133000@VHSTÜBINGEN
SUMMARY:Orientierungskurs B1 / Integrationskurs 304 (261-477304) 
LOCATION:vhs, Schulungsraum 108, Katharinenstraße 18, 72072 Tübingen
END:VEVENT
BEGIN:VEVENT
DTSTAMP:20260421T132106
DTSTART;TZID=Europe/Berlin:20260915T133000
DTEND;TZID=Europe/Berlin:20260915T174500
UID:261-477304-20260915T133000@VHSTÜBINGEN
SUMMARY:Orientierungskurs B1 / Integrationskurs 304 (261-477304) 
LOCATION:vhs, Schulungsraum 108, Katharinenstraße 18, 72072 Tübingen
END:VEVENT
BEGIN:VEVENT
DTSTAMP:20260421T132106
DTSTART;TZID=Europe/Berlin:20260916T133000
DTEND;TZID=Europe/Berlin:20260916T174500
UID:261-477304-20260916T133000@VHSTÜBINGEN
SUMMARY:Orientierungskurs B1 / Integrationskurs 304 (261-477304) 
LOCATION:vhs, Schulungsraum 108, Katharinenstraße 18, 72072 Tübingen
END:VEVENT
BEGIN:VEVENT
DTSTAMP:20260421T132106
DTSTART;TZID=Europe/Berlin:20260917T133000
DTEND;TZID=Europe/Berlin:20260917T174500
UID:261-477304-20260917T133000@VHSTÜBINGEN
SUMMARY:Orientierungskurs B1 / Integrationskurs 304 (261-477304) 
LOCATION:vhs, Schulungsraum 108, Katharinenstraße 18, 72072 Tübingen
END:VEVENT
BEGIN:VEVENT
DTSTAMP:20260421T132106
DTSTART;TZID=Europe/Berlin:20260918T133000
DTEND;TZID=Europe/Berlin:20260918T174500
UID:261-477304-20260918T133000@VHSTÜBINGEN
SUMMARY:Orientierungskurs B1 / Integrationskurs 304 (261-477304) 
LOCATION:vhs, Schulungsraum 108, Katharinenstraße 18, 72072 Tübingen
END:VEVENT
BEGIN:VEVENT
DTSTAMP:20260421T132106
DTSTART;TZID=Europe/Berlin:20260922T133000
DTEND;TZID=Europe/Berlin:20260922T174500
UID:261-477304-20260922T133000@VHSTÜBINGEN
SUMMARY:Orientierungskurs B1 / Integrationskurs 304 (261-477304) 
LOCATION:vhs, Schulungsraum 108, Katharinenstraße 18, 72072 Tübingen
END:VEVENT
BEGIN:VEVENT
DTSTAMP:20260421T132106
DTSTART;TZID=Europe/Berlin:20260923T133000
DTEND;TZID=Europe/Berlin:20260923T174500
UID:261-477304-20260923T133000@VHSTÜBINGEN
SUMMARY:Orientierungskurs B1 / Integrationskurs 304 (261-477304) 
LOCATION:vhs, Schulungsraum 108, Katharinenstraße 18, 72072 Tübingen
END:VEVENT
BEGIN:VEVENT
DTSTAMP:20260421T132106
DTSTART;TZID=Europe/Berlin:20260924T133000
DTEND;TZID=Europe/Berlin:20260924T174500
UID:261-477304-20260924T133000@VHSTÜBINGEN
SUMMARY:Orientierungskurs B1 / Integrationskurs 304 (261-477304) 
LOCATION:vhs, Schulungsraum 108, Katharinenstraße 18, 72072 Tübingen
END:VEVENT
BEGIN:VEVENT
DTSTAMP:20260421T132106
DTSTART;TZID=Europe/Berlin:20260925T133000
DTEND;TZID=Europe/Berlin:20260925T174500
UID:261-477304-20260925T133000@VHSTÜBINGEN
SUMMARY:Orientierungskurs B1 / Integrationskurs 304 (261-477304) 
LOCATION:vhs, Schulungsraum 108, Katharinenstraße 18, 72072 Tübingen
END:VEVENT
BEGIN:VEVENT
DTSTAMP:20260421T132106
DTSTART;TZID=Europe/Berlin:20260929T133000
DTEND;TZID=Europe/Berlin:20260929T174500
UID:261-477304-20260929T133000@VHSTÜBINGEN
SUMMARY:Orientierungskurs B1 / Integrationskurs 304 (261-477304) 
LOCATION:vhs, Schulungsraum 108, Katharinenstraße 18, 72072 Tübingen
END:VEVENT
BEGIN:VEVENT
DTSTAMP:20260421T132106
DTSTART;TZID=Europe/Berlin:20260930T133000
DTEND;TZID=Europe/Berlin:20260930T174500
UID:261-477304-20260930T133000@VHSTÜBINGEN
SUMMARY:Orientierungskurs B1 / Integrationskurs 304 (261-477304) 
LOCATION:vhs, Schulungsraum 108, Katharinenstraße 18, 72072 Tübingen
END:VEVENT
BEGIN:VEVENT
DTSTAMP:20260421T132106
DTSTART;TZID=Europe/Berlin:20261001T133000
DTEND;TZID=Europe/Berlin:20261001T174500
UID:261-477304-20261001T133000@VHSTÜBINGEN
SUMMARY:Orientierungskurs B1 / Integrationskurs 304 (261-477304) 
LOCATION:vhs, Schulungsraum 108, Katharinenstraße 18, 72072 Tübingen
END:VEVENT
BEGIN:VEVENT
DTSTAMP:20260421T132106
DTSTART;TZID=Europe/Berlin:20261002T133000
DTEND;TZID=Europe/Berlin:20261002T174500
UID:261-477304-20261002T133000@VHSTÜBINGEN
SUMMARY:Orientierungskurs B1 / Integrationskurs 304 (261-477304) 
LOCATION:vhs, Schulungsraum 108, Katharinenstraße 18, 72072 Tübingen
END:VEVENT
BEGIN:VEVENT
DTSTAMP:20260421T132106
DTSTART;TZID=Europe/Berlin:20261006T133000
DTEND;TZID=Europe/Berlin:20261006T174500
UID:261-477304-20261006T133000@VHSTÜBINGEN
SUMMARY:Orientierungskurs B1 / Integrationskurs 304 (261-477304) 
LOCATION:vhs, Schulungsraum 108, Katharinenstraße 18, 72072 Tübingen
END:VEVENT
BEGIN:VEVENT
DTSTAMP:20260421T132106
DTSTART;TZID=Europe/Berlin:20261007T133000
DTEND;TZID=Europe/Berlin:20261007T174500
UID:261-477304-20261007T133000@VHSTÜBINGEN
SUMMARY:Orientierungskurs B1 / Integrationskurs 304 (261-477304) 
LOCATION:vhs, Schulungsraum 108, Katharinenstraße 18, 72072 Tübingen
END:VEVENT
BEGIN:VEVENT
DTSTAMP:20260421T132106
DTSTART;TZID=Europe/Berlin:20261008T133000
DTEND;TZID=Europe/Berlin:20261008T174500
UID:261-477304-20261008T133000@VHSTÜBINGEN
SUMMARY:Orientierungskurs B1 / Integrationskurs 304 (261-477304) 
LOCATION:vhs, Schulungsraum 108, Katharinenstraße 18, 72072 Tübingen
END:VEVENT
BEGIN:VEVENT
DTSTAMP:20260421T132106
DTSTART;TZID=Europe/Berlin:20261009T133000
DTEND;TZID=Europe/Berlin:20261009T174500
UID:261-477304-20261009T133000@VHSTÜBINGEN
SUMMARY:Orientierungskurs B1 / Integrationskurs 304 (261-477304) 
LOCATION:vhs, Schulungsraum 108, Katharinenstraße 18, 72072 Tübingen
END:VEVENT
BEGIN:VEVENT
DTSTAMP:20260421T132106
DTSTART;TZID=Europe/Berlin:20261013T133000
DTEND;TZID=Europe/Berlin:20261013T174500
UID:261-477304-20261013T133000@VHSTÜBINGEN
SUMMARY:Orientierungskurs B1 / Integrationskurs 304 (261-477304) 
LOCATION:vhs, Schulungsraum 108, Katharinenstraße 18, 72072 Tübingen
END:VEVENT
BEGIN:VEVENT
DTSTAMP:20260421T132106
DTSTART;TZID=Europe/Berlin:20261014T133000
DTEND;TZID=Europe/Berlin:20261014T174500
UID:261-477304-20261014T133000@VHSTÜBINGEN
SUMMARY:Orientierungskurs B1 / Integrationskurs 304 (261-477304) 
LOCATION:vhs, Schulungsraum 108, Katharinenstraße 18, 72072 Tübingen
END:VEVENT
BEGIN:VEVENT
DTSTAMP:20260421T132106
DTSTART;TZID=Europe/Berlin:20261015T133000
DTEND;TZID=Europe/Berlin:20261015T174500
UID:261-477304-20261015T133000@VHSTÜBINGEN
SUMMARY:Orientierungskurs B1 / Integrationskurs 304 (261-477304) 
LOCATION:vhs, Schulungsraum 108, Katharinenstraße 18, 72072 Tübingen
END:VEVENT
END:VCALENDAR