BEGIN:VCALENDAR
VERSION:2.0
PRODID:https://www.kufer.de/kuferweb / DE
METHOD:PUBLISH
CALSCALE:GREGORIAN
X-WR-TIMEZONE:Europe/Berlin
BEGIN:VTIMEZONE
TZID:Europe/Berlin
X-LIC-LOCATION:Europe/Berlin
BEGIN:DAYLIGHT
TZOFFSETFROM:+0100
TZOFFSETTO:+0200
TZNAME:CEST
DTSTART:19700329T020000
RRULE:FREQ=YEARLY;INTERVAL=1;BYDAY=-1SU;BYMONTH=3
END:DAYLIGHT
BEGIN:STANDARD
TZOFFSETFROM:+0200
TZOFFSETTO:+0100
TZNAME:CET
DTSTART:19701025T030000
RRULE:FREQ=YEARLY;INTERVAL=1;BYDAY=-1SU;BYMONTH=10
END:STANDARD
END:VTIMEZONE
BEGIN:VEVENT
DTSTAMP:20260421T132103
DTSTART;TZID=Europe/Berlin:20260722T083000
DTEND;TZID=Europe/Berlin:20260722T115000
UID:261-478294-20260722T083000@VHSTÜBINGEN
SUMMARY:Alphabetisierungskurs 294 Abschnitt 8 (261-478294) 
LOCATION:vhs, Schulungsraum 214, Katharinenstraße 18, 72072 Tübingen
END:VEVENT
BEGIN:VEVENT
DTSTAMP:20260421T132103
DTSTART;TZID=Europe/Berlin:20260723T083000
DTEND;TZID=Europe/Berlin:20260723T115000
UID:261-478294-20260723T083000@VHSTÜBINGEN
SUMMARY:Alphabetisierungskurs 294 Abschnitt 8 (261-478294) 
LOCATION:vhs, Schulungsraum 214, Katharinenstraße 18, 72072 Tübingen
END:VEVENT
BEGIN:VEVENT
DTSTAMP:20260421T132103
DTSTART;TZID=Europe/Berlin:20260724T083000
DTEND;TZID=Europe/Berlin:20260724T115000
UID:261-478294-20260724T083000@VHSTÜBINGEN
SUMMARY:Alphabetisierungskurs 294 Abschnitt 8 (261-478294) 
LOCATION:vhs, Schulungsraum 214, Katharinenstraße 18, 72072 Tübingen
END:VEVENT
BEGIN:VEVENT
DTSTAMP:20260421T132103
DTSTART;TZID=Europe/Berlin:20260727T083000
DTEND;TZID=Europe/Berlin:20260727T115000
UID:261-478294-20260727T083000@VHSTÜBINGEN
SUMMARY:Alphabetisierungskurs 294 Abschnitt 8 (261-478294) 
LOCATION:vhs, Schulungsraum 214, Katharinenstraße 18, 72072 Tübingen
END:VEVENT
BEGIN:VEVENT
DTSTAMP:20260421T132103
DTSTART;TZID=Europe/Berlin:20260728T083000
DTEND;TZID=Europe/Berlin:20260728T115000
UID:261-478294-20260728T083000@VHSTÜBINGEN
SUMMARY:Alphabetisierungskurs 294 Abschnitt 8 (261-478294) 
LOCATION:vhs, Schulungsraum 214, Katharinenstraße 18, 72072 Tübingen
END:VEVENT
BEGIN:VEVENT
DTSTAMP:20260421T132103
DTSTART;TZID=Europe/Berlin:20260729T083000
DTEND;TZID=Europe/Berlin:20260729T115000
UID:261-478294-20260729T083000@VHSTÜBINGEN
SUMMARY:Alphabetisierungskurs 294 Abschnitt 8 (261-478294) 
LOCATION:vhs, Schulungsraum 214, Katharinenstraße 18, 72072 Tübingen
END:VEVENT
BEGIN:VEVENT
DTSTAMP:20260421T132103
DTSTART;TZID=Europe/Berlin:20260914T083000
DTEND;TZID=Europe/Berlin:20260914T115000
UID:261-478294-20260914T083000@VHSTÜBINGEN
SUMMARY:Alphabetisierungskurs 294 Abschnitt 8 (261-478294) 
LOCATION:vhs, Schulungsraum 214, Katharinenstraße 18, 72072 Tübingen
END:VEVENT
BEGIN:VEVENT
DTSTAMP:20260421T132103
DTSTART;TZID=Europe/Berlin:20260915T083000
DTEND;TZID=Europe/Berlin:20260915T115000
UID:261-478294-20260915T083000@VHSTÜBINGEN
SUMMARY:Alphabetisierungskurs 294 Abschnitt 8 (261-478294) 
LOCATION:vhs, Schulungsraum 214, Katharinenstraße 18, 72072 Tübingen
END:VEVENT
BEGIN:VEVENT
DTSTAMP:20260421T132103
DTSTART;TZID=Europe/Berlin:20260916T083000
DTEND;TZID=Europe/Berlin:20260916T115000
UID:261-478294-20260916T083000@VHSTÜBINGEN
SUMMARY:Alphabetisierungskurs 294 Abschnitt 8 (261-478294) 
LOCATION:vhs, Schulungsraum 214, Katharinenstraße 18, 72072 Tübingen
END:VEVENT
BEGIN:VEVENT
DTSTAMP:20260421T132103
DTSTART;TZID=Europe/Berlin:20260917T083000
DTEND;TZID=Europe/Berlin:20260917T115000
UID:261-478294-20260917T083000@VHSTÜBINGEN
SUMMARY:Alphabetisierungskurs 294 Abschnitt 8 (261-478294) 
LOCATION:vhs, Schulungsraum 214, Katharinenstraße 18, 72072 Tübingen
END:VEVENT
BEGIN:VEVENT
DTSTAMP:20260421T132103
DTSTART;TZID=Europe/Berlin:20260918T083000
DTEND;TZID=Europe/Berlin:20260918T115000
UID:261-478294-20260918T083000@VHSTÜBINGEN
SUMMARY:Alphabetisierungskurs 294 Abschnitt 8 (261-478294) 
LOCATION:vhs, Schulungsraum 214, Katharinenstraße 18, 72072 Tübingen
END:VEVENT
BEGIN:VEVENT
DTSTAMP:20260421T132103
DTSTART;TZID=Europe/Berlin:20260921T083000
DTEND;TZID=Europe/Berlin:20260921T115000
UID:261-478294-20260921T083000@VHSTÜBINGEN
SUMMARY:Alphabetisierungskurs 294 Abschnitt 8 (261-478294) 
LOCATION:vhs, Schulungsraum 214, Katharinenstraße 18, 72072 Tübingen
END:VEVENT
BEGIN:VEVENT
DTSTAMP:20260421T132103
DTSTART;TZID=Europe/Berlin:20260922T083000
DTEND;TZID=Europe/Berlin:20260922T115000
UID:261-478294-20260922T083000@VHSTÜBINGEN
SUMMARY:Alphabetisierungskurs 294 Abschnitt 8 (261-478294) 
LOCATION:vhs, Schulungsraum 214, Katharinenstraße 18, 72072 Tübingen
END:VEVENT
BEGIN:VEVENT
DTSTAMP:20260421T132103
DTSTART;TZID=Europe/Berlin:20260923T083000
DTEND;TZID=Europe/Berlin:20260923T115000
UID:261-478294-20260923T083000@VHSTÜBINGEN
SUMMARY:Alphabetisierungskurs 294 Abschnitt 8 (261-478294) 
LOCATION:vhs, Schulungsraum 214, Katharinenstraße 18, 72072 Tübingen
END:VEVENT
BEGIN:VEVENT
DTSTAMP:20260421T132103
DTSTART;TZID=Europe/Berlin:20260924T083000
DTEND;TZID=Europe/Berlin:20260924T115000
UID:261-478294-20260924T083000@VHSTÜBINGEN
SUMMARY:Alphabetisierungskurs 294 Abschnitt 8 (261-478294) 
LOCATION:vhs, Schulungsraum 214, Katharinenstraße 18, 72072 Tübingen
END:VEVENT
BEGIN:VEVENT
DTSTAMP:20260421T132103
DTSTART;TZID=Europe/Berlin:20260925T083000
DTEND;TZID=Europe/Berlin:20260925T115000
UID:261-478294-20260925T083000@VHSTÜBINGEN
SUMMARY:Alphabetisierungskurs 294 Abschnitt 8 (261-478294) 
LOCATION:vhs, Schulungsraum 214, Katharinenstraße 18, 72072 Tübingen
END:VEVENT
BEGIN:VEVENT
DTSTAMP:20260421T132103
DTSTART;TZID=Europe/Berlin:20260928T083000
DTEND;TZID=Europe/Berlin:20260928T115000
UID:261-478294-20260928T083000@VHSTÜBINGEN
SUMMARY:Alphabetisierungskurs 294 Abschnitt 8 (261-478294) 
LOCATION:vhs, Schulungsraum 214, Katharinenstraße 18, 72072 Tübingen
END:VEVENT
BEGIN:VEVENT
DTSTAMP:20260421T132103
DTSTART;TZID=Europe/Berlin:20260929T083000
DTEND;TZID=Europe/Berlin:20260929T115000
UID:261-478294-20260929T083000@VHSTÜBINGEN
SUMMARY:Alphabetisierungskurs 294 Abschnitt 8 (261-478294) 
LOCATION:vhs, Schulungsraum 214, Katharinenstraße 18, 72072 Tübingen
END:VEVENT
BEGIN:VEVENT
DTSTAMP:20260421T132103
DTSTART;TZID=Europe/Berlin:20260930T083000
DTEND;TZID=Europe/Berlin:20260930T115000
UID:261-478294-20260930T083000@VHSTÜBINGEN
SUMMARY:Alphabetisierungskurs 294 Abschnitt 8 (261-478294) 
LOCATION:vhs, Schulungsraum 214, Katharinenstraße 18, 72072 Tübingen
END:VEVENT
BEGIN:VEVENT
DTSTAMP:20260421T132103
DTSTART;TZID=Europe/Berlin:20261001T083000
DTEND;TZID=Europe/Berlin:20261001T115000
UID:261-478294-20261001T083000@VHSTÜBINGEN
SUMMARY:Alphabetisierungskurs 294 Abschnitt 8 (261-478294) 
LOCATION:vhs, Schulungsraum 214, Katharinenstraße 18, 72072 Tübingen
END:VEVENT
BEGIN:VEVENT
DTSTAMP:20260421T132103
DTSTART;TZID=Europe/Berlin:20261002T083000
DTEND;TZID=Europe/Berlin:20261002T115000
UID:261-478294-20261002T083000@VHSTÜBINGEN
SUMMARY:Alphabetisierungskurs 294 Abschnitt 8 (261-478294) 
LOCATION:vhs, Schulungsraum 214, Katharinenstraße 18, 72072 Tübingen
END:VEVENT
BEGIN:VEVENT
DTSTAMP:20260421T132103
DTSTART;TZID=Europe/Berlin:20261005T083000
DTEND;TZID=Europe/Berlin:20261005T115000
UID:261-478294-20261005T083000@VHSTÜBINGEN
SUMMARY:Alphabetisierungskurs 294 Abschnitt 8 (261-478294) 
LOCATION:vhs, Schulungsraum 214, Katharinenstraße 18, 72072 Tübingen
END:VEVENT
BEGIN:VEVENT
DTSTAMP:20260421T132103
DTSTART;TZID=Europe/Berlin:20261006T083000
DTEND;TZID=Europe/Berlin:20261006T115000
UID:261-478294-20261006T083000@VHSTÜBINGEN
SUMMARY:Alphabetisierungskurs 294 Abschnitt 8 (261-478294) 
LOCATION:vhs, Schulungsraum 214, Katharinenstraße 18, 72072 Tübingen
END:VEVENT
BEGIN:VEVENT
DTSTAMP:20260421T132103
DTSTART;TZID=Europe/Berlin:20261007T083000
DTEND;TZID=Europe/Berlin:20261007T115000
UID:261-478294-20261007T083000@VHSTÜBINGEN
SUMMARY:Alphabetisierungskurs 294 Abschnitt 8 (261-478294) 
LOCATION:vhs, Schulungsraum 214, Katharinenstraße 18, 72072 Tübingen
END:VEVENT
BEGIN:VEVENT
DTSTAMP:20260421T132103
DTSTART;TZID=Europe/Berlin:20261008T083000
DTEND;TZID=Europe/Berlin:20261008T115000
UID:261-478294-20261008T083000@VHSTÜBINGEN
SUMMARY:Alphabetisierungskurs 294 Abschnitt 8 (261-478294) 
LOCATION:vhs, Schulungsraum 214, Katharinenstraße 18, 72072 Tübingen
END:VEVENT
END:VCALENDAR