BEGIN:VCALENDAR
VERSION:2.0
PRODID:https://www.kufer.de/kuferweb / DE
METHOD:PUBLISH
CALSCALE:GREGORIAN
X-WR-TIMEZONE:Europe/Berlin
BEGIN:VTIMEZONE
TZID:Europe/Berlin
X-LIC-LOCATION:Europe/Berlin
BEGIN:DAYLIGHT
TZOFFSETFROM:+0100
TZOFFSETTO:+0200
TZNAME:CEST
DTSTART:19700329T020000
RRULE:FREQ=YEARLY;INTERVAL=1;BYDAY=-1SU;BYMONTH=3
END:DAYLIGHT
BEGIN:STANDARD
TZOFFSETFROM:+0200
TZOFFSETTO:+0100
TZNAME:CET
DTSTART:19701025T030000
RRULE:FREQ=YEARLY;INTERVAL=1;BYDAY=-1SU;BYMONTH=10
END:STANDARD
END:VTIMEZONE
BEGIN:VEVENT
DTSTAMP:20260421T171531
DTSTART;TZID=Europe/Berlin:20260512T180000
DTEND;TZID=Europe/Berlin:20260512T193000
UID:261-51091-20260512T180000@VHSTÜBINGEN
SUMMARY:Stadtfotografie-Exkursion (261-51091) 
LOCATION:vhs, Schulungsraum 017, Katharinenstraße 18, 72072 Tübingen
END:VEVENT
BEGIN:VEVENT
DTSTAMP:20260421T171531
DTSTART;TZID=Europe/Berlin:20260516T080000
DTEND;TZID=Europe/Berlin:20260516T130000
UID:261-51091-20260516T080000@VHSTÜBINGEN
SUMMARY:Stadtfotografie-Exkursion (261-51091) 
LOCATION:Ausflug
END:VEVENT
BEGIN:VEVENT
DTSTAMP:20260421T171531
DTSTART;TZID=Europe/Berlin:20260519T180000
DTEND;TZID=Europe/Berlin:20260519T193000
UID:261-51091-20260519T180000@VHSTÜBINGEN
SUMMARY:Stadtfotografie-Exkursion (261-51091) 
LOCATION:vhs, Schulungsraum 017, Katharinenstraße 18, 72072 Tübingen
END:VEVENT
END:VCALENDAR