BEGIN:VCALENDAR
VERSION:2.0
PRODID:https://www.kufer.de/kuferweb / DE
METHOD:PUBLISH
CALSCALE:GREGORIAN
X-WR-TIMEZONE:Europe/Berlin
BEGIN:VTIMEZONE
TZID:Europe/Berlin
X-LIC-LOCATION:Europe/Berlin
BEGIN:DAYLIGHT
TZOFFSETFROM:+0100
TZOFFSETTO:+0200
TZNAME:CEST
DTSTART:19700329T020000
RRULE:FREQ=YEARLY;INTERVAL=1;BYDAY=-1SU;BYMONTH=3
END:DAYLIGHT
BEGIN:STANDARD
TZOFFSETFROM:+0200
TZOFFSETTO:+0100
TZNAME:CET
DTSTART:19701025T030000
RRULE:FREQ=YEARLY;INTERVAL=1;BYDAY=-1SU;BYMONTH=10
END:STANDARD
END:VTIMEZONE
BEGIN:VEVENT
DTSTAMP:20260421T174722
DTSTART;TZID=Europe/Berlin:20260609T183000
DTEND;TZID=Europe/Berlin:20260609T213000
UID:261-51095-20260609T183000@VHSTÜBINGEN
SUMMARY:Gestalten mit der neuen Affinity Suite und Canva Professionelle Designs leicht gemacht (261-51095) 
LOCATION:vhsonline 501
END:VEVENT
BEGIN:VEVENT
DTSTAMP:20260421T174722
DTSTART;TZID=Europe/Berlin:20260616T183000
DTEND;TZID=Europe/Berlin:20260616T213000
UID:261-51095-20260616T183000@VHSTÜBINGEN
SUMMARY:Gestalten mit der neuen Affinity Suite und Canva Professionelle Designs leicht gemacht (261-51095) 
LOCATION:vhsonline 501
END:VEVENT
BEGIN:VEVENT
DTSTAMP:20260421T174722
DTSTART;TZID=Europe/Berlin:20260623T183000
DTEND;TZID=Europe/Berlin:20260623T213000
UID:261-51095-20260623T183000@VHSTÜBINGEN
SUMMARY:Gestalten mit der neuen Affinity Suite und Canva Professionelle Designs leicht gemacht (261-51095) 
LOCATION:vhsonline 501
END:VEVENT
END:VCALENDAR