BEGIN:VCALENDAR
VERSION:2.0
PRODID:https://www.kufer.de/kuferweb / DE
METHOD:PUBLISH
CALSCALE:GREGORIAN
X-WR-TIMEZONE:Europe/Berlin
BEGIN:VTIMEZONE
TZID:Europe/Berlin
X-LIC-LOCATION:Europe/Berlin
BEGIN:DAYLIGHT
TZOFFSETFROM:+0100
TZOFFSETTO:+0200
TZNAME:CEST
DTSTART:19700329T020000
RRULE:FREQ=YEARLY;INTERVAL=1;BYDAY=-1SU;BYMONTH=3
END:DAYLIGHT
BEGIN:STANDARD
TZOFFSETFROM:+0200
TZOFFSETTO:+0100
TZNAME:CET
DTSTART:19701025T030000
RRULE:FREQ=YEARLY;INTERVAL=1;BYDAY=-1SU;BYMONTH=10
END:STANDARD
END:VTIMEZONE
BEGIN:VEVENT
DTSTAMP:20260421T174735
DTSTART;TZID=Europe/Berlin:20260608T183000
DTEND;TZID=Europe/Berlin:20260608T214500
UID:261-53001-20260608T183000@VHSTÜBINGEN
SUMMARY:MS-Office Intensivkurs (261-53001) 
LOCATION:vhs, EDV-Raum 210, Katharinenstraße 18, 72072 Tübingen
END:VEVENT
BEGIN:VEVENT
DTSTAMP:20260421T174735
DTSTART;TZID=Europe/Berlin:20260615T183000
DTEND;TZID=Europe/Berlin:20260615T214500
UID:261-53001-20260615T183000@VHSTÜBINGEN
SUMMARY:MS-Office Intensivkurs (261-53001) 
LOCATION:vhs, EDV-Raum 210, Katharinenstraße 18, 72072 Tübingen
END:VEVENT
BEGIN:VEVENT
DTSTAMP:20260421T174735
DTSTART;TZID=Europe/Berlin:20260622T183000
DTEND;TZID=Europe/Berlin:20260622T214500
UID:261-53001-20260622T183000@VHSTÜBINGEN
SUMMARY:MS-Office Intensivkurs (261-53001) 
LOCATION:vhs, EDV-Raum 210, Katharinenstraße 18, 72072 Tübingen
END:VEVENT
BEGIN:VEVENT
DTSTAMP:20260421T174735
DTSTART;TZID=Europe/Berlin:20260629T183000
DTEND;TZID=Europe/Berlin:20260629T214500
UID:261-53001-20260629T183000@VHSTÜBINGEN
SUMMARY:MS-Office Intensivkurs (261-53001) 
LOCATION:vhs, EDV-Raum 210, Katharinenstraße 18, 72072 Tübingen
END:VEVENT
BEGIN:VEVENT
DTSTAMP:20260421T174735
DTSTART;TZID=Europe/Berlin:20260706T183000
DTEND;TZID=Europe/Berlin:20260706T214500
UID:261-53001-20260706T183000@VHSTÜBINGEN
SUMMARY:MS-Office Intensivkurs (261-53001) 
LOCATION:vhs, EDV-Raum 210, Katharinenstraße 18, 72072 Tübingen
END:VEVENT
BEGIN:VEVENT
DTSTAMP:20260421T174735
DTSTART;TZID=Europe/Berlin:20260713T183000
DTEND;TZID=Europe/Berlin:20260713T214500
UID:261-53001-20260713T183000@VHSTÜBINGEN
SUMMARY:MS-Office Intensivkurs (261-53001) 
LOCATION:vhs, EDV-Raum 210, Katharinenstraße 18, 72072 Tübingen
END:VEVENT
END:VCALENDAR