BEGIN:VCALENDAR
VERSION:2.0
PRODID:https://www.kufer.de/kuferweb / DE
METHOD:PUBLISH
CALSCALE:GREGORIAN
X-WR-TIMEZONE:Europe/Berlin
BEGIN:VTIMEZONE
TZID:Europe/Berlin
X-LIC-LOCATION:Europe/Berlin
BEGIN:DAYLIGHT
TZOFFSETFROM:+0100
TZOFFSETTO:+0200
TZNAME:CEST
DTSTART:19700329T020000
RRULE:FREQ=YEARLY;INTERVAL=1;BYDAY=-1SU;BYMONTH=3
END:DAYLIGHT
BEGIN:STANDARD
TZOFFSETFROM:+0200
TZOFFSETTO:+0100
TZNAME:CET
DTSTART:19701025T030000
RRULE:FREQ=YEARLY;INTERVAL=1;BYDAY=-1SU;BYMONTH=10
END:STANDARD
END:VTIMEZONE
BEGIN:VEVENT
DTSTAMP:20260421T173001
DTSTART;TZID=Europe/Berlin:20260626T183000
DTEND;TZID=Europe/Berlin:20260626T213000
UID:261-53201-20260626T183000@VHSTÜBINGEN
SUMMARY:Excel Komplett: Der Grund- und Aufbaukurs am Stück - online (261-53201) 
LOCATION:vhsonline 501
END:VEVENT
BEGIN:VEVENT
DTSTAMP:20260421T173001
DTSTART;TZID=Europe/Berlin:20260703T183000
DTEND;TZID=Europe/Berlin:20260703T213000
UID:261-53201-20260703T183000@VHSTÜBINGEN
SUMMARY:Excel Komplett: Der Grund- und Aufbaukurs am Stück - online (261-53201) 
LOCATION:vhsonline 501
END:VEVENT
BEGIN:VEVENT
DTSTAMP:20260421T173001
DTSTART;TZID=Europe/Berlin:20260710T183000
DTEND;TZID=Europe/Berlin:20260710T213000
UID:261-53201-20260710T183000@VHSTÜBINGEN
SUMMARY:Excel Komplett: Der Grund- und Aufbaukurs am Stück - online (261-53201) 
LOCATION:vhsonline 501
END:VEVENT
BEGIN:VEVENT
DTSTAMP:20260421T173001
DTSTART;TZID=Europe/Berlin:20260717T183000
DTEND;TZID=Europe/Berlin:20260717T213000
UID:261-53201-20260717T183000@VHSTÜBINGEN
SUMMARY:Excel Komplett: Der Grund- und Aufbaukurs am Stück - online (261-53201) 
LOCATION:vhsonline 501
END:VEVENT
BEGIN:VEVENT
DTSTAMP:20260421T173001
DTSTART;TZID=Europe/Berlin:20260724T183000
DTEND;TZID=Europe/Berlin:20260724T213000
UID:261-53201-20260724T183000@VHSTÜBINGEN
SUMMARY:Excel Komplett: Der Grund- und Aufbaukurs am Stück - online (261-53201) 
LOCATION:vhsonline 501
END:VEVENT
BEGIN:VEVENT
DTSTAMP:20260421T173001
DTSTART;TZID=Europe/Berlin:20260918T183000
DTEND;TZID=Europe/Berlin:20260918T213000
UID:261-53201-20260918T183000@VHSTÜBINGEN
SUMMARY:Excel Komplett: Der Grund- und Aufbaukurs am Stück - online (261-53201) 
LOCATION:vhsonline 501
END:VEVENT
END:VCALENDAR