BEGIN:VCALENDAR
VERSION:2.0
PRODID:https://www.kufer.de/kuferweb / DE
METHOD:PUBLISH
CALSCALE:GREGORIAN
X-WR-TIMEZONE:Europe/Berlin
BEGIN:VTIMEZONE
TZID:Europe/Berlin
X-LIC-LOCATION:Europe/Berlin
BEGIN:DAYLIGHT
TZOFFSETFROM:+0100
TZOFFSETTO:+0200
TZNAME:CEST
DTSTART:19700329T020000
RRULE:FREQ=YEARLY;INTERVAL=1;BYDAY=-1SU;BYMONTH=3
END:DAYLIGHT
BEGIN:STANDARD
TZOFFSETFROM:+0200
TZOFFSETTO:+0100
TZNAME:CET
DTSTART:19701025T030000
RRULE:FREQ=YEARLY;INTERVAL=1;BYDAY=-1SU;BYMONTH=10
END:STANDARD
END:VTIMEZONE
BEGIN:VEVENT
DTSTAMP:20260420T133655
DTSTART;TZID=Europe/Berlin:20261127T130000
DTEND;TZID=Europe/Berlin:20261127T180000
UID:261-56413-20261127T130000@VHSTÜBINGEN
SUMMARY:Finanzbuchhaltung in SAP® S/4HANA (261-56413) 
LOCATION:99 Raum für Online Schulungen
END:VEVENT
BEGIN:VEVENT
DTSTAMP:20260420T133655
DTSTART;TZID=Europe/Berlin:20261128T090000
DTEND;TZID=Europe/Berlin:20261128T161500
UID:261-56413-20261128T090000@VHSTÜBINGEN
SUMMARY:Finanzbuchhaltung in SAP® S/4HANA (261-56413) 
LOCATION:99 Raum für Online Schulungen
END:VEVENT
END:VCALENDAR