BEGIN:VCALENDAR
VERSION:2.0
PRODID:https://www.kufer.de/kuferweb / DE
METHOD:PUBLISH
CALSCALE:GREGORIAN
X-WR-TIMEZONE:Europe/Berlin
BEGIN:VTIMEZONE
TZID:Europe/Berlin
X-LIC-LOCATION:Europe/Berlin
BEGIN:DAYLIGHT
TZOFFSETFROM:+0100
TZOFFSETTO:+0200
TZNAME:CEST
DTSTART:19700329T020000
RRULE:FREQ=YEARLY;INTERVAL=1;BYDAY=-1SU;BYMONTH=3
END:DAYLIGHT
BEGIN:STANDARD
TZOFFSETFROM:+0200
TZOFFSETTO:+0100
TZNAME:CET
DTSTART:19701025T030000
RRULE:FREQ=YEARLY;INTERVAL=1;BYDAY=-1SU;BYMONTH=10
END:STANDARD
END:VTIMEZONE
BEGIN:VEVENT
DTSTAMP:20260419T175809
DTSTART;TZID=Europe/Berlin:20260223T080000
DTEND;TZID=Europe/Berlin:20260223T090000
UID:261-80320-20260223T080000@VHSTÜBINGEN
SUMMARY:Ausgleichsgymnastik für Frauen und Männer Beschwingt in die Woche (261-80320) 
LOCATION:80 Turnhalle Pfäffingen, Michaelstraße 7, 72119 Ammerbuch
END:VEVENT
BEGIN:VEVENT
DTSTAMP:20260419T175809
DTSTART;TZID=Europe/Berlin:20260302T080000
DTEND;TZID=Europe/Berlin:20260302T090000
UID:261-80320-20260302T080000@VHSTÜBINGEN
SUMMARY:Ausgleichsgymnastik für Frauen und Männer Beschwingt in die Woche (261-80320) 
LOCATION:80 Turnhalle Pfäffingen, Michaelstraße 7, 72119 Ammerbuch
END:VEVENT
BEGIN:VEVENT
DTSTAMP:20260419T175809
DTSTART;TZID=Europe/Berlin:20260309T080000
DTEND;TZID=Europe/Berlin:20260309T090000
UID:261-80320-20260309T080000@VHSTÜBINGEN
SUMMARY:Ausgleichsgymnastik für Frauen und Männer Beschwingt in die Woche (261-80320) 
LOCATION:80 Turnhalle Pfäffingen, Michaelstraße 7, 72119 Ammerbuch
END:VEVENT
BEGIN:VEVENT
DTSTAMP:20260419T175809
DTSTART;TZID=Europe/Berlin:20260316T080000
DTEND;TZID=Europe/Berlin:20260316T090000
UID:261-80320-20260316T080000@VHSTÜBINGEN
SUMMARY:Ausgleichsgymnastik für Frauen und Männer Beschwingt in die Woche (261-80320) 
LOCATION:80 Turnhalle Pfäffingen, Michaelstraße 7, 72119 Ammerbuch
END:VEVENT
BEGIN:VEVENT
DTSTAMP:20260419T175809
DTSTART;TZID=Europe/Berlin:20260323T080000
DTEND;TZID=Europe/Berlin:20260323T090000
UID:261-80320-20260323T080000@VHSTÜBINGEN
SUMMARY:Ausgleichsgymnastik für Frauen und Männer Beschwingt in die Woche (261-80320) 
LOCATION:80 Turnhalle Pfäffingen, Michaelstraße 7, 72119 Ammerbuch
END:VEVENT
BEGIN:VEVENT
DTSTAMP:20260419T175809
DTSTART;TZID=Europe/Berlin:20260413T080000
DTEND;TZID=Europe/Berlin:20260413T090000
UID:261-80320-20260413T080000@VHSTÜBINGEN
SUMMARY:Ausgleichsgymnastik für Frauen und Männer Beschwingt in die Woche (261-80320) 
LOCATION:80 Turnhalle Pfäffingen, Michaelstraße 7, 72119 Ammerbuch
END:VEVENT
BEGIN:VEVENT
DTSTAMP:20260419T175809
DTSTART;TZID=Europe/Berlin:20260420T080000
DTEND;TZID=Europe/Berlin:20260420T090000
UID:261-80320-20260420T080000@VHSTÜBINGEN
SUMMARY:Ausgleichsgymnastik für Frauen und Männer Beschwingt in die Woche (261-80320) 
LOCATION:80 Turnhalle Pfäffingen, Michaelstraße 7, 72119 Ammerbuch
END:VEVENT
BEGIN:VEVENT
DTSTAMP:20260419T175809
DTSTART;TZID=Europe/Berlin:20260427T080000
DTEND;TZID=Europe/Berlin:20260427T090000
UID:261-80320-20260427T080000@VHSTÜBINGEN
SUMMARY:Ausgleichsgymnastik für Frauen und Männer Beschwingt in die Woche (261-80320) 
LOCATION:80 Turnhalle Pfäffingen, Michaelstraße 7, 72119 Ammerbuch
END:VEVENT
BEGIN:VEVENT
DTSTAMP:20260419T175809
DTSTART;TZID=Europe/Berlin:20260504T080000
DTEND;TZID=Europe/Berlin:20260504T090000
UID:261-80320-20260504T080000@VHSTÜBINGEN
SUMMARY:Ausgleichsgymnastik für Frauen und Männer Beschwingt in die Woche (261-80320) 
LOCATION:80 Turnhalle Pfäffingen, Michaelstraße 7, 72119 Ammerbuch
END:VEVENT
BEGIN:VEVENT
DTSTAMP:20260419T175809
DTSTART;TZID=Europe/Berlin:20260511T080000
DTEND;TZID=Europe/Berlin:20260511T090000
UID:261-80320-20260511T080000@VHSTÜBINGEN
SUMMARY:Ausgleichsgymnastik für Frauen und Männer Beschwingt in die Woche (261-80320) 
LOCATION:80 Turnhalle Pfäffingen, Michaelstraße 7, 72119 Ammerbuch
END:VEVENT
BEGIN:VEVENT
DTSTAMP:20260419T175809
DTSTART;TZID=Europe/Berlin:20260518T080000
DTEND;TZID=Europe/Berlin:20260518T090000
UID:261-80320-20260518T080000@VHSTÜBINGEN
SUMMARY:Ausgleichsgymnastik für Frauen und Männer Beschwingt in die Woche (261-80320) 
LOCATION:80 Turnhalle Pfäffingen, Michaelstraße 7, 72119 Ammerbuch
END:VEVENT
BEGIN:VEVENT
DTSTAMP:20260419T175809
DTSTART;TZID=Europe/Berlin:20260608T080000
DTEND;TZID=Europe/Berlin:20260608T090000
UID:261-80320-20260608T080000@VHSTÜBINGEN
SUMMARY:Ausgleichsgymnastik für Frauen und Männer Beschwingt in die Woche (261-80320) 
LOCATION:80 Turnhalle Pfäffingen, Michaelstraße 7, 72119 Ammerbuch
END:VEVENT
BEGIN:VEVENT
DTSTAMP:20260419T175809
DTSTART;TZID=Europe/Berlin:20260615T080000
DTEND;TZID=Europe/Berlin:20260615T090000
UID:261-80320-20260615T080000@VHSTÜBINGEN
SUMMARY:Ausgleichsgymnastik für Frauen und Männer Beschwingt in die Woche (261-80320) 
LOCATION:80 Turnhalle Pfäffingen, Michaelstraße 7, 72119 Ammerbuch
END:VEVENT
BEGIN:VEVENT
DTSTAMP:20260419T175809
DTSTART;TZID=Europe/Berlin:20260622T080000
DTEND;TZID=Europe/Berlin:20260622T090000
UID:261-80320-20260622T080000@VHSTÜBINGEN
SUMMARY:Ausgleichsgymnastik für Frauen und Männer Beschwingt in die Woche (261-80320) 
LOCATION:80 Turnhalle Pfäffingen, Michaelstraße 7, 72119 Ammerbuch
END:VEVENT
BEGIN:VEVENT
DTSTAMP:20260419T175809
DTSTART;TZID=Europe/Berlin:20260629T080000
DTEND;TZID=Europe/Berlin:20260629T090000
UID:261-80320-20260629T080000@VHSTÜBINGEN
SUMMARY:Ausgleichsgymnastik für Frauen und Männer Beschwingt in die Woche (261-80320) 
LOCATION:80 Turnhalle Pfäffingen, Michaelstraße 7, 72119 Ammerbuch
END:VEVENT
BEGIN:VEVENT
DTSTAMP:20260419T175809
DTSTART;TZID=Europe/Berlin:20260706T080000
DTEND;TZID=Europe/Berlin:20260706T090000
UID:261-80320-20260706T080000@VHSTÜBINGEN
SUMMARY:Ausgleichsgymnastik für Frauen und Männer Beschwingt in die Woche (261-80320) 
LOCATION:80 Turnhalle Pfäffingen, Michaelstraße 7, 72119 Ammerbuch
END:VEVENT
END:VCALENDAR