BEGIN:VCALENDAR
VERSION:2.0
PRODID:https://www.kufer.de/kuferweb / DE
METHOD:PUBLISH
CALSCALE:GREGORIAN
X-WR-TIMEZONE:Europe/Berlin
BEGIN:VTIMEZONE
TZID:Europe/Berlin
X-LIC-LOCATION:Europe/Berlin
BEGIN:DAYLIGHT
TZOFFSETFROM:+0100
TZOFFSETTO:+0200
TZNAME:CEST
DTSTART:19700329T020000
RRULE:FREQ=YEARLY;INTERVAL=1;BYDAY=-1SU;BYMONTH=3
END:DAYLIGHT
BEGIN:STANDARD
TZOFFSETFROM:+0200
TZOFFSETTO:+0100
TZNAME:CET
DTSTART:19701025T030000
RRULE:FREQ=YEARLY;INTERVAL=1;BYDAY=-1SU;BYMONTH=10
END:STANDARD
END:VTIMEZONE
BEGIN:VEVENT
DTSTAMP:20260421T132134
DTSTART;TZID=Europe/Berlin:20260225T150000
DTEND;TZID=Europe/Berlin:20260225T160000
UID:261-82360-20260225T150000@VHSTÜBINGEN
SUMMARY:Leichtathletik, Spiel und Spaß für Grundschulkinder für Kinder von 6-10 Jahren (261-82360) 
LOCATION:82 Sporthalle Schönbuchschule Dettenhausen, Karlstr. 1/5, 72135 Dettenhausen
END:VEVENT
BEGIN:VEVENT
DTSTAMP:20260421T132134
DTSTART;TZID=Europe/Berlin:20260304T150000
DTEND;TZID=Europe/Berlin:20260304T160000
UID:261-82360-20260304T150000@VHSTÜBINGEN
SUMMARY:Leichtathletik, Spiel und Spaß für Grundschulkinder für Kinder von 6-10 Jahren (261-82360) 
LOCATION:82 Sporthalle Schönbuchschule Dettenhausen, Karlstr. 1/5, 72135 Dettenhausen
END:VEVENT
BEGIN:VEVENT
DTSTAMP:20260421T132134
DTSTART;TZID=Europe/Berlin:20260311T150000
DTEND;TZID=Europe/Berlin:20260311T160000
UID:261-82360-20260311T150000@VHSTÜBINGEN
SUMMARY:Leichtathletik, Spiel und Spaß für Grundschulkinder für Kinder von 6-10 Jahren (261-82360) 
LOCATION:82 Sporthalle Schönbuchschule Dettenhausen, Karlstr. 1/5, 72135 Dettenhausen
END:VEVENT
BEGIN:VEVENT
DTSTAMP:20260421T132134
DTSTART;TZID=Europe/Berlin:20260318T150000
DTEND;TZID=Europe/Berlin:20260318T160000
UID:261-82360-20260318T150000@VHSTÜBINGEN
SUMMARY:Leichtathletik, Spiel und Spaß für Grundschulkinder für Kinder von 6-10 Jahren (261-82360) 
LOCATION:82 Sporthalle Schönbuchschule Dettenhausen, Karlstr. 1/5, 72135 Dettenhausen
END:VEVENT
BEGIN:VEVENT
DTSTAMP:20260421T132134
DTSTART;TZID=Europe/Berlin:20260325T150000
DTEND;TZID=Europe/Berlin:20260325T160000
UID:261-82360-20260325T150000@VHSTÜBINGEN
SUMMARY:Leichtathletik, Spiel und Spaß für Grundschulkinder für Kinder von 6-10 Jahren (261-82360) 
LOCATION:82 Sporthalle Schönbuchschule Dettenhausen, Karlstr. 1/5, 72135 Dettenhausen
END:VEVENT
BEGIN:VEVENT
DTSTAMP:20260421T132134
DTSTART;TZID=Europe/Berlin:20260415T150000
DTEND;TZID=Europe/Berlin:20260415T160000
UID:261-82360-20260415T150000@VHSTÜBINGEN
SUMMARY:Leichtathletik, Spiel und Spaß für Grundschulkinder für Kinder von 6-10 Jahren (261-82360) 
LOCATION:82 Sporthalle Schönbuchschule Dettenhausen, Karlstr. 1/5, 72135 Dettenhausen
END:VEVENT
BEGIN:VEVENT
DTSTAMP:20260421T132134
DTSTART;TZID=Europe/Berlin:20260422T150000
DTEND;TZID=Europe/Berlin:20260422T160000
UID:261-82360-20260422T150000@VHSTÜBINGEN
SUMMARY:Leichtathletik, Spiel und Spaß für Grundschulkinder für Kinder von 6-10 Jahren (261-82360) 
LOCATION:82 Sporthalle Schönbuchschule Dettenhausen, Karlstr. 1/5, 72135 Dettenhausen
END:VEVENT
BEGIN:VEVENT
DTSTAMP:20260421T132134
DTSTART;TZID=Europe/Berlin:20260429T150000
DTEND;TZID=Europe/Berlin:20260429T160000
UID:261-82360-20260429T150000@VHSTÜBINGEN
SUMMARY:Leichtathletik, Spiel und Spaß für Grundschulkinder für Kinder von 6-10 Jahren (261-82360) 
LOCATION:82 Sporthalle Schönbuchschule Dettenhausen, Karlstr. 1/5, 72135 Dettenhausen
END:VEVENT
BEGIN:VEVENT
DTSTAMP:20260421T132134
DTSTART;TZID=Europe/Berlin:20260506T150000
DTEND;TZID=Europe/Berlin:20260506T160000
UID:261-82360-20260506T150000@VHSTÜBINGEN
SUMMARY:Leichtathletik, Spiel und Spaß für Grundschulkinder für Kinder von 6-10 Jahren (261-82360) 
LOCATION:82 Sporthalle Schönbuchschule Dettenhausen, Karlstr. 1/5, 72135 Dettenhausen
END:VEVENT
BEGIN:VEVENT
DTSTAMP:20260421T132134
DTSTART;TZID=Europe/Berlin:20260520T150000
DTEND;TZID=Europe/Berlin:20260520T160000
UID:261-82360-20260520T150000@VHSTÜBINGEN
SUMMARY:Leichtathletik, Spiel und Spaß für Grundschulkinder für Kinder von 6-10 Jahren (261-82360) 
LOCATION:82 Sporthalle Schönbuchschule Dettenhausen, Karlstr. 1/5, 72135 Dettenhausen
END:VEVENT
BEGIN:VEVENT
DTSTAMP:20260421T132134
DTSTART;TZID=Europe/Berlin:20260610T150000
DTEND;TZID=Europe/Berlin:20260610T160000
UID:261-82360-20260610T150000@VHSTÜBINGEN
SUMMARY:Leichtathletik, Spiel und Spaß für Grundschulkinder für Kinder von 6-10 Jahren (261-82360) 
LOCATION:82 Sporthalle Schönbuchschule Dettenhausen, Karlstr. 1/5, 72135 Dettenhausen
END:VEVENT
BEGIN:VEVENT
DTSTAMP:20260421T132134
DTSTART;TZID=Europe/Berlin:20260617T150000
DTEND;TZID=Europe/Berlin:20260617T160000
UID:261-82360-20260617T150000@VHSTÜBINGEN
SUMMARY:Leichtathletik, Spiel und Spaß für Grundschulkinder für Kinder von 6-10 Jahren (261-82360) 
LOCATION:82 Sporthalle Schönbuchschule Dettenhausen, Karlstr. 1/5, 72135 Dettenhausen
END:VEVENT
BEGIN:VEVENT
DTSTAMP:20260421T132134
DTSTART;TZID=Europe/Berlin:20260624T150000
DTEND;TZID=Europe/Berlin:20260624T160000
UID:261-82360-20260624T150000@VHSTÜBINGEN
SUMMARY:Leichtathletik, Spiel und Spaß für Grundschulkinder für Kinder von 6-10 Jahren (261-82360) 
LOCATION:82 Sporthalle Schönbuchschule Dettenhausen, Karlstr. 1/5, 72135 Dettenhausen
END:VEVENT
END:VCALENDAR