BEGIN:VCALENDAR
VERSION:2.0
PRODID:https://www.kufer.de/kuferweb / DE
METHOD:PUBLISH
CALSCALE:GREGORIAN
X-WR-TIMEZONE:Europe/Berlin
BEGIN:VTIMEZONE
TZID:Europe/Berlin
X-LIC-LOCATION:Europe/Berlin
BEGIN:DAYLIGHT
TZOFFSETFROM:+0100
TZOFFSETTO:+0200
TZNAME:CEST
DTSTART:19700329T020000
RRULE:FREQ=YEARLY;INTERVAL=1;BYDAY=-1SU;BYMONTH=3
END:DAYLIGHT
BEGIN:STANDARD
TZOFFSETFROM:+0200
TZOFFSETTO:+0100
TZNAME:CET
DTSTART:19701025T030000
RRULE:FREQ=YEARLY;INTERVAL=1;BYDAY=-1SU;BYMONTH=10
END:STANDARD
END:VTIMEZONE
BEGIN:VEVENT
DTSTAMP:20260421T133038
DTSTART;TZID=Europe/Berlin:20260227T140000
DTEND;TZID=Europe/Berlin:20260227T150000
UID:261-82361-20260227T140000@VHSTÜBINGEN
SUMMARY:Erlebnisturnen - für Kinder von 4-6 Jahren  ohne Eltern (261-82361) 
LOCATION:82 Sporthalle Schönbuchschule Dettenhausen, Karlstr. 1/5, 72135 Dettenhausen
END:VEVENT
BEGIN:VEVENT
DTSTAMP:20260421T133038
DTSTART;TZID=Europe/Berlin:20260306T140000
DTEND;TZID=Europe/Berlin:20260306T150000
UID:261-82361-20260306T140000@VHSTÜBINGEN
SUMMARY:Erlebnisturnen - für Kinder von 4-6 Jahren  ohne Eltern (261-82361) 
LOCATION:82 Sporthalle Schönbuchschule Dettenhausen, Karlstr. 1/5, 72135 Dettenhausen
END:VEVENT
BEGIN:VEVENT
DTSTAMP:20260421T133038
DTSTART;TZID=Europe/Berlin:20260320T140000
DTEND;TZID=Europe/Berlin:20260320T150000
UID:261-82361-20260320T140000@VHSTÜBINGEN
SUMMARY:Erlebnisturnen - für Kinder von 4-6 Jahren  ohne Eltern (261-82361) 
LOCATION:82 Sporthalle Schönbuchschule Dettenhausen, Karlstr. 1/5, 72135 Dettenhausen
END:VEVENT
BEGIN:VEVENT
DTSTAMP:20260421T133038
DTSTART;TZID=Europe/Berlin:20260327T140000
DTEND;TZID=Europe/Berlin:20260327T150000
UID:261-82361-20260327T140000@VHSTÜBINGEN
SUMMARY:Erlebnisturnen - für Kinder von 4-6 Jahren  ohne Eltern (261-82361) 
LOCATION:82 Sporthalle Schönbuchschule Dettenhausen, Karlstr. 1/5, 72135 Dettenhausen
END:VEVENT
BEGIN:VEVENT
DTSTAMP:20260421T133038
DTSTART;TZID=Europe/Berlin:20260417T140000
DTEND;TZID=Europe/Berlin:20260417T150000
UID:261-82361-20260417T140000@VHSTÜBINGEN
SUMMARY:Erlebnisturnen - für Kinder von 4-6 Jahren  ohne Eltern (261-82361) 
LOCATION:82 Sporthalle Schönbuchschule Dettenhausen, Karlstr. 1/5, 72135 Dettenhausen
END:VEVENT
BEGIN:VEVENT
DTSTAMP:20260421T133038
DTSTART;TZID=Europe/Berlin:20260424T140000
DTEND;TZID=Europe/Berlin:20260424T150000
UID:261-82361-20260424T140000@VHSTÜBINGEN
SUMMARY:Erlebnisturnen - für Kinder von 4-6 Jahren  ohne Eltern (261-82361) 
LOCATION:82 Sporthalle Schönbuchschule Dettenhausen, Karlstr. 1/5, 72135 Dettenhausen
END:VEVENT
BEGIN:VEVENT
DTSTAMP:20260421T133038
DTSTART;TZID=Europe/Berlin:20260508T140000
DTEND;TZID=Europe/Berlin:20260508T150000
UID:261-82361-20260508T140000@VHSTÜBINGEN
SUMMARY:Erlebnisturnen - für Kinder von 4-6 Jahren  ohne Eltern (261-82361) 
LOCATION:82 Sporthalle Schönbuchschule Dettenhausen, Karlstr. 1/5, 72135 Dettenhausen
END:VEVENT
BEGIN:VEVENT
DTSTAMP:20260421T133038
DTSTART;TZID=Europe/Berlin:20260612T140000
DTEND;TZID=Europe/Berlin:20260612T150000
UID:261-82361-20260612T140000@VHSTÜBINGEN
SUMMARY:Erlebnisturnen - für Kinder von 4-6 Jahren  ohne Eltern (261-82361) 
LOCATION:82 Sporthalle Schönbuchschule Dettenhausen, Karlstr. 1/5, 72135 Dettenhausen
END:VEVENT
BEGIN:VEVENT
DTSTAMP:20260421T133038
DTSTART;TZID=Europe/Berlin:20260619T140000
DTEND;TZID=Europe/Berlin:20260619T150000
UID:261-82361-20260619T140000@VHSTÜBINGEN
SUMMARY:Erlebnisturnen - für Kinder von 4-6 Jahren  ohne Eltern (261-82361) 
LOCATION:82 Sporthalle Schönbuchschule Dettenhausen, Karlstr. 1/5, 72135 Dettenhausen
END:VEVENT
BEGIN:VEVENT
DTSTAMP:20260421T133038
DTSTART;TZID=Europe/Berlin:20260626T140000
DTEND;TZID=Europe/Berlin:20260626T150000
UID:261-82361-20260626T140000@VHSTÜBINGEN
SUMMARY:Erlebnisturnen - für Kinder von 4-6 Jahren  ohne Eltern (261-82361) 
LOCATION:82 Sporthalle Schönbuchschule Dettenhausen, Karlstr. 1/5, 72135 Dettenhausen
END:VEVENT
BEGIN:VEVENT
DTSTAMP:20260421T133038
DTSTART;TZID=Europe/Berlin:20260703T140000
DTEND;TZID=Europe/Berlin:20260703T150000
UID:261-82361-20260703T140000@VHSTÜBINGEN
SUMMARY:Erlebnisturnen - für Kinder von 4-6 Jahren  ohne Eltern (261-82361) 
LOCATION:82 Sporthalle Schönbuchschule Dettenhausen, Karlstr. 1/5, 72135 Dettenhausen
END:VEVENT
END:VCALENDAR