BEGIN:VCALENDAR
VERSION:2.0
PRODID:https://www.kufer.de/kuferweb / DE
METHOD:PUBLISH
CALSCALE:GREGORIAN
X-WR-TIMEZONE:Europe/Berlin
BEGIN:VTIMEZONE
TZID:Europe/Berlin
X-LIC-LOCATION:Europe/Berlin
BEGIN:DAYLIGHT
TZOFFSETFROM:+0100
TZOFFSETTO:+0200
TZNAME:CEST
DTSTART:19700329T020000
RRULE:FREQ=YEARLY;INTERVAL=1;BYDAY=-1SU;BYMONTH=3
END:DAYLIGHT
BEGIN:STANDARD
TZOFFSETFROM:+0200
TZOFFSETTO:+0100
TZNAME:CET
DTSTART:19701025T030000
RRULE:FREQ=YEARLY;INTERVAL=1;BYDAY=-1SU;BYMONTH=10
END:STANDARD
END:VTIMEZONE
BEGIN:VEVENT
DTSTAMP:20260421T174726
DTSTART;TZID=Europe/Berlin:20260227T160000
DTEND;TZID=Europe/Berlin:20260227T170000
UID:261-82365-20260227T160000@VHSTÜBINGEN
SUMMARY:Eltern-Kind-Turnen für Kinder von 2 1/2  - 3 1/2 Jahren mit Eltern (261-82365) 
LOCATION:82 Sporthalle Schönbuchschule Dettenhausen, Karlstr. 1/5, 72135 Dettenhausen
END:VEVENT
BEGIN:VEVENT
DTSTAMP:20260421T174726
DTSTART;TZID=Europe/Berlin:20260306T160000
DTEND;TZID=Europe/Berlin:20260306T170000
UID:261-82365-20260306T160000@VHSTÜBINGEN
SUMMARY:Eltern-Kind-Turnen für Kinder von 2 1/2  - 3 1/2 Jahren mit Eltern (261-82365) 
LOCATION:82 Sporthalle Schönbuchschule Dettenhausen, Karlstr. 1/5, 72135 Dettenhausen
END:VEVENT
BEGIN:VEVENT
DTSTAMP:20260421T174726
DTSTART;TZID=Europe/Berlin:20260320T160000
DTEND;TZID=Europe/Berlin:20260320T170000
UID:261-82365-20260320T160000@VHSTÜBINGEN
SUMMARY:Eltern-Kind-Turnen für Kinder von 2 1/2  - 3 1/2 Jahren mit Eltern (261-82365) 
LOCATION:82 Sporthalle Schönbuchschule Dettenhausen, Karlstr. 1/5, 72135 Dettenhausen
END:VEVENT
BEGIN:VEVENT
DTSTAMP:20260421T174726
DTSTART;TZID=Europe/Berlin:20260327T160000
DTEND;TZID=Europe/Berlin:20260327T170000
UID:261-82365-20260327T160000@VHSTÜBINGEN
SUMMARY:Eltern-Kind-Turnen für Kinder von 2 1/2  - 3 1/2 Jahren mit Eltern (261-82365) 
LOCATION:82 Sporthalle Schönbuchschule Dettenhausen, Karlstr. 1/5, 72135 Dettenhausen
END:VEVENT
BEGIN:VEVENT
DTSTAMP:20260421T174726
DTSTART;TZID=Europe/Berlin:20260417T160000
DTEND;TZID=Europe/Berlin:20260417T170000
UID:261-82365-20260417T160000@VHSTÜBINGEN
SUMMARY:Eltern-Kind-Turnen für Kinder von 2 1/2  - 3 1/2 Jahren mit Eltern (261-82365) 
LOCATION:82 Sporthalle Schönbuchschule Dettenhausen, Karlstr. 1/5, 72135 Dettenhausen
END:VEVENT
BEGIN:VEVENT
DTSTAMP:20260421T174726
DTSTART;TZID=Europe/Berlin:20260424T160000
DTEND;TZID=Europe/Berlin:20260424T170000
UID:261-82365-20260424T160000@VHSTÜBINGEN
SUMMARY:Eltern-Kind-Turnen für Kinder von 2 1/2  - 3 1/2 Jahren mit Eltern (261-82365) 
LOCATION:82 Sporthalle Schönbuchschule Dettenhausen, Karlstr. 1/5, 72135 Dettenhausen
END:VEVENT
BEGIN:VEVENT
DTSTAMP:20260421T174726
DTSTART;TZID=Europe/Berlin:20260508T160000
DTEND;TZID=Europe/Berlin:20260508T170000
UID:261-82365-20260508T160000@VHSTÜBINGEN
SUMMARY:Eltern-Kind-Turnen für Kinder von 2 1/2  - 3 1/2 Jahren mit Eltern (261-82365) 
LOCATION:82 Sporthalle Schönbuchschule Dettenhausen, Karlstr. 1/5, 72135 Dettenhausen
END:VEVENT
BEGIN:VEVENT
DTSTAMP:20260421T174726
DTSTART;TZID=Europe/Berlin:20260612T160000
DTEND;TZID=Europe/Berlin:20260612T170000
UID:261-82365-20260612T160000@VHSTÜBINGEN
SUMMARY:Eltern-Kind-Turnen für Kinder von 2 1/2  - 3 1/2 Jahren mit Eltern (261-82365) 
LOCATION:82 Sporthalle Schönbuchschule Dettenhausen, Karlstr. 1/5, 72135 Dettenhausen
END:VEVENT
BEGIN:VEVENT
DTSTAMP:20260421T174726
DTSTART;TZID=Europe/Berlin:20260619T160000
DTEND;TZID=Europe/Berlin:20260619T170000
UID:261-82365-20260619T160000@VHSTÜBINGEN
SUMMARY:Eltern-Kind-Turnen für Kinder von 2 1/2  - 3 1/2 Jahren mit Eltern (261-82365) 
LOCATION:82 Sporthalle Schönbuchschule Dettenhausen, Karlstr. 1/5, 72135 Dettenhausen
END:VEVENT
BEGIN:VEVENT
DTSTAMP:20260421T174726
DTSTART;TZID=Europe/Berlin:20260626T160000
DTEND;TZID=Europe/Berlin:20260626T170000
UID:261-82365-20260626T160000@VHSTÜBINGEN
SUMMARY:Eltern-Kind-Turnen für Kinder von 2 1/2  - 3 1/2 Jahren mit Eltern (261-82365) 
LOCATION:82 Sporthalle Schönbuchschule Dettenhausen, Karlstr. 1/5, 72135 Dettenhausen
END:VEVENT
BEGIN:VEVENT
DTSTAMP:20260421T174726
DTSTART;TZID=Europe/Berlin:20260703T160000
DTEND;TZID=Europe/Berlin:20260703T170000
UID:261-82365-20260703T160000@VHSTÜBINGEN
SUMMARY:Eltern-Kind-Turnen für Kinder von 2 1/2  - 3 1/2 Jahren mit Eltern (261-82365) 
LOCATION:82 Sporthalle Schönbuchschule Dettenhausen, Karlstr. 1/5, 72135 Dettenhausen
END:VEVENT
END:VCALENDAR