BEGIN:VCALENDAR
VERSION:2.0
PRODID:https://www.kufer.de/kuferweb / DE
METHOD:PUBLISH
CALSCALE:GREGORIAN
X-WR-TIMEZONE:Europe/Berlin
BEGIN:VTIMEZONE
TZID:Europe/Berlin
X-LIC-LOCATION:Europe/Berlin
BEGIN:DAYLIGHT
TZOFFSETFROM:+0100
TZOFFSETTO:+0200
TZNAME:CEST
DTSTART:19700329T020000
RRULE:FREQ=YEARLY;INTERVAL=1;BYDAY=-1SU;BYMONTH=3
END:DAYLIGHT
BEGIN:STANDARD
TZOFFSETFROM:+0200
TZOFFSETTO:+0100
TZNAME:CET
DTSTART:19701025T030000
RRULE:FREQ=YEARLY;INTERVAL=1;BYDAY=-1SU;BYMONTH=10
END:STANDARD
END:VTIMEZONE
BEGIN:VEVENT
DTSTAMP:20260421T174725
DTSTART;TZID=Europe/Berlin:20260620T100000
DTEND;TZID=Europe/Berlin:20260620T130000
UID:261-84110-20260620T100000@VHSTÜBINGEN
SUMMARY:Gewaltfrei und klar kommunizieren (261-84110) 
LOCATION:84 Graf-Eberhard-Schule Kirchentellinsfurt, Aula, Kirchfeldstraße 15, 72138 Kirchentellinsfurt
END:VEVENT
BEGIN:VEVENT
DTSTAMP:20260421T174725
DTSTART;TZID=Europe/Berlin:20260703T190000
DTEND;TZID=Europe/Berlin:20260703T210000
UID:261-84110-20260703T190000@VHSTÜBINGEN
SUMMARY:Gewaltfrei und klar kommunizieren (261-84110) 
LOCATION:84 Graf-Eberhard-Schule Kirchentellinsfurt, Aula, Kirchfeldstraße 15, 72138 Kirchentellinsfurt
END:VEVENT
BEGIN:VEVENT
DTSTAMP:20260421T174725
DTSTART;TZID=Europe/Berlin:20260918T190000
DTEND;TZID=Europe/Berlin:20260918T210000
UID:261-84110-20260918T190000@VHSTÜBINGEN
SUMMARY:Gewaltfrei und klar kommunizieren (261-84110) 
LOCATION:84 Graf-Eberhard-Schule Kirchentellinsfurt, Aula, Kirchfeldstraße 15, 72138 Kirchentellinsfurt
END:VEVENT
END:VCALENDAR