BEGIN:VCALENDAR
VERSION:2.0
PRODID:https://www.kufer.de/kuferweb / DE
METHOD:PUBLISH
CALSCALE:GREGORIAN
X-WR-TIMEZONE:Europe/Berlin
BEGIN:VTIMEZONE
TZID:Europe/Berlin
X-LIC-LOCATION:Europe/Berlin
BEGIN:DAYLIGHT
TZOFFSETFROM:+0100
TZOFFSETTO:+0200
TZNAME:CEST
DTSTART:19700329T020000
RRULE:FREQ=YEARLY;INTERVAL=1;BYDAY=-1SU;BYMONTH=3
END:DAYLIGHT
BEGIN:STANDARD
TZOFFSETFROM:+0200
TZOFFSETTO:+0100
TZNAME:CET
DTSTART:19701025T030000
RRULE:FREQ=YEARLY;INTERVAL=1;BYDAY=-1SU;BYMONTH=10
END:STANDARD
END:VTIMEZONE
BEGIN:VEVENT
DTSTAMP:20260421T190256
DTSTART;TZID=Europe/Berlin:20260611T183000
DTEND;TZID=Europe/Berlin:20260611T200000
UID:261-84339-20260611T183000@VHSTÜBINGEN
SUMMARY:Hatha Yoga (261-84339) 
LOCATION:84 Volksbänkle, Kirchentellinsfurt, In der Gass 33, 72138 Kirchentellinsfurt
END:VEVENT
BEGIN:VEVENT
DTSTAMP:20260421T190256
DTSTART;TZID=Europe/Berlin:20260618T183000
DTEND;TZID=Europe/Berlin:20260618T200000
UID:261-84339-20260618T183000@VHSTÜBINGEN
SUMMARY:Hatha Yoga (261-84339) 
LOCATION:84 Volksbänkle, Kirchentellinsfurt, In der Gass 33, 72138 Kirchentellinsfurt
END:VEVENT
BEGIN:VEVENT
DTSTAMP:20260421T190256
DTSTART;TZID=Europe/Berlin:20260625T183000
DTEND;TZID=Europe/Berlin:20260625T200000
UID:261-84339-20260625T183000@VHSTÜBINGEN
SUMMARY:Hatha Yoga (261-84339) 
LOCATION:84 Volksbänkle, Kirchentellinsfurt, In der Gass 33, 72138 Kirchentellinsfurt
END:VEVENT
BEGIN:VEVENT
DTSTAMP:20260421T190256
DTSTART;TZID=Europe/Berlin:20260702T183000
DTEND;TZID=Europe/Berlin:20260702T200000
UID:261-84339-20260702T183000@VHSTÜBINGEN
SUMMARY:Hatha Yoga (261-84339) 
LOCATION:84 Volksbänkle, Kirchentellinsfurt, In der Gass 33, 72138 Kirchentellinsfurt
END:VEVENT
BEGIN:VEVENT
DTSTAMP:20260421T190256
DTSTART;TZID=Europe/Berlin:20260709T183000
DTEND;TZID=Europe/Berlin:20260709T200000
UID:261-84339-20260709T183000@VHSTÜBINGEN
SUMMARY:Hatha Yoga (261-84339) 
LOCATION:84 Volksbänkle, Kirchentellinsfurt, In der Gass 33, 72138 Kirchentellinsfurt
END:VEVENT
BEGIN:VEVENT
DTSTAMP:20260421T190256
DTSTART;TZID=Europe/Berlin:20260716T183000
DTEND;TZID=Europe/Berlin:20260716T200000
UID:261-84339-20260716T183000@VHSTÜBINGEN
SUMMARY:Hatha Yoga (261-84339) 
LOCATION:84 Volksbänkle, Kirchentellinsfurt, In der Gass 33, 72138 Kirchentellinsfurt
END:VEVENT
BEGIN:VEVENT
DTSTAMP:20260421T190256
DTSTART;TZID=Europe/Berlin:20260723T183000
DTEND;TZID=Europe/Berlin:20260723T200000
UID:261-84339-20260723T183000@VHSTÜBINGEN
SUMMARY:Hatha Yoga (261-84339) 
LOCATION:84 Volksbänkle, Kirchentellinsfurt, In der Gass 33, 72138 Kirchentellinsfurt
END:VEVENT
END:VCALENDAR