BEGIN:VCALENDAR
VERSION:2.0
PRODID:https://www.kufer.de/kuferweb / DE
METHOD:PUBLISH
CALSCALE:GREGORIAN
X-WR-TIMEZONE:Europe/Berlin
BEGIN:VTIMEZONE
TZID:Europe/Berlin
X-LIC-LOCATION:Europe/Berlin
BEGIN:DAYLIGHT
TZOFFSETFROM:+0100
TZOFFSETTO:+0200
TZNAME:CEST
DTSTART:19700329T020000
RRULE:FREQ=YEARLY;INTERVAL=1;BYDAY=-1SU;BYMONTH=3
END:DAYLIGHT
BEGIN:STANDARD
TZOFFSETFROM:+0200
TZOFFSETTO:+0100
TZNAME:CET
DTSTART:19701025T030000
RRULE:FREQ=YEARLY;INTERVAL=1;BYDAY=-1SU;BYMONTH=10
END:STANDARD
END:VTIMEZONE
BEGIN:VEVENT
DTSTAMP:20260421T132108
DTSTART;TZID=Europe/Berlin:20260225T170000
DTEND;TZID=Europe/Berlin:20260225T180000
UID:261-84346-20260225T170000@VHSTÜBINGEN
SUMMARY:Pilates (261-84346) 
LOCATION:84 Volksbänkle, Kirchentellinsfurt, In der Gass 33, 72138 Kirchentellinsfurt
END:VEVENT
BEGIN:VEVENT
DTSTAMP:20260421T132108
DTSTART;TZID=Europe/Berlin:20260304T170000
DTEND;TZID=Europe/Berlin:20260304T180000
UID:261-84346-20260304T170000@VHSTÜBINGEN
SUMMARY:Pilates (261-84346) 
LOCATION:84 Volksbänkle, Kirchentellinsfurt, In der Gass 33, 72138 Kirchentellinsfurt
END:VEVENT
BEGIN:VEVENT
DTSTAMP:20260421T132108
DTSTART;TZID=Europe/Berlin:20260311T170000
DTEND;TZID=Europe/Berlin:20260311T180000
UID:261-84346-20260311T170000@VHSTÜBINGEN
SUMMARY:Pilates (261-84346) 
LOCATION:84 Volksbänkle, Kirchentellinsfurt, In der Gass 33, 72138 Kirchentellinsfurt
END:VEVENT
BEGIN:VEVENT
DTSTAMP:20260421T132108
DTSTART;TZID=Europe/Berlin:20260318T170000
DTEND;TZID=Europe/Berlin:20260318T180000
UID:261-84346-20260318T170000@VHSTÜBINGEN
SUMMARY:Pilates (261-84346) 
LOCATION:84 Volksbänkle, Kirchentellinsfurt, In der Gass 33, 72138 Kirchentellinsfurt
END:VEVENT
BEGIN:VEVENT
DTSTAMP:20260421T132108
DTSTART;TZID=Europe/Berlin:20260415T170000
DTEND;TZID=Europe/Berlin:20260415T180000
UID:261-84346-20260415T170000@VHSTÜBINGEN
SUMMARY:Pilates (261-84346) 
LOCATION:84 Volksbänkle, Kirchentellinsfurt, In der Gass 33, 72138 Kirchentellinsfurt
END:VEVENT
BEGIN:VEVENT
DTSTAMP:20260421T132108
DTSTART;TZID=Europe/Berlin:20260422T170000
DTEND;TZID=Europe/Berlin:20260422T180000
UID:261-84346-20260422T170000@VHSTÜBINGEN
SUMMARY:Pilates (261-84346) 
LOCATION:84 Volksbänkle, Kirchentellinsfurt, In der Gass 33, 72138 Kirchentellinsfurt
END:VEVENT
BEGIN:VEVENT
DTSTAMP:20260421T132108
DTSTART;TZID=Europe/Berlin:20260429T170000
DTEND;TZID=Europe/Berlin:20260429T180000
UID:261-84346-20260429T170000@VHSTÜBINGEN
SUMMARY:Pilates (261-84346) 
LOCATION:84 Volksbänkle, Kirchentellinsfurt, In der Gass 33, 72138 Kirchentellinsfurt
END:VEVENT
END:VCALENDAR