BEGIN:VCALENDAR
VERSION:2.0
PRODID:https://www.kufer.de/kuferweb / DE
METHOD:PUBLISH
CALSCALE:GREGORIAN
X-WR-TIMEZONE:Europe/Berlin
BEGIN:VTIMEZONE
TZID:Europe/Berlin
X-LIC-LOCATION:Europe/Berlin
BEGIN:DAYLIGHT
TZOFFSETFROM:+0100
TZOFFSETTO:+0200
TZNAME:CEST
DTSTART:19700329T020000
RRULE:FREQ=YEARLY;INTERVAL=1;BYDAY=-1SU;BYMONTH=3
END:DAYLIGHT
BEGIN:STANDARD
TZOFFSETFROM:+0200
TZOFFSETTO:+0100
TZNAME:CET
DTSTART:19701025T030000
RRULE:FREQ=YEARLY;INTERVAL=1;BYDAY=-1SU;BYMONTH=10
END:STANDARD
END:VTIMEZONE
BEGIN:VEVENT
DTSTAMP:20260421T132136
DTSTART;TZID=Europe/Berlin:20260225T153000
DTEND;TZID=Europe/Berlin:20260225T163000
UID:261-84350-20260225T153000@VHSTÜBINGEN
SUMMARY:Line Dance Fortgeschrittene Solotanz in der Gruppe (261-84350) 
LOCATION:84 Richard-Wolf-Halle, Saal, Kirchentellinsfurt, Neue Steige 25, 72138 Kirchentellinsfurt
END:VEVENT
BEGIN:VEVENT
DTSTAMP:20260421T132136
DTSTART;TZID=Europe/Berlin:20260304T153000
DTEND;TZID=Europe/Berlin:20260304T163000
UID:261-84350-20260304T153000@VHSTÜBINGEN
SUMMARY:Line Dance Fortgeschrittene Solotanz in der Gruppe (261-84350) 
LOCATION:84 Richard-Wolf-Halle, Saal, Kirchentellinsfurt, Neue Steige 25, 72138 Kirchentellinsfurt
END:VEVENT
BEGIN:VEVENT
DTSTAMP:20260421T132136
DTSTART;TZID=Europe/Berlin:20260311T153000
DTEND;TZID=Europe/Berlin:20260311T163000
UID:261-84350-20260311T153000@VHSTÜBINGEN
SUMMARY:Line Dance Fortgeschrittene Solotanz in der Gruppe (261-84350) 
LOCATION:84 Richard-Wolf-Halle, Saal, Kirchentellinsfurt, Neue Steige 25, 72138 Kirchentellinsfurt
END:VEVENT
BEGIN:VEVENT
DTSTAMP:20260421T132136
DTSTART;TZID=Europe/Berlin:20260318T153000
DTEND;TZID=Europe/Berlin:20260318T163000
UID:261-84350-20260318T153000@VHSTÜBINGEN
SUMMARY:Line Dance Fortgeschrittene Solotanz in der Gruppe (261-84350) 
LOCATION:84 Richard-Wolf-Halle, Saal, Kirchentellinsfurt, Neue Steige 25, 72138 Kirchentellinsfurt
END:VEVENT
BEGIN:VEVENT
DTSTAMP:20260421T132136
DTSTART;TZID=Europe/Berlin:20260415T153000
DTEND;TZID=Europe/Berlin:20260415T163000
UID:261-84350-20260415T153000@VHSTÜBINGEN
SUMMARY:Line Dance Fortgeschrittene Solotanz in der Gruppe (261-84350) 
LOCATION:84 Richard-Wolf-Halle, Saal, Kirchentellinsfurt, Neue Steige 25, 72138 Kirchentellinsfurt
END:VEVENT
BEGIN:VEVENT
DTSTAMP:20260421T132136
DTSTART;TZID=Europe/Berlin:20260422T153000
DTEND;TZID=Europe/Berlin:20260422T163000
UID:261-84350-20260422T153000@VHSTÜBINGEN
SUMMARY:Line Dance Fortgeschrittene Solotanz in der Gruppe (261-84350) 
LOCATION:84 Richard-Wolf-Halle, Saal, Kirchentellinsfurt, Neue Steige 25, 72138 Kirchentellinsfurt
END:VEVENT
BEGIN:VEVENT
DTSTAMP:20260421T132136
DTSTART;TZID=Europe/Berlin:20260429T153000
DTEND;TZID=Europe/Berlin:20260429T163000
UID:261-84350-20260429T153000@VHSTÜBINGEN
SUMMARY:Line Dance Fortgeschrittene Solotanz in der Gruppe (261-84350) 
LOCATION:84 Richard-Wolf-Halle, Saal, Kirchentellinsfurt, Neue Steige 25, 72138 Kirchentellinsfurt
END:VEVENT
BEGIN:VEVENT
DTSTAMP:20260421T132136
DTSTART;TZID=Europe/Berlin:20260506T153000
DTEND;TZID=Europe/Berlin:20260506T163000
UID:261-84350-20260506T153000@VHSTÜBINGEN
SUMMARY:Line Dance Fortgeschrittene Solotanz in der Gruppe (261-84350) 
LOCATION:84 Richard-Wolf-Halle, Saal, Kirchentellinsfurt, Neue Steige 25, 72138 Kirchentellinsfurt
END:VEVENT
BEGIN:VEVENT
DTSTAMP:20260421T132136
DTSTART;TZID=Europe/Berlin:20260513T153000
DTEND;TZID=Europe/Berlin:20260513T163000
UID:261-84350-20260513T153000@VHSTÜBINGEN
SUMMARY:Line Dance Fortgeschrittene Solotanz in der Gruppe (261-84350) 
LOCATION:84 Richard-Wolf-Halle, Saal, Kirchentellinsfurt, Neue Steige 25, 72138 Kirchentellinsfurt
END:VEVENT
BEGIN:VEVENT
DTSTAMP:20260421T132136
DTSTART;TZID=Europe/Berlin:20260520T153000
DTEND;TZID=Europe/Berlin:20260520T163000
UID:261-84350-20260520T153000@VHSTÜBINGEN
SUMMARY:Line Dance Fortgeschrittene Solotanz in der Gruppe (261-84350) 
LOCATION:84 Richard-Wolf-Halle, Saal, Kirchentellinsfurt, Neue Steige 25, 72138 Kirchentellinsfurt
END:VEVENT
BEGIN:VEVENT
DTSTAMP:20260421T132136
DTSTART;TZID=Europe/Berlin:20260610T153000
DTEND;TZID=Europe/Berlin:20260610T163000
UID:261-84350-20260610T153000@VHSTÜBINGEN
SUMMARY:Line Dance Fortgeschrittene Solotanz in der Gruppe (261-84350) 
LOCATION:84 Richard-Wolf-Halle, Saal, Kirchentellinsfurt, Neue Steige 25, 72138 Kirchentellinsfurt
END:VEVENT
BEGIN:VEVENT
DTSTAMP:20260421T132136
DTSTART;TZID=Europe/Berlin:20260617T153000
DTEND;TZID=Europe/Berlin:20260617T163000
UID:261-84350-20260617T153000@VHSTÜBINGEN
SUMMARY:Line Dance Fortgeschrittene Solotanz in der Gruppe (261-84350) 
LOCATION:84 Richard-Wolf-Halle, Saal, Kirchentellinsfurt, Neue Steige 25, 72138 Kirchentellinsfurt
END:VEVENT
BEGIN:VEVENT
DTSTAMP:20260421T132136
DTSTART;TZID=Europe/Berlin:20260624T153000
DTEND;TZID=Europe/Berlin:20260624T163000
UID:261-84350-20260624T153000@VHSTÜBINGEN
SUMMARY:Line Dance Fortgeschrittene Solotanz in der Gruppe (261-84350) 
LOCATION:84 Richard-Wolf-Halle, Saal, Kirchentellinsfurt, Neue Steige 25, 72138 Kirchentellinsfurt
END:VEVENT
BEGIN:VEVENT
DTSTAMP:20260421T132136
DTSTART;TZID=Europe/Berlin:20260701T153000
DTEND;TZID=Europe/Berlin:20260701T163000
UID:261-84350-20260701T153000@VHSTÜBINGEN
SUMMARY:Line Dance Fortgeschrittene Solotanz in der Gruppe (261-84350) 
LOCATION:84 Richard-Wolf-Halle, Saal, Kirchentellinsfurt, Neue Steige 25, 72138 Kirchentellinsfurt
END:VEVENT
BEGIN:VEVENT
DTSTAMP:20260421T132136
DTSTART;TZID=Europe/Berlin:20260708T153000
DTEND;TZID=Europe/Berlin:20260708T163000
UID:261-84350-20260708T153000@VHSTÜBINGEN
SUMMARY:Line Dance Fortgeschrittene Solotanz in der Gruppe (261-84350) 
LOCATION:84 Richard-Wolf-Halle, Saal, Kirchentellinsfurt, Neue Steige 25, 72138 Kirchentellinsfurt
END:VEVENT
BEGIN:VEVENT
DTSTAMP:20260421T132136
DTSTART;TZID=Europe/Berlin:20260715T153000
DTEND;TZID=Europe/Berlin:20260715T163000
UID:261-84350-20260715T153000@VHSTÜBINGEN
SUMMARY:Line Dance Fortgeschrittene Solotanz in der Gruppe (261-84350) 
LOCATION:84 Richard-Wolf-Halle, Saal, Kirchentellinsfurt, Neue Steige 25, 72138 Kirchentellinsfurt
END:VEVENT
END:VCALENDAR